BEGIN:VCALENDAR
VERSION:2.0
PRODID:-//wp-events-plugin.com//7.2.3.1//EN
TZID:Europe/London
X-WR-TIMEZONE:Europe/London
BEGIN:VEVENT
UID:4460@larevistadelapalma.com
DTSTART:20260123T180000Z
DTEND:20260123T193000Z
DTSTAMP:20260109T161250Z
URL:https://www.larevistadelapalma.com/events/presentacion-en-tijarafe-del
 -libro-la-viuda-blanca-de-maria-del-mar-rodriguez/
SUMMARY:Presentación en Tijarafe del libro "La viuda blanca"\, de María d
 el Mar Rodríguez
DESCRIPTION:Presentación del libro "La viuda blanca" de María del Mar Rod
 ríguez con acompañamiento musical de Juan Carlos Pérez Brito.\n\nLa viu
 da blanca\, de María del Mar Rodríguez Pérez\, es la tercera novela de
  la autora publicada por la editorial Baile del Sol\, después de La pr
 estamista y La tuerta.\nEl relato cierra la trilogía Relatos de unas isl
 as desamparadas\, y su trama se sitúa\, por una parte\, en La Palma y\, p
 or otra\, en San Cristóbal de La Laguna. La historia aborda temas de emig
 ración y olvido\, así como el compromiso político\, ofreciendo una mira
 da profunda sobre la experiencia de las islas y sus gentes.\nLas dos entre
 gas anteriores\, La prestamista (2019) y La tuerta (2023)\, llevan ya vari
 as ediciones y funcionan por separado\, aunque para pillarle todo el jugo 
 a La viuda blanca conviene leerlas en el orden previsto\, porque la cosa v
 a encadenando generaciones. El viaje narrativo arranca en 1850 con los abu
 elos de Petra\, la famosa prestamista\, y se cierra en 1982 con unas islas
  tratando de modernizarse a su manera.
ATTACH;FMTTYPE=image/jpeg:https://www.larevistadelapalma.com/wp-content/up
 loads/2026/01/01-23-presentacion-La-Viuda-Blanca-Tijarafe.jpg
CATEGORIES:Cine y Literatura,Literatura
LOCATION:Oficina de información turística de Tijarafe\, Calle Real\, 11\,
  Tijarafe\, 38780 \, España
GEO:28.710798;-17.955469
X-APPLE-STRUCTURED-LOCATION;VALUE=URI;X-ADDRESS=Calle Real\, 11\, Tijarafe\
 , 38780 \, España;X-APPLE-RADIUS=100;X-TITLE=Oficina de información tur
 ística de Tijarafe:geo:28.710798,-17.955469
END:VEVENT
END:VCALENDARBEGIN:VCALENDAR
VERSION:2.0
PRODID:-//wp-events-plugin.com//7.2.3.1//EN
TZID:Europe/London
X-WR-TIMEZONE:Europe/London
BEGIN:VEVENT
UID:4460@larevistadelapalma.com
DTSTART:20260123T180000Z
DTEND:20260123T193000Z
DTSTAMP:20260109T161250Z
URL:https://www.larevistadelapalma.com/events/presentacion-en-tijarafe-del
 -libro-la-viuda-blanca-de-maria-del-mar-rodriguez/
SUMMARY:Presentación en Tijarafe del libro "La viuda blanca"\, de María d
 el Mar Rodríguez
DESCRIPTION:Presentación del libro "La viuda blanca" de María del Mar Rod
 ríguez con acompañamiento musical de Juan Carlos Pérez Brito.\n\nLa viu
 da blanca\, de María del Mar Rodríguez Pérez\, es la tercera novela de
  la autora publicada por la editorial Baile del Sol\, después de La pr
 estamista y La tuerta.\nEl relato cierra la trilogía Relatos de unas isl
 as desamparadas\, y su trama se sitúa\, por una parte\, en La Palma y\, p
 or otra\, en San Cristóbal de La Laguna. La historia aborda temas de emig
 ración y olvido\, así como el compromiso político\, ofreciendo una mira
 da profunda sobre la experiencia de las islas y sus gentes.\nLas dos entre
 gas anteriores\, La prestamista (2019) y La tuerta (2023)\, llevan ya vari
 as ediciones y funcionan por separado\, aunque para pillarle todo el jugo 
 a La viuda blanca conviene leerlas en el orden previsto\, porque la cosa v
 a encadenando generaciones. El viaje narrativo arranca en 1850 con los abu
 elos de Petra\, la famosa prestamista\, y se cierra en 1982 con unas islas
  tratando de modernizarse a su manera.
ATTACH;FMTTYPE=image/jpeg:https://www.larevistadelapalma.com/wp-content/up
 loads/2026/01/01-23-presentacion-La-Viuda-Blanca-Tijarafe.jpg
CATEGORIES:Cine y Literatura,Literatura
LOCATION:Oficina de información turística de Tijarafe\, Calle Real\, 11\,
  Tijarafe\, 38780 \, España
GEO:28.710798;-17.955469
X-APPLE-STRUCTURED-LOCATION;VALUE=URI;X-ADDRESS=Calle Real\, 11\, Tijarafe\
 , 38780 \, España;X-APPLE-RADIUS=100;X-TITLE=Oficina de información tur
 ística de Tijarafe:geo:28.710798,-17.955469
END:VEVENT
END:VCALENDAR