BEGIN:VCALENDAR
VERSION:2.0
PRODID:-//wp-events-plugin.com//7.2.3.1//EN
TZID:Europe/London
X-WR-TIMEZONE:Europe/London
BEGIN:VEVENT
UID:132@larevistadelapalma.com
DTSTART;VALUE=DATE:20230729
DTEND;VALUE=DATE:20230730
DTSTAMP:20230728T113040Z
URL:https://www.larevistadelapalma.com/events/presentacion-festival-cine-t
 iempo-sur-2023/
SUMMARY:Presentación de la XI edición del Festival de cine Tiempo Sur
DESCRIPTION: El 29 de julio\, inauguración con cine de verano\, exposició
 n de fotografías antiguas\, baile\, música en directo\, catering y degus
 tación de vinos. En el trascurso de la noche se presentarán las bases y 
 leitmotiv de esta edición.
ATTACH;FMTTYPE=image/jpeg:https://www.larevistadelapalma.com/wp-content/up
 loads/2023/07/Tiempo-sur.jpg
CATEGORIES:Cine,Cine y Literatura
LOCATION:Municipio Villa de Garafía\, Garafía\, Garafía\, 38787\, Españ
 a
GEO:28.822803;-17.950221
X-APPLE-STRUCTURED-LOCATION;VALUE=URI;X-ADDRESS=Garafía\, Garafía\, 38787
 \, España;X-APPLE-RADIUS=100;X-TITLE=Municipio Villa de Garafía:geo:28.8
 22803,-17.950221
END:VEVENT
END:VCALENDARBEGIN:VCALENDAR
VERSION:2.0
PRODID:-//wp-events-plugin.com//7.2.3.1//EN
TZID:Europe/London
X-WR-TIMEZONE:Europe/London
BEGIN:VEVENT
UID:132@larevistadelapalma.com
DTSTART;VALUE=DATE:20230729
DTEND;VALUE=DATE:20230730
DTSTAMP:20230728T113040Z
URL:https://www.larevistadelapalma.com/events/presentacion-festival-cine-t
 iempo-sur-2023/
SUMMARY:Presentación de la XI edición del Festival de cine Tiempo Sur
DESCRIPTION: El 29 de julio\, inauguración con cine de verano\, exposició
 n de fotografías antiguas\, baile\, música en directo\, catering y degus
 tación de vinos. En el trascurso de la noche se presentarán las bases y 
 leitmotiv de esta edición.
ATTACH;FMTTYPE=image/jpeg:https://www.larevistadelapalma.com/wp-content/up
 loads/2023/07/Tiempo-sur.jpg
CATEGORIES:Cine,Cine y Literatura
LOCATION:Municipio Villa de Garafía\, Garafía\, Garafía\, 38787\, Españ
 a
GEO:28.822803;-17.950221
X-APPLE-STRUCTURED-LOCATION;VALUE=URI;X-ADDRESS=Garafía\, Garafía\, 38787
 \, España;X-APPLE-RADIUS=100;X-TITLE=Municipio Villa de Garafía:geo:28.8
 22803,-17.950221
END:VEVENT
END:VCALENDAR