BEGIN:VCALENDAR
VERSION:2.0
PRODID:-//wp-events-plugin.com//7.2.3.1//EN
TZID:Europe/London
X-WR-TIMEZONE:Europe/London
BEGIN:VEVENT
UID:4127@larevistadelapalma.com
DTSTART;VALUE=DATE:20251220
DTEND;VALUE=DATE:20251222
DTSTAMP:20251219T181243Z
URL:https://www.larevistadelapalma.com/events/primer-mercado-de-navidad-en
 -escribanias/
SUMMARY:Primer Mercado de Navidad en Escribanías
DESCRIPTION:Este 20 y 21 de diciembre abre las puertas el primer Mercadillo
  de Navidad del espacio creativo Escribanias Taller. Una selección especi
 al de marcas locales\, arte\, artesanía\, ropa vintage\, cerámica\, flas
 h tattoos y mucho más.\n\nUn mercado hecho para que encuentres regalos ú
 nicos y con corazón. Una oportunidad para hacer tus compras de Navidad ap
 oyando lo local.\n\nY el sábado por la tarde\, además del mercado\, una 
 fiestita con La Mirriss en directo. Productora y Dj palmera \, fusiona est
 ilos urbanos con ritmos electrónicos\, un sello propio que le ha llevado 
 a compartir escenario con artistas reconocidos del panorama urbano.\n\n\n\
 n Horarios:\n\n 	Sábado 20: 11:00–14:00 / 16:00–20:00\n 	Domingo 21:
  11:00–14:00\n\nC/ Manuel de Falla\, 10 – Argual
ATTACH;FMTTYPE=image/jpeg:https://www.larevistadelapalma.com/wp-content/up
 loads/2025/12/mercado-escribanias.jpg
CATEGORIES:Ferias y mercados,Otras propuestas
LOCATION:Municipio de Los Llanos de Aridane\, Los Llanos de Aridane\, Los L
 lanos de Aridane\, 38760\, España
GEO:28.660236;-17.913187
X-APPLE-STRUCTURED-LOCATION;VALUE=URI;X-ADDRESS=Los Llanos de Aridane\, Los
  Llanos de Aridane\, 38760\, España;X-APPLE-RADIUS=100;X-TITLE=Municipio 
 de Los Llanos de Aridane:geo:28.660236,-17.913187
END:VEVENT
END:VCALENDARBEGIN:VCALENDAR
VERSION:2.0
PRODID:-//wp-events-plugin.com//7.2.3.1//EN
TZID:Europe/London
X-WR-TIMEZONE:Europe/London
BEGIN:VEVENT
UID:4127@larevistadelapalma.com
DTSTART;VALUE=DATE:20251220
DTEND;VALUE=DATE:20251222
DTSTAMP:20251219T181243Z
URL:https://www.larevistadelapalma.com/events/primer-mercado-de-navidad-en
 -escribanias/
SUMMARY:Primer Mercado de Navidad en Escribanías
DESCRIPTION:Este 20 y 21 de diciembre abre las puertas el primer Mercadillo
  de Navidad del espacio creativo Escribanias Taller. Una selección especi
 al de marcas locales\, arte\, artesanía\, ropa vintage\, cerámica\, flas
 h tattoos y mucho más.\n\nUn mercado hecho para que encuentres regalos ú
 nicos y con corazón. Una oportunidad para hacer tus compras de Navidad ap
 oyando lo local.\n\nY el sábado por la tarde\, además del mercado\, una 
 fiestita con La Mirriss en directo. Productora y Dj palmera \, fusiona est
 ilos urbanos con ritmos electrónicos\, un sello propio que le ha llevado 
 a compartir escenario con artistas reconocidos del panorama urbano.\n\n\n\
 n Horarios:\n\n 	Sábado 20: 11:00–14:00 / 16:00–20:00\n 	Domingo 21:
  11:00–14:00\n\nC/ Manuel de Falla\, 10 – Argual
ATTACH;FMTTYPE=image/jpeg:https://www.larevistadelapalma.com/wp-content/up
 loads/2025/12/mercado-escribanias.jpg
CATEGORIES:Ferias y mercados,Otras propuestas
LOCATION:Municipio de Los Llanos de Aridane\, Los Llanos de Aridane\, Los L
 lanos de Aridane\, 38760\, España
GEO:28.660236;-17.913187
X-APPLE-STRUCTURED-LOCATION;VALUE=URI;X-ADDRESS=Los Llanos de Aridane\, Los
  Llanos de Aridane\, 38760\, España;X-APPLE-RADIUS=100;X-TITLE=Municipio 
 de Los Llanos de Aridane:geo:28.660236,-17.913187
END:VEVENT
END:VCALENDAR