BEGIN:VCALENDAR
VERSION:2.0
PRODID:-//wp-events-plugin.com//7.2.3.1//EN
TZID:Europe/London
X-WR-TIMEZONE:Europe/London
BEGIN:VEVENT
UID:3018@larevistadelapalma.com
DTSTART:20240601T193000Z
DTEND:20240601T210000Z
DTSTAMP:20240528T161443Z
URL:https://www.larevistadelapalma.com/events/protocolo-de-quebranto/
SUMMARY:Protocolo del quebranto\, en el Circo de Marte
DESCRIPTION:Protocolo del Quebranto surge bajo el propósito de llevar a e
 scena los motivos y consecuencias de las guerras y los conflictos.\nCon Ma
 rta Viera\, Mingo Ruano y Luifer Rodríguez.\nEl mundo está dividido entr
 e amigos y enemigos\, aliados y rivales ¿Se puede ser neutral?\n\nCrezk\,
  de origen y bandera desconocida\, persigue los territorios en los que suc
 ede la guerra. Porta un armatoste itinerante al que llama Osel\, donde viv
 e y esconde pólvora y pequeña munición con la que trapichea\, sin impor
 tarle quién es amigo y quién enemigo\; en su visión operativa del mundo
  todos son clientes.\n\nVive atrincherada con él Nadia\, una mujer extra
 ña\, casi monstruosa. Su relación roza cualquier síndrome conocido\; so
 n su cárcel y su huida. Se necesitan y se repelen\, como animales bicéfa
 los.\n\nUna noche\, el errante dueño de Osel\, mientras recorre el laberi
 nto que supone la guerra\, encuentra un hombre malherido\, pertrechado con
  su cámara de fotos y una venda manchada de sangre en su pie derecho. Ha 
 pisado una mina y no puede caminar. Está sediento.\n\nCrezk le auxilia\, 
 sin ningún ánimo de buen samaritano\, ya que intuye en él un siervo par
 a su reino. Pero pronto descubre que no es la búsqueda de pólvora lo que
  le ha llevado hasta Osel. Lo que empezó siendo una acogida se convierte 
 en una invasión...y puede que en una guerra por la supervivencia.\nCompra
 r entradas &gt\;&gt\;
ATTACH;FMTTYPE=image/jpeg:https://www.larevistadelapalma.com/wp-content/up
 loads/2024/05/Protocolo-de-quebranto.jpg
CATEGORIES:Espectáculos,Teatro
LOCATION:Teatro Circo de Marte\, Calle Virgen de La Luz\, 5\, Santa Cruz de
  La Palma\, 38700\, España
GEO:28.682989;-17.765755
X-APPLE-STRUCTURED-LOCATION;VALUE=URI;X-ADDRESS=Calle Virgen de La Luz\, 5\
 , Santa Cruz de La Palma\, 38700\, España;X-APPLE-RADIUS=100;X-TITLE=Teat
 ro Circo de Marte:geo:28.682989,-17.765755
END:VEVENT
END:VCALENDARBEGIN:VCALENDAR
VERSION:2.0
PRODID:-//wp-events-plugin.com//7.2.3.1//EN
TZID:Europe/London
X-WR-TIMEZONE:Europe/London
BEGIN:VEVENT
UID:3018@larevistadelapalma.com
DTSTART:20240601T193000Z
DTEND:20240601T210000Z
DTSTAMP:20240528T161443Z
URL:https://www.larevistadelapalma.com/events/protocolo-de-quebranto/
SUMMARY:Protocolo del quebranto\, en el Circo de Marte
DESCRIPTION:Protocolo del Quebranto surge bajo el propósito de llevar a e
 scena los motivos y consecuencias de las guerras y los conflictos.\nCon Ma
 rta Viera\, Mingo Ruano y Luifer Rodríguez.\nEl mundo está dividido entr
 e amigos y enemigos\, aliados y rivales ¿Se puede ser neutral?\n\nCrezk\,
  de origen y bandera desconocida\, persigue los territorios en los que suc
 ede la guerra. Porta un armatoste itinerante al que llama Osel\, donde viv
 e y esconde pólvora y pequeña munición con la que trapichea\, sin impor
 tarle quién es amigo y quién enemigo\; en su visión operativa del mundo
  todos son clientes.\n\nVive atrincherada con él Nadia\, una mujer extra
 ña\, casi monstruosa. Su relación roza cualquier síndrome conocido\; so
 n su cárcel y su huida. Se necesitan y se repelen\, como animales bicéfa
 los.\n\nUna noche\, el errante dueño de Osel\, mientras recorre el laberi
 nto que supone la guerra\, encuentra un hombre malherido\, pertrechado con
  su cámara de fotos y una venda manchada de sangre en su pie derecho. Ha 
 pisado una mina y no puede caminar. Está sediento.\n\nCrezk le auxilia\, 
 sin ningún ánimo de buen samaritano\, ya que intuye en él un siervo par
 a su reino. Pero pronto descubre que no es la búsqueda de pólvora lo que
  le ha llevado hasta Osel. Lo que empezó siendo una acogida se convierte 
 en una invasión...y puede que en una guerra por la supervivencia.\nCompra
 r entradas &gt\;&gt\;
ATTACH;FMTTYPE=image/jpeg:https://www.larevistadelapalma.com/wp-content/up
 loads/2024/05/Protocolo-de-quebranto.jpg
CATEGORIES:Espectáculos,Teatro
LOCATION:Teatro Circo de Marte\, Calle Virgen de La Luz\, 5\, Santa Cruz de
  La Palma\, 38700\, España
GEO:28.682989;-17.765755
X-APPLE-STRUCTURED-LOCATION;VALUE=URI;X-ADDRESS=Calle Virgen de La Luz\, 5\
 , Santa Cruz de La Palma\, 38700\, España;X-APPLE-RADIUS=100;X-TITLE=Teat
 ro Circo de Marte:geo:28.682989,-17.765755
END:VEVENT
END:VCALENDAR