BEGIN:VCALENDAR
VERSION:2.0
PRODID:-//wp-events-plugin.com//7.2.3.1//EN
TZID:Europe/London
X-WR-TIMEZONE:Europe/London
BEGIN:VEVENT
UID:4012@larevistadelapalma.com
DTSTART:20251011T170000Z
DTEND:20251011T190000Z
DTSTAMP:20251008T200548Z
URL:https://www.larevistadelapalma.com/events/proyeccion-cortos-cosmologic
 a/
SUMMARY:Proyección de cortos de FICINDE "2025 y estreno del vídeoclip "De
 terminación" de Aranfaibo
DESCRIPTION:Se proyectará un bloque de cortometrajes compuesto por "Nena"\
 , "Left Hander"\, "Holy Heaveness"\, "The diva\, my grandma and me" y "Gua
 cimara".
ATTACH;FMTTYPE=image/jpeg:https://www.larevistadelapalma.com/wp-content/up
 loads/2025/10/proyeccion-COSMOLOGICA-1.png
CATEGORIES:Cine,Cine y Literatura
LOCATION:Real Sociedad Cosmológica\, C. Van de Walle\, 6\, Santa Cruz de l
 a Palma\, Santa Cruz de Tenerife\, 38700\, España
GEO:28.683437;-17.765238
X-APPLE-STRUCTURED-LOCATION;VALUE=URI;X-ADDRESS=C. Van de Walle\, 6\, Santa
  Cruz de la Palma\, Santa Cruz de Tenerife\, 38700\, España;X-APPLE-RADIU
 S=100;X-TITLE=Real Sociedad Cosmológica:geo:28.683437,-17.765238
END:VEVENT
END:VCALENDARBEGIN:VCALENDAR
VERSION:2.0
PRODID:-//wp-events-plugin.com//7.2.3.1//EN
TZID:Europe/London
X-WR-TIMEZONE:Europe/London
BEGIN:VEVENT
UID:4012@larevistadelapalma.com
DTSTART:20251011T170000Z
DTEND:20251011T190000Z
DTSTAMP:20251008T200548Z
URL:https://www.larevistadelapalma.com/events/proyeccion-cortos-cosmologic
 a/
SUMMARY:Proyección de cortos de FICINDE "2025 y estreno del vídeoclip "De
 terminación" de Aranfaibo
DESCRIPTION:Se proyectará un bloque de cortometrajes compuesto por "Nena"\
 , "Left Hander"\, "Holy Heaveness"\, "The diva\, my grandma and me" y "Gua
 cimara".
ATTACH;FMTTYPE=image/jpeg:https://www.larevistadelapalma.com/wp-content/up
 loads/2025/10/proyeccion-COSMOLOGICA-1.png
CATEGORIES:Cine,Cine y Literatura
LOCATION:Real Sociedad Cosmológica\, C. Van de Walle\, 6\, Santa Cruz de l
 a Palma\, Santa Cruz de Tenerife\, 38700\, España
GEO:28.683437;-17.765238
X-APPLE-STRUCTURED-LOCATION;VALUE=URI;X-ADDRESS=C. Van de Walle\, 6\, Santa
  Cruz de la Palma\, Santa Cruz de Tenerife\, 38700\, España;X-APPLE-RADIU
 S=100;X-TITLE=Real Sociedad Cosmológica:geo:28.683437,-17.765238
END:VEVENT
END:VCALENDAR