BEGIN:VCALENDAR
VERSION:2.0
PRODID:-//wp-events-plugin.com//7.2.3.1//EN
TZID:Europe/London
X-WR-TIMEZONE:Europe/London
BEGIN:VEVENT
UID:3543@larevistadelapalma.com
DTSTART:20250110T163000Z
DTEND:20250110T193000Z
DTSTAMP:20250108T211628Z
URL:https://www.larevistadelapalma.com/events/proyeccion-de-cortometrajes-
 en-los-llanos-de-aridane/
SUMMARY:Proyección de cortometrajes "Bajo el volcán"\, en Los Llanos de A
 ridane
DESCRIPTION:La proyección de los cortometrajes se dividirá en 2 sesiones 
 (viernes y sábado)\nDurante el pasado mes de septiembre tuvo lugar en La 
 Palma la 3a Aceleradora de Cine con Werner Herzog\, una experiencia vital
  diseñada para cineastas emergentes que buscan un desafío creativo. Dur
 ante 11 días\, 50 cineastas de todo el mundo crearon 35 cortometrajes co
 n el acompañamiento del gran cineasta alemán Werner Herzog y del cinema
 tógrafo Peter Zeitlinger.\nTres meses después\, los cortometrajes regres
 an a la isla para honrar y agradecer a la tierra y a las personas que aco
 gieron este encuentro creativo.\nWerner Herzog es uno de los cineastas má
 s prolíficos de la historia del cine. Su curiosidad inagotable sobre la 
 naturaleza y la complejidad humana lo ha impulsado con pasión y vehemenci
 a a explorar los lugares más misteriosos de la tierra. Su extensa y dive
 rsa obra es testimonio de su visión única y tenaz\, del fuego interior q
 ue lo lleva siempre a crear.\nSus películas se caracterizan por una cuali
 dad surrealista\, inusual\, de atmósferas extrañas y es aclamado como u
 no de los directores contemporáneos más innovadores.\nUn proyecto de La 
 Selva Coop en alianza con La Botica Audiovisual.
ATTACH;FMTTYPE=image/jpeg:https://www.larevistadelapalma.com/wp-content/up
 loads/2025/01/Poryeccion-cortos-los-llanos.jpg
CATEGORIES:Cine,Cine y Literatura
LOCATION:Casa de La Cultura de Los Llanos de Aridane\, : C. Real\, 8\, Los 
 Llanos de Aridane \, 38760\, España
GEO:28.658651;-17.913512
X-APPLE-STRUCTURED-LOCATION;VALUE=URI;X-ADDRESS=: C. Real\, 8\, Los Llanos 
 de Aridane \, 38760\, España;X-APPLE-RADIUS=100;X-TITLE=Casa de La Cultur
 a de Los Llanos de Aridane:geo:28.658651,-17.913512
END:VEVENT
END:VCALENDARBEGIN:VCALENDAR
VERSION:2.0
PRODID:-//wp-events-plugin.com//7.2.3.1//EN
TZID:Europe/London
X-WR-TIMEZONE:Europe/London
BEGIN:VEVENT
UID:3543@larevistadelapalma.com
DTSTART:20250110T163000Z
DTEND:20250110T193000Z
DTSTAMP:20250108T211628Z
URL:https://www.larevistadelapalma.com/events/proyeccion-de-cortometrajes-
 en-los-llanos-de-aridane/
SUMMARY:Proyección de cortometrajes "Bajo el volcán"\, en Los Llanos de A
 ridane
DESCRIPTION:La proyección de los cortometrajes se dividirá en 2 sesiones 
 (viernes y sábado)\nDurante el pasado mes de septiembre tuvo lugar en La 
 Palma la 3a Aceleradora de Cine con Werner Herzog\, una experiencia vital
  diseñada para cineastas emergentes que buscan un desafío creativo. Dur
 ante 11 días\, 50 cineastas de todo el mundo crearon 35 cortometrajes co
 n el acompañamiento del gran cineasta alemán Werner Herzog y del cinema
 tógrafo Peter Zeitlinger.\nTres meses después\, los cortometrajes regres
 an a la isla para honrar y agradecer a la tierra y a las personas que aco
 gieron este encuentro creativo.\nWerner Herzog es uno de los cineastas má
 s prolíficos de la historia del cine. Su curiosidad inagotable sobre la 
 naturaleza y la complejidad humana lo ha impulsado con pasión y vehemenci
 a a explorar los lugares más misteriosos de la tierra. Su extensa y dive
 rsa obra es testimonio de su visión única y tenaz\, del fuego interior q
 ue lo lleva siempre a crear.\nSus películas se caracterizan por una cuali
 dad surrealista\, inusual\, de atmósferas extrañas y es aclamado como u
 no de los directores contemporáneos más innovadores.\nUn proyecto de La 
 Selva Coop en alianza con La Botica Audiovisual.
ATTACH;FMTTYPE=image/jpeg:https://www.larevistadelapalma.com/wp-content/up
 loads/2025/01/Poryeccion-cortos-los-llanos.jpg
CATEGORIES:Cine,Cine y Literatura
LOCATION:Casa de La Cultura de Los Llanos de Aridane\, : C. Real\, 8\, Los 
 Llanos de Aridane \, 38760\, España
GEO:28.658651;-17.913512
X-APPLE-STRUCTURED-LOCATION;VALUE=URI;X-ADDRESS=: C. Real\, 8\, Los Llanos 
 de Aridane \, 38760\, España;X-APPLE-RADIUS=100;X-TITLE=Casa de La Cultur
 a de Los Llanos de Aridane:geo:28.658651,-17.913512
END:VEVENT
END:VCALENDAR