BEGIN:VCALENDAR
VERSION:2.0
PRODID:-//wp-events-plugin.com//7.2.3.1//EN
TZID:Europe/London
X-WR-TIMEZONE:Europe/London
BEGIN:VEVENT
UID:4015@larevistadelapalma.com
DTSTART:20251120T193000Z
DTEND:20251120T210000Z
DTSTAMP:20251020T112016Z
URL:https://www.larevistadelapalma.com/events/proyeccion-de-cortos-de-la-e
 scuela-municipal-de-cine-de-los-llanos/
SUMMARY:CAMBIO DE FECHA- Proyección de cortos de la Escuela Municipal de C
 ine de Los Llanos
DESCRIPTION:Fue aplazado el día 17\, por previsión meteorlógica adversa.
  NUEVA FECHA 20 DE NOVIEMBRE.\n\nLa Plaza de España se convertirá en un 
 cine al aire libre para disfrutar de una velada muy especial. Se proyectar
 án los nuevos cortometrajes realizados este curso en la escuela municipal
  de cine y\, además\, podremos revivir en una retrospectiva varios de los
  trabajos más destacados creados en ediciones anteriores.Una oportunidad 
 única\n\nPara celebrar el talento\, la creatividad y el esfuerzo de nuest
 ros jóvenes y adultos en el mundo del cine.
ATTACH;FMTTYPE=image/jpeg:https://www.larevistadelapalma.com/wp-content/up
 loads/2025/10/ortos-escuela-municipal-cine-los-llanos.jpg
CATEGORIES:Cine,Cine y Literatura
LOCATION:Plaza de España en Los Llanos de Aridane\, Plaza de España\, Los
  Llanos de Aridane\, 38760\, España
GEO:28.658934;-17.913174
X-APPLE-STRUCTURED-LOCATION;VALUE=URI;X-ADDRESS=Plaza de España\, Los Llan
 os de Aridane\, 38760\, España;X-APPLE-RADIUS=100;X-TITLE=Plaza de Españ
 a en Los Llanos de Aridane:geo:28.658934,-17.913174
END:VEVENT
END:VCALENDARBEGIN:VCALENDAR
VERSION:2.0
PRODID:-//wp-events-plugin.com//7.2.3.1//EN
TZID:Europe/London
X-WR-TIMEZONE:Europe/London
BEGIN:VEVENT
UID:4015@larevistadelapalma.com
DTSTART:20251120T193000Z
DTEND:20251120T210000Z
DTSTAMP:20251020T112016Z
URL:https://www.larevistadelapalma.com/events/proyeccion-de-cortos-de-la-e
 scuela-municipal-de-cine-de-los-llanos/
SUMMARY:CAMBIO DE FECHA- Proyección de cortos de la Escuela Municipal de C
 ine de Los Llanos
DESCRIPTION:Fue aplazado el día 17\, por previsión meteorlógica adversa.
  NUEVA FECHA 20 DE NOVIEMBRE.\n\nLa Plaza de España se convertirá en un 
 cine al aire libre para disfrutar de una velada muy especial. Se proyectar
 án los nuevos cortometrajes realizados este curso en la escuela municipal
  de cine y\, además\, podremos revivir en una retrospectiva varios de los
  trabajos más destacados creados en ediciones anteriores.Una oportunidad 
 única\n\nPara celebrar el talento\, la creatividad y el esfuerzo de nuest
 ros jóvenes y adultos en el mundo del cine.
ATTACH;FMTTYPE=image/jpeg:https://www.larevistadelapalma.com/wp-content/up
 loads/2025/10/ortos-escuela-municipal-cine-los-llanos.jpg
CATEGORIES:Cine,Cine y Literatura
LOCATION:Plaza de España en Los Llanos de Aridane\, Plaza de España\, Los
  Llanos de Aridane\, 38760\, España
GEO:28.658934;-17.913174
X-APPLE-STRUCTURED-LOCATION;VALUE=URI;X-ADDRESS=Plaza de España\, Los Llan
 os de Aridane\, 38760\, España;X-APPLE-RADIUS=100;X-TITLE=Plaza de Españ
 a en Los Llanos de Aridane:geo:28.658934,-17.913174
END:VEVENT
END:VCALENDAR