BEGIN:VCALENDAR
VERSION:2.0
PRODID:-//wp-events-plugin.com//7.2.3.1//EN
TZID:Europe/London
X-WR-TIMEZONE:Europe/London
BEGIN:VEVENT
UID:2715@larevistadelapalma.com
DTSTART:20240112T180000Z
DTEND:20240112T193000Z
DTSTAMP:20240108T164717Z
URL:https://www.larevistadelapalma.com/events/proyeccion-de-cortos-del-aul
 a-municipal-de-teatro-de-los-llanos/
SUMMARY:Proyección de cortos del Aula Municipal de Teatro de Los Llanos
DESCRIPTION:\nHistorias originales de los alumnos del Aula Municipal de Tea
 tro.\nA lo largo del primer trimestre del curso 2023-2024 del Aula Municip
 al de Teatro de Los Llanos de Aridane\, los alumnos de esta actividad se h
 an visto inmersos en un arduo proceso de creación colectiva: analizar las
  bases de la estructura de la que se componen las historias y jugar con el
 las\, doblarlas\, forzarlas e\, incluso\, romperlas… Todo ello con un ú
 nico fin\, generar un laboratorio que nos permita alcanzar la libertad cre
 ativa.\nPero\, una vez hecho esto\, ¿qué hacemos con estas historias? ¡
 Pues compartirlas con nuestros vecinos y amigos! Y no hay mejor forma que 
 ponernos delante de una cámara y\, con toda nuestra ignorancia (para deja
 r de ser ignorantes a ese respecto ya están nuestros compañeros de la Es
 cuela de Cine)\, seguir jugando para ofrecerles una historia colectiva.\n\
 n
ATTACH;FMTTYPE=image/jpeg:https://www.larevistadelapalma.com/wp-content/up
 loads/2024/01/Cortos-aula-municipal-Teatro-Los-Llanos.jpg
CATEGORIES:Cine,Cine y Literatura
LOCATION:Casa de La Cultura de Los Llanos de Aridane\, : C. Real\, 8\, Los 
 Llanos de Aridane \, 38760\, España
GEO:28.658651;-17.913512
X-APPLE-STRUCTURED-LOCATION;VALUE=URI;X-ADDRESS=: C. Real\, 8\, Los Llanos 
 de Aridane \, 38760\, España;X-APPLE-RADIUS=100;X-TITLE=Casa de La Cultur
 a de Los Llanos de Aridane:geo:28.658651,-17.913512
END:VEVENT
END:VCALENDARBEGIN:VCALENDAR
VERSION:2.0
PRODID:-//wp-events-plugin.com//7.2.3.1//EN
TZID:Europe/London
X-WR-TIMEZONE:Europe/London
BEGIN:VEVENT
UID:2715@larevistadelapalma.com
DTSTART:20240112T180000Z
DTEND:20240112T193000Z
DTSTAMP:20240108T164717Z
URL:https://www.larevistadelapalma.com/events/proyeccion-de-cortos-del-aul
 a-municipal-de-teatro-de-los-llanos/
SUMMARY:Proyección de cortos del Aula Municipal de Teatro de Los Llanos
DESCRIPTION:\nHistorias originales de los alumnos del Aula Municipal de Tea
 tro.\nA lo largo del primer trimestre del curso 2023-2024 del Aula Municip
 al de Teatro de Los Llanos de Aridane\, los alumnos de esta actividad se h
 an visto inmersos en un arduo proceso de creación colectiva: analizar las
  bases de la estructura de la que se componen las historias y jugar con el
 las\, doblarlas\, forzarlas e\, incluso\, romperlas… Todo ello con un ú
 nico fin\, generar un laboratorio que nos permita alcanzar la libertad cre
 ativa.\nPero\, una vez hecho esto\, ¿qué hacemos con estas historias? ¡
 Pues compartirlas con nuestros vecinos y amigos! Y no hay mejor forma que 
 ponernos delante de una cámara y\, con toda nuestra ignorancia (para deja
 r de ser ignorantes a ese respecto ya están nuestros compañeros de la Es
 cuela de Cine)\, seguir jugando para ofrecerles una historia colectiva.\n\
 n
ATTACH;FMTTYPE=image/jpeg:https://www.larevistadelapalma.com/wp-content/up
 loads/2024/01/Cortos-aula-municipal-Teatro-Los-Llanos.jpg
CATEGORIES:Cine,Cine y Literatura
LOCATION:Casa de La Cultura de Los Llanos de Aridane\, : C. Real\, 8\, Los 
 Llanos de Aridane \, 38760\, España
GEO:28.658651;-17.913512
X-APPLE-STRUCTURED-LOCATION;VALUE=URI;X-ADDRESS=: C. Real\, 8\, Los Llanos 
 de Aridane \, 38760\, España;X-APPLE-RADIUS=100;X-TITLE=Casa de La Cultur
 a de Los Llanos de Aridane:geo:28.658651,-17.913512
END:VEVENT
END:VCALENDAR