BEGIN:VCALENDAR
VERSION:2.0
PRODID:-//wp-events-plugin.com//7.2.3.1//EN
TZID:Europe/London
X-WR-TIMEZONE:Europe/London
BEGIN:VEVENT
UID:3565@larevistadelapalma.com
DTSTART:20250127T190000Z
DTEND:20250127T203000Z
DTSTAMP:20250123T231306Z
URL:https://www.larevistadelapalma.com/events/proyeccion-de-mariposas-negr
 as-en-el-teatro-chico/
SUMMARY:Proyección de "Mariposas negras" en el Teatro Chico
DESCRIPTION:Una película inspirada por mujeres reales\, propone un viaje d
 esde África\, el Caribe y Asia hacia un incierto futuro para la humanidad
 . El cambio climático impacta en las vidas de Tanit\, Valeria y Shaila\,
  tres mujeres de puntos muy distintos del planeta pero con algo en común
 : las tres lo pierden todo por el efecto del calentamiento global y se ven
  forzadas a migrar.
ATTACH;FMTTYPE=image/jpeg:https://www.larevistadelapalma.com/wp-content/up
 loads/2025/01/Mariposas-negras.jpg
CATEGORIES:Cine,Cine y Literatura
LOCATION:Teatro Chico\, Calle Díaz Pimienta\, 1\, Santa Cruz De La Palma\,
  Santa Cruz de Tenerife\, 38700\, España
GEO:28.68432;-17.764225
X-APPLE-STRUCTURED-LOCATION;VALUE=URI;X-ADDRESS=Calle Díaz Pimienta\, 1\, 
 Santa Cruz De La Palma\, Santa Cruz de Tenerife\, 38700\, España;X-APPLE-
 RADIUS=100;X-TITLE=Teatro Chico:geo:28.68432,-17.764225
END:VEVENT
END:VCALENDARBEGIN:VCALENDAR
VERSION:2.0
PRODID:-//wp-events-plugin.com//7.2.3.1//EN
TZID:Europe/London
X-WR-TIMEZONE:Europe/London
BEGIN:VEVENT
UID:3565@larevistadelapalma.com
DTSTART:20250127T190000Z
DTEND:20250127T203000Z
DTSTAMP:20250123T231306Z
URL:https://www.larevistadelapalma.com/events/proyeccion-de-mariposas-negr
 as-en-el-teatro-chico/
SUMMARY:Proyección de "Mariposas negras" en el Teatro Chico
DESCRIPTION:Una película inspirada por mujeres reales\, propone un viaje d
 esde África\, el Caribe y Asia hacia un incierto futuro para la humanidad
 . El cambio climático impacta en las vidas de Tanit\, Valeria y Shaila\,
  tres mujeres de puntos muy distintos del planeta pero con algo en común
 : las tres lo pierden todo por el efecto del calentamiento global y se ven
  forzadas a migrar.
ATTACH;FMTTYPE=image/jpeg:https://www.larevistadelapalma.com/wp-content/up
 loads/2025/01/Mariposas-negras.jpg
CATEGORIES:Cine,Cine y Literatura
LOCATION:Teatro Chico\, Calle Díaz Pimienta\, 1\, Santa Cruz De La Palma\,
  Santa Cruz de Tenerife\, 38700\, España
GEO:28.68432;-17.764225
X-APPLE-STRUCTURED-LOCATION;VALUE=URI;X-ADDRESS=Calle Díaz Pimienta\, 1\, 
 Santa Cruz De La Palma\, Santa Cruz de Tenerife\, 38700\, España;X-APPLE-
 RADIUS=100;X-TITLE=Teatro Chico:geo:28.68432,-17.764225
END:VEVENT
END:VCALENDAR