BEGIN:VCALENDAR
VERSION:2.0
PRODID:-//wp-events-plugin.com//7.2.3.1//EN
TZID:Europe/London
X-WR-TIMEZONE:Europe/London
BEGIN:VEVENT
UID:3829@larevistadelapalma.com
DTSTART:20250625T170000Z
DTEND:20250625T183000Z
DTSTAMP:20250618T201908Z
URL:https://www.larevistadelapalma.com/events/proyeccion-de-zero-semana-so
 cial-love/
SUMMARY:Proyección de ‘Zero\, la revista que sacó del armario a un paí
 s’ (Semana Social Love Festival 2025)
DESCRIPTION:\nLa semana social del Love\, organizada por la empresa Sodepal
 \, es una iniciativa que pretende promover la libertad sexual\, la igualda
 d y la tolerancia a través de diferentes encuentros y actividades. Podrá
 s acudir presencialmente a las ponencias\, charlas y encuentros\, o seguir
  el contenido en YouTube a través del canal Isla Bonita Love Festival\, 
 el Facebook de Sodepal y mediante el podcast de Spotify Love Podcast\nL
 a programación de la semana contará con homenajes\, proyecciones\, y dis
 tintas charlas y mesas redondas con la igualdad de género y la inclusión
  como temáticas principales y un gran fin de fiesta el sábado 28 en Taza
 corte con la Marcha del Orgullo.\n\n\nEl martes 24\, en el Palacio Salazar
  de S/C de La Palma\, con un homenaje a las víctimas de la Ley de Peligro
 sidad Social que fueron encarceladas en la isla de La Palma.\n\n\n\nEl mi
 ércoles 25\, en la Casa de La Cultura de Los Llanos\, tendrá lugar la pr
 oyección del documental ‘Zero\, la revista que sacó del armario a un 
 país’ y una charla con su director\, Miguel Ángel López.\n\n\n\n
ATTACH;FMTTYPE=image/jpeg:https://www.larevistadelapalma.com/wp-content/up
 loads/2025/06/zero-documental.jpg
CATEGORIES:Cine,Cine y Literatura
LOCATION:Casa de La Cultura de Los Llanos de Aridane\, : C. Real\, 8\, Los 
 Llanos de Aridane \, 38760\, España
GEO:28.658651;-17.913512
X-APPLE-STRUCTURED-LOCATION;VALUE=URI;X-ADDRESS=: C. Real\, 8\, Los Llanos 
 de Aridane \, 38760\, España;X-APPLE-RADIUS=100;X-TITLE=Casa de La Cultur
 a de Los Llanos de Aridane:geo:28.658651,-17.913512
END:VEVENT
END:VCALENDARBEGIN:VCALENDAR
VERSION:2.0
PRODID:-//wp-events-plugin.com//7.2.3.1//EN
TZID:Europe/London
X-WR-TIMEZONE:Europe/London
BEGIN:VEVENT
UID:3829@larevistadelapalma.com
DTSTART:20250625T170000Z
DTEND:20250625T183000Z
DTSTAMP:20250618T201908Z
URL:https://www.larevistadelapalma.com/events/proyeccion-de-zero-semana-so
 cial-love/
SUMMARY:Proyección de ‘Zero\, la revista que sacó del armario a un paí
 s’ (Semana Social Love Festival 2025)
DESCRIPTION:\nLa semana social del Love\, organizada por la empresa Sodepal
 \, es una iniciativa que pretende promover la libertad sexual\, la igualda
 d y la tolerancia a través de diferentes encuentros y actividades. Podrá
 s acudir presencialmente a las ponencias\, charlas y encuentros\, o seguir
  el contenido en YouTube a través del canal Isla Bonita Love Festival\, 
 el Facebook de Sodepal y mediante el podcast de Spotify Love Podcast\nL
 a programación de la semana contará con homenajes\, proyecciones\, y dis
 tintas charlas y mesas redondas con la igualdad de género y la inclusión
  como temáticas principales y un gran fin de fiesta el sábado 28 en Taza
 corte con la Marcha del Orgullo.\n\n\nEl martes 24\, en el Palacio Salazar
  de S/C de La Palma\, con un homenaje a las víctimas de la Ley de Peligro
 sidad Social que fueron encarceladas en la isla de La Palma.\n\n\n\nEl mi
 ércoles 25\, en la Casa de La Cultura de Los Llanos\, tendrá lugar la pr
 oyección del documental ‘Zero\, la revista que sacó del armario a un 
 país’ y una charla con su director\, Miguel Ángel López.\n\n\n\n
ATTACH;FMTTYPE=image/jpeg:https://www.larevistadelapalma.com/wp-content/up
 loads/2025/06/zero-documental.jpg
CATEGORIES:Cine,Cine y Literatura
LOCATION:Casa de La Cultura de Los Llanos de Aridane\, : C. Real\, 8\, Los 
 Llanos de Aridane \, 38760\, España
GEO:28.658651;-17.913512
X-APPLE-STRUCTURED-LOCATION;VALUE=URI;X-ADDRESS=: C. Real\, 8\, Los Llanos 
 de Aridane \, 38760\, España;X-APPLE-RADIUS=100;X-TITLE=Casa de La Cultur
 a de Los Llanos de Aridane:geo:28.658651,-17.913512
END:VEVENT
END:VCALENDAR