BEGIN:VCALENDAR
VERSION:2.0
PRODID:-//wp-events-plugin.com//7.2.3.1//EN
TZID:Europe/London
X-WR-TIMEZONE:Europe/London
BEGIN:VEVENT
UID:3510@larevistadelapalma.com
DTSTART:20241220T173000Z
DTEND:20241220T183000Z
DTSTAMP:20241216T203950Z
URL:https://www.larevistadelapalma.com/events/proyeccion-del-corto-alma-de
 -cabuquero/
SUMMARY:Proyección del corto "Alma de cabuquero"
DESCRIPTION:Cuenta la historia de “Don Eulalio Pérez Hernandez\, cabuque
 ro barloventero\, que perdió a su amigo Pepe en el desplome de la galerí
 a de Cuevitas el 28 de diciembre de 1965.\n\nUn cortometraje de Moisés Da
 vid García Castro que junto a Secuencia 27 - La Farola Films el elenco
  conformado por César Martel\, Lidia Franco\, Javier Martín Armas\, Greg
 orio Garcia y Norberto Trujillo y su editor Javier García\, dan vida a es
 ta historia de valentía y sacrificio en búsqueda del agua.
ATTACH;FMTTYPE=image/jpeg:https://www.larevistadelapalma.com/wp-content/up
 loads/2024/12/Alma-de-cabuquero.webp
CATEGORIES:Cine,Cine y Literatura
LOCATION:Casa de La Cultura\, Puntagorda\, C. Cuatro Caminos\, 5\, Puntagor
 da\, 38789\, España
GEO:28.774328;-17.976112
X-APPLE-STRUCTURED-LOCATION;VALUE=URI;X-ADDRESS=C. Cuatro Caminos\, 5\, Pun
 tagorda\, 38789\, España;X-APPLE-RADIUS=100;X-TITLE=Casa de La Cultura\, 
 Puntagorda:geo:28.774328,-17.976112
END:VEVENT
END:VCALENDARBEGIN:VCALENDAR
VERSION:2.0
PRODID:-//wp-events-plugin.com//7.2.3.1//EN
TZID:Europe/London
X-WR-TIMEZONE:Europe/London
BEGIN:VEVENT
UID:3510@larevistadelapalma.com
DTSTART:20241220T173000Z
DTEND:20241220T183000Z
DTSTAMP:20241216T203950Z
URL:https://www.larevistadelapalma.com/events/proyeccion-del-corto-alma-de
 -cabuquero/
SUMMARY:Proyección del corto "Alma de cabuquero"
DESCRIPTION:Cuenta la historia de “Don Eulalio Pérez Hernandez\, cabuque
 ro barloventero\, que perdió a su amigo Pepe en el desplome de la galerí
 a de Cuevitas el 28 de diciembre de 1965.\n\nUn cortometraje de Moisés Da
 vid García Castro que junto a Secuencia 27 - La Farola Films el elenco
  conformado por César Martel\, Lidia Franco\, Javier Martín Armas\, Greg
 orio Garcia y Norberto Trujillo y su editor Javier García\, dan vida a es
 ta historia de valentía y sacrificio en búsqueda del agua.
ATTACH;FMTTYPE=image/jpeg:https://www.larevistadelapalma.com/wp-content/up
 loads/2024/12/Alma-de-cabuquero.webp
CATEGORIES:Cine,Cine y Literatura
LOCATION:Casa de La Cultura\, Puntagorda\, C. Cuatro Caminos\, 5\, Puntagor
 da\, 38789\, España
GEO:28.774328;-17.976112
X-APPLE-STRUCTURED-LOCATION;VALUE=URI;X-ADDRESS=C. Cuatro Caminos\, 5\, Pun
 tagorda\, 38789\, España;X-APPLE-RADIUS=100;X-TITLE=Casa de La Cultura\, 
 Puntagorda:geo:28.774328,-17.976112
END:VEVENT
END:VCALENDAR