BEGIN:VCALENDAR
VERSION:2.0
PRODID:-//wp-events-plugin.com//7.2.3.1//EN
TZID:Europe/London
X-WR-TIMEZONE:Europe/London
BEGIN:VEVENT
UID:3914@larevistadelapalma.com
DTSTART:20250819T190000Z
DTEND:20250819T203000Z
DTSTAMP:20250818T184300Z
URL:https://www.larevistadelapalma.com/events/proyeccion-del-corto-ingravi
 das/
SUMMARY:Proyección del corto "Ingrávidas"
DESCRIPTION:El martes 19\, en la tarde violeta del Festival Cortonaos\, ten
 deremos la proyección del cortometraje “Ingrávidas”\, dirigido por V
 ictoria Martín Pérez. Será en el auditorio del hotel Meliá La Palma.\n
 \n“Ingrávidas” es el primer proyecto del Colectivo Akellas\, un corto
 metraje de ficción que relata la pequeña historia de tres mujeres que es
 tán subiendo una escarpada isla para ir a un lugar mejor\, más elevado\,
  y que no se dejan caer por el peso de la gravedad de los condicionamiento
 s sociales que las mantienen en la oscuridad. Este cortometraje aúna la e
 xposición de la naturaleza de La Palma con el objetivo positivo y necesar
 io de dar visibilidad a mujeres que deben ser un referente en un ámbito q
 ue ha sido tradicionalmente masculino y que\, muchas veces no tienen la re
 levancia que merecen.\n\nUn cortometraje guionizado\, dirigido y editado p
 or Victoria Martín Pérez\, miembro del colectivo feminista Akellas\, fun
 damentalmente compuesto por mujeres\, dirigido a la creación de obras aud
 iovisuales en Canarias con el objetivo de poner en valor el trabajo de la 
 mujer en el desarrollo social de las comunidades y su aportación creativa
  a la vida y memoria cultural de las mismas.
ATTACH;FMTTYPE=image/jpeg:https://www.larevistadelapalma.com/wp-content/up
 loads/2025/08/Ingravidas.jpg
CATEGORIES:Cine,Cine y Literatura
LOCATION:Playa de Puerto Naos\, Puerto Naos\, Los Llanos de Aridane \, 3876
 9\, España
GEO:28.587524;-17.910531
X-APPLE-STRUCTURED-LOCATION;VALUE=URI;X-ADDRESS=Puerto Naos\, Los Llanos de
  Aridane \, 38769\, España;X-APPLE-RADIUS=100;X-TITLE=Playa de Puerto Nao
 s:geo:28.587524,-17.910531
END:VEVENT
END:VCALENDARBEGIN:VCALENDAR
VERSION:2.0
PRODID:-//wp-events-plugin.com//7.2.3.1//EN
TZID:Europe/London
X-WR-TIMEZONE:Europe/London
BEGIN:VEVENT
UID:3914@larevistadelapalma.com
DTSTART:20250819T190000Z
DTEND:20250819T203000Z
DTSTAMP:20250818T184300Z
URL:https://www.larevistadelapalma.com/events/proyeccion-del-corto-ingravi
 das/
SUMMARY:Proyección del corto "Ingrávidas"
DESCRIPTION:El martes 19\, en la tarde violeta del Festival Cortonaos\, ten
 deremos la proyección del cortometraje “Ingrávidas”\, dirigido por V
 ictoria Martín Pérez. Será en el auditorio del hotel Meliá La Palma.\n
 \n“Ingrávidas” es el primer proyecto del Colectivo Akellas\, un corto
 metraje de ficción que relata la pequeña historia de tres mujeres que es
 tán subiendo una escarpada isla para ir a un lugar mejor\, más elevado\,
  y que no se dejan caer por el peso de la gravedad de los condicionamiento
 s sociales que las mantienen en la oscuridad. Este cortometraje aúna la e
 xposición de la naturaleza de La Palma con el objetivo positivo y necesar
 io de dar visibilidad a mujeres que deben ser un referente en un ámbito q
 ue ha sido tradicionalmente masculino y que\, muchas veces no tienen la re
 levancia que merecen.\n\nUn cortometraje guionizado\, dirigido y editado p
 or Victoria Martín Pérez\, miembro del colectivo feminista Akellas\, fun
 damentalmente compuesto por mujeres\, dirigido a la creación de obras aud
 iovisuales en Canarias con el objetivo de poner en valor el trabajo de la 
 mujer en el desarrollo social de las comunidades y su aportación creativa
  a la vida y memoria cultural de las mismas.
ATTACH;FMTTYPE=image/jpeg:https://www.larevistadelapalma.com/wp-content/up
 loads/2025/08/Ingravidas.jpg
CATEGORIES:Cine,Cine y Literatura
LOCATION:Playa de Puerto Naos\, Puerto Naos\, Los Llanos de Aridane \, 3876
 9\, España
GEO:28.587524;-17.910531
X-APPLE-STRUCTURED-LOCATION;VALUE=URI;X-ADDRESS=Puerto Naos\, Los Llanos de
  Aridane \, 38769\, España;X-APPLE-RADIUS=100;X-TITLE=Playa de Puerto Nao
 s:geo:28.587524,-17.910531
END:VEVENT
END:VCALENDAR