BEGIN:VCALENDAR
VERSION:2.0
PRODID:-//wp-events-plugin.com//7.2.3.1//EN
TZID:Europe/London
X-WR-TIMEZONE:Europe/London
BEGIN:VEVENT
UID:3766@larevistadelapalma.com
DTSTART:20250529T170000Z
DTEND:20250529T183000Z
DTSTAMP:20250528T170335Z
URL:https://www.larevistadelapalma.com/events/psicologia-del-hombre-canari
 o-de-manuel-aleman-en-la-palma/
SUMMARY:Psicología del hombre canario\, de Manuel Alemán\, en La Palma
DESCRIPTION:La reedición reciente será presentada este jueves 29 de mayo 
 en el Punto de venta de La Cernícala. \nJosé Miguel Perera\, conocedor 
 de la obra de Alemán\, acercará la figura de este autor y de este libro 
 clave en la historia del pensamiento canario. \nPsicología del hombre ca
 nario\, publicado por primera vez en 1980\, es uno de los libros más leí
 dos y reimpresos de las Islas Canarias. La obra escrita por Manuel Alemán
  Álamo\, educador y sicoterapeuta originario de Agaete (Gran Canaria)\, s
 igue siendo motivo y chispa propicia para la reflexión sobre la realidad 
 sociopolítica y la vida pública canarias. No en vano\, algunas de las cr
 íticas actuales contra el modelo turístico\, por las que días atrás la
  ciudadanía de todas las Islas salió de nuevo a las calles\, ya eran lla
 mativamente vislumbradas por Alemán. Y no sólo eso: el volumen es frecue
 ntemente citado y mentado en numerosos estudios recientes abordados desde 
 la filología\, la sociología\, la pedagogía y otras varias disciplinas.
 \nTras haber sido presentado estos últimos meses en Las Palmas de Gran Ca
 naria\, Telde\, Agaete y La Laguna (Tenerife)\, la publicación más conoc
 ida del pensador canario se acerca este jueves 29 mayo\, a las 18:00 horas
 \, al Punto de venta de la Asociación La Cernícala (Paso de Abajo\, 77\,
  El Paso)\, en La Palma\, para acercar la significativa trayectoria person
 al e intelectual de Manuel Alemán y\, sobre todo\, algunas de las ideas c
 laves que plantea en Psicología del hombre canario. Para ello\, el inves
 tigador José Miguel Perera será el encargado de aproximar\, a través de
 l diálogo con un miembro del club de lectura La Escuela Canaria\, motivos
  importantes que lleven a sopesar hasta qué punto el libro sigue siendo v
 igente en la actualidad\, y especialmente si es pensado desde la coordenad
 a palmera del Valle de Aridane.\nEl acto está organizado conjuntamente po
 r La Escuela Canaria\, que desde su creación lleva leyendo y profundizand
 o en diversas obras importantes de la literatura y cultura canarias\; y la
  cooperativa de agricultura ecológica y local La Cernícala\, que trabaja
 \, desde el contexto palmero\, por la soberanía alimentaria y por los val
 ores del cooperativismo y las dinámicas colectivas.\nManuel Alemán Álam
 o (1931-1991) fue una figura social e intelectual con un itinerario desta
 cado en muchos sentidos\, entre otros como educador social\, sicoteraputa 
 y como rector del Seminario Diocesano de Las Palmas en los años sesenta d
 el siglo XX\, donde sería clave en la formación de los sacerdotes canari
 os que\, especialmente durante la década siguiente\, iban a aplicar en la
 s Islas el Concilio Vaticano II. A ello se suma haber sido autor de otros 
 libros de interés sobre el sicólogo estadounidense Carl Rogers o el peda
 gogo brasileño Paulo Freire\, sobre el que realizaría una de sus tesis d
 octorales.\nPor su parte\, José Miguel Perera es poeta\, investigador\, c
 rítico literario y profesor de Enseñanza Secundaria de Lengua y Literatu
 ra. Es\, además\, coordinador de la revista BienMeSabe.org (www.bienmesa
 be.org)\, dedicada a la cultura canaria en su más amplio abanico de disci
 plinas\, en marcha desde el año 2004. Ha abordado\, en varias ocasiones y
  desde hace muchos años\, la obra y la vida de Manuel Alemán.
ATTACH;FMTTYPE=image/jpeg:https://www.larevistadelapalma.com/wp-content/up
 loads/2025/05/cartel-bien.png
CATEGORIES:Cine y Literatura,Literatura
LOCATION:Municipio de El Paso\, El Paso\, La Palma \, El Paso\, 38750\, Esp
 aña
GEO:28.652378;-17.880396
X-APPLE-STRUCTURED-LOCATION;VALUE=URI;X-ADDRESS=El Paso\, La Palma \, El Pa
 so\, 38750\, España;X-APPLE-RADIUS=100;X-TITLE=Municipio de El Paso:geo:2
 8.652378,-17.880396
END:VEVENT
END:VCALENDARBEGIN:VCALENDAR
VERSION:2.0
PRODID:-//wp-events-plugin.com//7.2.3.1//EN
TZID:Europe/London
X-WR-TIMEZONE:Europe/London
BEGIN:VEVENT
UID:3766@larevistadelapalma.com
DTSTART:20250529T170000Z
DTEND:20250529T183000Z
DTSTAMP:20250528T170335Z
URL:https://www.larevistadelapalma.com/events/psicologia-del-hombre-canari
 o-de-manuel-aleman-en-la-palma/
SUMMARY:Psicología del hombre canario\, de Manuel Alemán\, en La Palma
DESCRIPTION:La reedición reciente será presentada este jueves 29 de mayo 
 en el Punto de venta de La Cernícala. \nJosé Miguel Perera\, conocedor 
 de la obra de Alemán\, acercará la figura de este autor y de este libro 
 clave en la historia del pensamiento canario. \nPsicología del hombre ca
 nario\, publicado por primera vez en 1980\, es uno de los libros más leí
 dos y reimpresos de las Islas Canarias. La obra escrita por Manuel Alemán
  Álamo\, educador y sicoterapeuta originario de Agaete (Gran Canaria)\, s
 igue siendo motivo y chispa propicia para la reflexión sobre la realidad 
 sociopolítica y la vida pública canarias. No en vano\, algunas de las cr
 íticas actuales contra el modelo turístico\, por las que días atrás la
  ciudadanía de todas las Islas salió de nuevo a las calles\, ya eran lla
 mativamente vislumbradas por Alemán. Y no sólo eso: el volumen es frecue
 ntemente citado y mentado en numerosos estudios recientes abordados desde 
 la filología\, la sociología\, la pedagogía y otras varias disciplinas.
 \nTras haber sido presentado estos últimos meses en Las Palmas de Gran Ca
 naria\, Telde\, Agaete y La Laguna (Tenerife)\, la publicación más conoc
 ida del pensador canario se acerca este jueves 29 mayo\, a las 18:00 horas
 \, al Punto de venta de la Asociación La Cernícala (Paso de Abajo\, 77\,
  El Paso)\, en La Palma\, para acercar la significativa trayectoria person
 al e intelectual de Manuel Alemán y\, sobre todo\, algunas de las ideas c
 laves que plantea en Psicología del hombre canario. Para ello\, el inves
 tigador José Miguel Perera será el encargado de aproximar\, a través de
 l diálogo con un miembro del club de lectura La Escuela Canaria\, motivos
  importantes que lleven a sopesar hasta qué punto el libro sigue siendo v
 igente en la actualidad\, y especialmente si es pensado desde la coordenad
 a palmera del Valle de Aridane.\nEl acto está organizado conjuntamente po
 r La Escuela Canaria\, que desde su creación lleva leyendo y profundizand
 o en diversas obras importantes de la literatura y cultura canarias\; y la
  cooperativa de agricultura ecológica y local La Cernícala\, que trabaja
 \, desde el contexto palmero\, por la soberanía alimentaria y por los val
 ores del cooperativismo y las dinámicas colectivas.\nManuel Alemán Álam
 o (1931-1991) fue una figura social e intelectual con un itinerario desta
 cado en muchos sentidos\, entre otros como educador social\, sicoteraputa 
 y como rector del Seminario Diocesano de Las Palmas en los años sesenta d
 el siglo XX\, donde sería clave en la formación de los sacerdotes canari
 os que\, especialmente durante la década siguiente\, iban a aplicar en la
 s Islas el Concilio Vaticano II. A ello se suma haber sido autor de otros 
 libros de interés sobre el sicólogo estadounidense Carl Rogers o el peda
 gogo brasileño Paulo Freire\, sobre el que realizaría una de sus tesis d
 octorales.\nPor su parte\, José Miguel Perera es poeta\, investigador\, c
 rítico literario y profesor de Enseñanza Secundaria de Lengua y Literatu
 ra. Es\, además\, coordinador de la revista BienMeSabe.org (www.bienmesa
 be.org)\, dedicada a la cultura canaria en su más amplio abanico de disci
 plinas\, en marcha desde el año 2004. Ha abordado\, en varias ocasiones y
  desde hace muchos años\, la obra y la vida de Manuel Alemán.
ATTACH;FMTTYPE=image/jpeg:https://www.larevistadelapalma.com/wp-content/up
 loads/2025/05/cartel-bien.png
CATEGORIES:Cine y Literatura,Literatura
LOCATION:Municipio de El Paso\, El Paso\, La Palma \, El Paso\, 38750\, Esp
 aña
GEO:28.652378;-17.880396
X-APPLE-STRUCTURED-LOCATION;VALUE=URI;X-ADDRESS=El Paso\, La Palma \, El Pa
 so\, 38750\, España;X-APPLE-RADIUS=100;X-TITLE=Municipio de El Paso:geo:2
 8.652378,-17.880396
END:VEVENT
END:VCALENDAR