BEGIN:VCALENDAR
VERSION:2.0
PRODID:-//wp-events-plugin.com//7.2.3.1//EN
TZID:Europe/London
X-WR-TIMEZONE:Europe/London
BEGIN:VEVENT
UID:3743@larevistadelapalma.com
DTSTART:20250512T190000Z
DTEND:20250512T203000Z
DTSTAMP:20250507T222857Z
URL:https://www.larevistadelapalma.com/events/puertas-al-conosur-miguel-ma
 nescau-beatriz-alonso-t-chico/
SUMMARY:Presentación de Puertas al CONOSUR\, el nuevo proyecto musical de 
 Miguel Manescau y Beatriz Alonso
DESCRIPTION:La cita será en Teatro Chico\, el lunes 12 de mayo\, con un co
 ncierto íntimo que recorre las músicas tradicionales del sur de América
  Latina.\n\nEl próximo lunes 12 de mayo\, a las 20:00 horas\, el Teatro C
 hico de Santa Cruz de La Palma acogerá la presentación de Puertas al CON
 OSUR\, el nuevo trabajo discográfico del guitarrista y productor Miguel M
 anescau y la cantante Beatriz Alonso. El dúo llega a la isla tras present
 ar recientemente este mismo proyecto en Perú\, dentro de una gira interna
 cional que consolida su propuesta musical a ambos lados del Atlántico.\n\
 nPuertas al CONOSUR rinde homenaje a la riqueza musical de Argentina\, Chi
 le\, Uruguay y Paraguay\, con una propuesta contemporánea que fusiona gé
 neros tradicionales como la zamba\, el candombe o el huayno. Grabado entre
  Canarias\, Madrid\, Buenos Aires y Paraná\, el álbum cuenta con la cola
 boración de reconocidos músicos latinoamericanos y españoles\, y pone e
 n valor la figura de la mujer compositora en el contexto iberoamericano.\n
 \nCon un repertorio que combina profundidad\, sensibilidad y raíces\, el 
 concierto ofrece al público la oportunidad de disfrutar de una experienci
 a musical íntima y cercana. El formato del Teatro Chico refuerza este car
 ácter exclusivo\, invitando a vivir la música desde la proximidad y la e
 moción del directo.\n\nLas entradas estarán disponibles en la taquilla d
 el teatro el mismo día del evento\, desde una hora antes del comienzo. Af
 oro limitado.\n\n&nbsp\;
ATTACH;FMTTYPE=image/jpeg:https://www.larevistadelapalma.com/wp-content/up
 loads/2025/05/Puertas-al-Sur-2-scaled.jpg
CATEGORIES:Conciertos,Música
LOCATION:Teatro Chico\, Calle Díaz Pimienta\, 1\, Santa Cruz De La Palma\,
  Santa Cruz de Tenerife\, 38700\, España
GEO:28.68432;-17.764225
X-APPLE-STRUCTURED-LOCATION;VALUE=URI;X-ADDRESS=Calle Díaz Pimienta\, 1\, 
 Santa Cruz De La Palma\, Santa Cruz de Tenerife\, 38700\, España;X-APPLE-
 RADIUS=100;X-TITLE=Teatro Chico:geo:28.68432,-17.764225
END:VEVENT
END:VCALENDARBEGIN:VCALENDAR
VERSION:2.0
PRODID:-//wp-events-plugin.com//7.2.3.1//EN
TZID:Europe/London
X-WR-TIMEZONE:Europe/London
BEGIN:VEVENT
UID:3743@larevistadelapalma.com
DTSTART:20250512T190000Z
DTEND:20250512T203000Z
DTSTAMP:20250507T222857Z
URL:https://www.larevistadelapalma.com/events/puertas-al-conosur-miguel-ma
 nescau-beatriz-alonso-t-chico/
SUMMARY:Presentación de Puertas al CONOSUR\, el nuevo proyecto musical de 
 Miguel Manescau y Beatriz Alonso
DESCRIPTION:La cita será en Teatro Chico\, el lunes 12 de mayo\, con un co
 ncierto íntimo que recorre las músicas tradicionales del sur de América
  Latina.\n\nEl próximo lunes 12 de mayo\, a las 20:00 horas\, el Teatro C
 hico de Santa Cruz de La Palma acogerá la presentación de Puertas al CON
 OSUR\, el nuevo trabajo discográfico del guitarrista y productor Miguel M
 anescau y la cantante Beatriz Alonso. El dúo llega a la isla tras present
 ar recientemente este mismo proyecto en Perú\, dentro de una gira interna
 cional que consolida su propuesta musical a ambos lados del Atlántico.\n\
 nPuertas al CONOSUR rinde homenaje a la riqueza musical de Argentina\, Chi
 le\, Uruguay y Paraguay\, con una propuesta contemporánea que fusiona gé
 neros tradicionales como la zamba\, el candombe o el huayno. Grabado entre
  Canarias\, Madrid\, Buenos Aires y Paraná\, el álbum cuenta con la cola
 boración de reconocidos músicos latinoamericanos y españoles\, y pone e
 n valor la figura de la mujer compositora en el contexto iberoamericano.\n
 \nCon un repertorio que combina profundidad\, sensibilidad y raíces\, el 
 concierto ofrece al público la oportunidad de disfrutar de una experienci
 a musical íntima y cercana. El formato del Teatro Chico refuerza este car
 ácter exclusivo\, invitando a vivir la música desde la proximidad y la e
 moción del directo.\n\nLas entradas estarán disponibles en la taquilla d
 el teatro el mismo día del evento\, desde una hora antes del comienzo. Af
 oro limitado.\n\n&nbsp\;
ATTACH;FMTTYPE=image/jpeg:https://www.larevistadelapalma.com/wp-content/up
 loads/2025/05/Puertas-al-Sur-2-scaled.jpg
CATEGORIES:Conciertos,Música
LOCATION:Teatro Chico\, Calle Díaz Pimienta\, 1\, Santa Cruz De La Palma\,
  Santa Cruz de Tenerife\, 38700\, España
GEO:28.68432;-17.764225
X-APPLE-STRUCTURED-LOCATION;VALUE=URI;X-ADDRESS=Calle Díaz Pimienta\, 1\, 
 Santa Cruz De La Palma\, Santa Cruz de Tenerife\, 38700\, España;X-APPLE-
 RADIUS=100;X-TITLE=Teatro Chico:geo:28.68432,-17.764225
END:VEVENT
END:VCALENDAR