BEGIN:VCALENDAR
VERSION:2.0
PRODID:-//wp-events-plugin.com//7.2.3.1//EN
TZID:Europe/London
X-WR-TIMEZONE:Europe/London
BEGIN:VEVENT
UID:3589@larevistadelapalma.com
DTSTART:20250213T190000Z
DTEND:20250213T203000Z
DTSTAMP:20250211T190217Z
URL:https://www.larevistadelapalma.com/events/pulso-danza-africana-circo-d
 e-marte/
SUMMARY:El Festival 'Pulso' muestra el arte de la danza africana en el Teat
 ro Circo de Marte
DESCRIPTION:Fusiona danza y performance y tiene además la particularidad d
 e tener como artífices a bailarines de Burkina Faso con sordera\, integr
 antes de la compañía Fientan.\nEl Teatro Circo de Marte acoge el Festiva
 l PULSO. Este Ciclo de Artes Escénicas de África llega gracias a la Comp
 añía Fientan\, originaria de Burkina Faso.\nAclamada en el Masa d’Abid
 jan de 2024\, Festival bienal de las Artes Escénicas más importante del 
 África Occidental\, y en los Juegos de la Francofonía en Kinshasa\, esta
 rán en Canarias por primera vez como parte del Festival PULSO\, que se de
 sarrolla entre Tenerife\, Gran Canaria y La Palma.\nEl coreógrafo Yaya Sa
 nou la fundó en el año 2018 en Bobo Diouasso\, Burkina Faso\, dentro de 
 la asociación "Art au-delà du Handicap". Los ocho jóvenes bailarines qu
 e la conforman son sordos\, y el espectáculo es una  demanda de los dere
 chos de todas las personas con discapacidad\, puesto que en muchas socieda
 des africanas no tienen las mismas oportunidades.\n\nYaya Sanou\, el core
 ógrafo\, comenzó a trabajar con personas sordas en 2006. Desde entonces 
 ha desarrollado un método llamado “Vibra Signe”\, basado en la lengua
  signada\, la vibración\, la mirada\, el tacto y también la relación co
 n el suelo.\n\nEsta propuesta surge con la vocación de traer a Canarias l
 a diversidad de la creación escénica africana contemporánea. Es fruto d
 e la colaboración de los dos espacios escénicos del Gobierno de Canarias
  (Espacio La Granja y Teatro Guiniguada) y el Teatro Victoria\, que en est
 a primera edición traen a las islas espectáculos de tres compañías afr
 icanas\, que se ofrecerán entre los días 4 y 9 de febrero de 2025\, así
  como seis talleres impartidos por sus artistas. El espectáculo ‘Adepte
  de mon être’ se exhibirá también en el Teatro Circo de Marte en La P
 alma.\n\nLas entradas ya se encuentran a la venta con un precio de 10 euro
 s para todo el aforo. Pueden adquirirse en la taquilla del teatro y  onli
 ne&gt\;&gt\;
ATTACH;FMTTYPE=image/jpeg:https://www.larevistadelapalma.com/wp-content/up
 loads/2025/02/PULSO-C-Fientan.jpg
CATEGORIES:Danza,Espectáculos
LOCATION:Teatro Circo de Marte\, Calle Virgen de La Luz\, 5\, Santa Cruz de
  La Palma\, 38700\, España
GEO:28.682989;-17.765755
X-APPLE-STRUCTURED-LOCATION;VALUE=URI;X-ADDRESS=Calle Virgen de La Luz\, 5\
 , Santa Cruz de La Palma\, 38700\, España;X-APPLE-RADIUS=100;X-TITLE=Teat
 ro Circo de Marte:geo:28.682989,-17.765755
END:VEVENT
END:VCALENDARBEGIN:VCALENDAR
VERSION:2.0
PRODID:-//wp-events-plugin.com//7.2.3.1//EN
TZID:Europe/London
X-WR-TIMEZONE:Europe/London
BEGIN:VEVENT
UID:3589@larevistadelapalma.com
DTSTART:20250213T190000Z
DTEND:20250213T203000Z
DTSTAMP:20250211T190217Z
URL:https://www.larevistadelapalma.com/events/pulso-danza-africana-circo-d
 e-marte/
SUMMARY:El Festival 'Pulso' muestra el arte de la danza africana en el Teat
 ro Circo de Marte
DESCRIPTION:Fusiona danza y performance y tiene además la particularidad d
 e tener como artífices a bailarines de Burkina Faso con sordera\, integr
 antes de la compañía Fientan.\nEl Teatro Circo de Marte acoge el Festiva
 l PULSO. Este Ciclo de Artes Escénicas de África llega gracias a la Comp
 añía Fientan\, originaria de Burkina Faso.\nAclamada en el Masa d’Abid
 jan de 2024\, Festival bienal de las Artes Escénicas más importante del 
 África Occidental\, y en los Juegos de la Francofonía en Kinshasa\, esta
 rán en Canarias por primera vez como parte del Festival PULSO\, que se de
 sarrolla entre Tenerife\, Gran Canaria y La Palma.\nEl coreógrafo Yaya Sa
 nou la fundó en el año 2018 en Bobo Diouasso\, Burkina Faso\, dentro de 
 la asociación "Art au-delà du Handicap". Los ocho jóvenes bailarines qu
 e la conforman son sordos\, y el espectáculo es una  demanda de los dere
 chos de todas las personas con discapacidad\, puesto que en muchas socieda
 des africanas no tienen las mismas oportunidades.\n\nYaya Sanou\, el core
 ógrafo\, comenzó a trabajar con personas sordas en 2006. Desde entonces 
 ha desarrollado un método llamado “Vibra Signe”\, basado en la lengua
  signada\, la vibración\, la mirada\, el tacto y también la relación co
 n el suelo.\n\nEsta propuesta surge con la vocación de traer a Canarias l
 a diversidad de la creación escénica africana contemporánea. Es fruto d
 e la colaboración de los dos espacios escénicos del Gobierno de Canarias
  (Espacio La Granja y Teatro Guiniguada) y el Teatro Victoria\, que en est
 a primera edición traen a las islas espectáculos de tres compañías afr
 icanas\, que se ofrecerán entre los días 4 y 9 de febrero de 2025\, así
  como seis talleres impartidos por sus artistas. El espectáculo ‘Adepte
  de mon être’ se exhibirá también en el Teatro Circo de Marte en La P
 alma.\n\nLas entradas ya se encuentran a la venta con un precio de 10 euro
 s para todo el aforo. Pueden adquirirse en la taquilla del teatro y  onli
 ne&gt\;&gt\;
ATTACH;FMTTYPE=image/jpeg:https://www.larevistadelapalma.com/wp-content/up
 loads/2025/02/PULSO-C-Fientan.jpg
CATEGORIES:Danza,Espectáculos
LOCATION:Teatro Circo de Marte\, Calle Virgen de La Luz\, 5\, Santa Cruz de
  La Palma\, 38700\, España
GEO:28.682989;-17.765755
X-APPLE-STRUCTURED-LOCATION;VALUE=URI;X-ADDRESS=Calle Virgen de La Luz\, 5\
 , Santa Cruz de La Palma\, 38700\, España;X-APPLE-RADIUS=100;X-TITLE=Teat
 ro Circo de Marte:geo:28.682989,-17.765755
END:VEVENT
END:VCALENDAR