BEGIN:VCALENDAR
VERSION:2.0
PRODID:-//wp-events-plugin.com//7.2.3.1//EN
TZID:Europe/London
X-WR-TIMEZONE:Europe/London
BEGIN:VEVENT
UID:3560@larevistadelapalma.com
DTSTART;VALUE=DATE:20250215
DTEND;VALUE=DATE:20250216
DTSTAMP:20250123T210832Z
URL:https://www.larevistadelapalma.com/events/pulso-radio-rota-la-papaya-c
 offee/
SUMMARY:El "Pulso" de Radio Rota: concierto de Los Vinagres y DJs\, en La P
 apaya Coffee
DESCRIPTION:Esta primera edición de "Pulso"\, organizada por Radio Rota\, 
 contará con la actuación de Los Vinagres y con los DJs Higo Mordido\, Al
 berto Rodríguez e IRTAP\, que nos harán vibrar como siempre.\n\nAdemás
 \, en esta ocasión quieren que la experiencia sea inmersiva y por ello te
  invitan a que lleves tus temas favoritos en formato vinilo para que los c
 ompartas con todos los asistentes.\n\nLos Vinagres están de vuelta con u
 n nuevo disco debajo del brazo\, se llamará “Amores de Verbena” y ver
 á la luz este año 2025. Hasta entonces tienen dos adelantos “Sabrosura
 ” y “Mentira”\, dos canciones que recuperan el rock volcánico que t
 anto caracteriza a la orquesta y con el que han participado en grandes fes
 tivales y eventos del panorama nacional junto a otros artistas de renombre
 .\n\nEn PULSO prometen dar una verbena que les pondrá a cantar\, bailar y
  romperse los tobillos como solo ellos saben hacer.\n\nPULSO ■ radio rot
 a\nSábado 15 febrero | La Papaya Coffee\nAFORO LIMITADO - Precio entrada 
 18€\n\nPuntos de venta:\n@centrorosannasimon\n@elvis_cocktail_bar\n@lapa
 payacoffee\n\n
ATTACH;FMTTYPE=image/jpeg:https://www.larevistadelapalma.com/wp-content/up
 loads/2025/01/Pulso-Radio-Rota.jpg
CATEGORIES:Festivales/Fiestas,Música
LOCATION:Municipio de Los Llanos de Aridane\, Los Llanos de Aridane\, Los L
 lanos de Aridane\, 38760\, España
GEO:28.660236;-17.913187
X-APPLE-STRUCTURED-LOCATION;VALUE=URI;X-ADDRESS=Los Llanos de Aridane\, Los
  Llanos de Aridane\, 38760\, España;X-APPLE-RADIUS=100;X-TITLE=Municipio 
 de Los Llanos de Aridane:geo:28.660236,-17.913187
END:VEVENT
END:VCALENDARBEGIN:VCALENDAR
VERSION:2.0
PRODID:-//wp-events-plugin.com//7.2.3.1//EN
TZID:Europe/London
X-WR-TIMEZONE:Europe/London
BEGIN:VEVENT
UID:3560@larevistadelapalma.com
DTSTART;VALUE=DATE:20250215
DTEND;VALUE=DATE:20250216
DTSTAMP:20250123T210832Z
URL:https://www.larevistadelapalma.com/events/pulso-radio-rota-la-papaya-c
 offee/
SUMMARY:El "Pulso" de Radio Rota: concierto de Los Vinagres y DJs\, en La P
 apaya Coffee
DESCRIPTION:Esta primera edición de "Pulso"\, organizada por Radio Rota\, 
 contará con la actuación de Los Vinagres y con los DJs Higo Mordido\, Al
 berto Rodríguez e IRTAP\, que nos harán vibrar como siempre.\n\nAdemás
 \, en esta ocasión quieren que la experiencia sea inmersiva y por ello te
  invitan a que lleves tus temas favoritos en formato vinilo para que los c
 ompartas con todos los asistentes.\n\nLos Vinagres están de vuelta con u
 n nuevo disco debajo del brazo\, se llamará “Amores de Verbena” y ver
 á la luz este año 2025. Hasta entonces tienen dos adelantos “Sabrosura
 ” y “Mentira”\, dos canciones que recuperan el rock volcánico que t
 anto caracteriza a la orquesta y con el que han participado en grandes fes
 tivales y eventos del panorama nacional junto a otros artistas de renombre
 .\n\nEn PULSO prometen dar una verbena que les pondrá a cantar\, bailar y
  romperse los tobillos como solo ellos saben hacer.\n\nPULSO ■ radio rot
 a\nSábado 15 febrero | La Papaya Coffee\nAFORO LIMITADO - Precio entrada 
 18€\n\nPuntos de venta:\n@centrorosannasimon\n@elvis_cocktail_bar\n@lapa
 payacoffee\n\n
ATTACH;FMTTYPE=image/jpeg:https://www.larevistadelapalma.com/wp-content/up
 loads/2025/01/Pulso-Radio-Rota.jpg
CATEGORIES:Festivales/Fiestas,Música
LOCATION:Municipio de Los Llanos de Aridane\, Los Llanos de Aridane\, Los L
 lanos de Aridane\, 38760\, España
GEO:28.660236;-17.913187
X-APPLE-STRUCTURED-LOCATION;VALUE=URI;X-ADDRESS=Los Llanos de Aridane\, Los
  Llanos de Aridane\, 38760\, España;X-APPLE-RADIUS=100;X-TITLE=Municipio 
 de Los Llanos de Aridane:geo:28.660236,-17.913187
END:VEVENT
END:VCALENDAR