BEGIN:VCALENDAR
VERSION:2.0
PRODID:-//wp-events-plugin.com//7.2.3.1//EN
TZID:Europe/London
X-WR-TIMEZONE:Europe/London
BEGIN:VEVENT
UID:747@larevistadelapalma.com
DTSTART;VALUE=DATE:20231007
DTEND;VALUE=DATE:20231009
DTSTAMP:20231006T235945Z
URL:https://www.larevistadelapalma.com/events/puntagorda-celebra-este-fin-
 de-semana-la-v-edicion-de-mercasaldo/
SUMMARY:Puntagorda celebra este fin de semana la V edición de ‘Mercasald
 o’
DESCRIPTION:La Feria de Oportunidades\, organizada por la Agencia de Empleo
  y Desarrollo Local del Ayuntamiento de Puntagorda\, incorpora un variado 
 programa de actos con música en directo\, sorteos y actividades lúdicas 
 y de ocio para todas las edades. \n\nEl Ayuntamiento de Puntagorda celebr
 a este primer fin de semana de octubre  la V edición de ‘Mercasaldo’
 \, una feria de oportunidades y stock que se ha consolidado como espacio d
 e promoción y venta del tejido comercial del municipio\, organizada por l
 a Agencia de Empleo y Desarrollo Local.  \n\nSorteos que potencian y din
 amizan las ventas\, música en directo y actividades lúdicas para los má
 s pequeños de la familia\, son parte del programa diseñado dentro de est
 a nueva edición de Mercasaldo\, que se celebrará en el recinto exterior 
 del Mercadillo Municipal del Agricultor de Puntagorda los días 7 y 8 de o
 ctubre.\n\nEl alcalde\, Vicente Rodríguez\, invita a vecinos y visitantes
  a sumarse a esta cita. “La Feria de Oportunidades es una razón más pa
 ra pasar el fin de semana en Puntagorda\, para apoyar a nuestro tejido com
 ercial en un espacio siempre acogedor como el Mercadillo del Agricultor\, 
 donde cada fin de semana se reúnen cientos de personas”. Comerciantes y
  empresarios sacan su stock a la calle con precios de saldo en una amplia 
 gama de productos\, desde textil y calzado\, pasando por libros y papeler
 ía\, hasta productos de hogar\, informática\, telefonía y electrodomés
 ticos. \n\nEl Ayuntamiento inaugurará esta nueva edición de ‘Mercasal
 do’ a las 11:00 horas el sábado 7 de octubre\, dentro de un programa de
  actos que se desarrollará hasta las 19:00 horas y que incorpora taller d
 e manualidades e hinchables con la asociación ‘Tabayzú’\, además de
  la actuación de la parranda ‘El Lagar’\, sorteo de premios entre los
  compradores de la feria de saldos y oportunidades y una observación sola
 r a cargo de ‘Astronorte’.\n\n\nEl programa continuará el domingo 8 d
 e octubre con la apertura de stands a partir de las 11:00 horas\, con nuev
 os sorteos y actividades lúdicas para todas las edades. La nota musical d
 e esta segunda jornada de la feria de oportunidades la pondrán los integr
 antes de la parranda ‘De repente’.  \n\n\n\n&nbsp\;
ATTACH;FMTTYPE=image/jpeg:https://www.larevistadelapalma.com/wp-content/up
 loads/2023/10/Mercasaldo-Puntagorda.jpg
CATEGORIES:Ferias y mercados,Otras propuestas
LOCATION:Mercadillo de Puntagorda\, Cno. el Pinar\, 56A\, Puntagorda\, 3878
 9 \, España
GEO:28.778862;-17.973843
X-APPLE-STRUCTURED-LOCATION;VALUE=URI;X-ADDRESS=Cno. el Pinar\, 56A\, Punta
 gorda\, 38789 \, España;X-APPLE-RADIUS=100;X-TITLE=Mercadillo de Puntagor
 da:geo:28.778862,-17.973843
END:VEVENT
END:VCALENDARBEGIN:VCALENDAR
VERSION:2.0
PRODID:-//wp-events-plugin.com//7.2.3.1//EN
TZID:Europe/London
X-WR-TIMEZONE:Europe/London
BEGIN:VEVENT
UID:747@larevistadelapalma.com
DTSTART;VALUE=DATE:20231007
DTEND;VALUE=DATE:20231009
DTSTAMP:20231006T235945Z
URL:https://www.larevistadelapalma.com/events/puntagorda-celebra-este-fin-
 de-semana-la-v-edicion-de-mercasaldo/
SUMMARY:Puntagorda celebra este fin de semana la V edición de ‘Mercasald
 o’
DESCRIPTION:La Feria de Oportunidades\, organizada por la Agencia de Empleo
  y Desarrollo Local del Ayuntamiento de Puntagorda\, incorpora un variado 
 programa de actos con música en directo\, sorteos y actividades lúdicas 
 y de ocio para todas las edades. \n\nEl Ayuntamiento de Puntagorda celebr
 a este primer fin de semana de octubre  la V edición de ‘Mercasaldo’
 \, una feria de oportunidades y stock que se ha consolidado como espacio d
 e promoción y venta del tejido comercial del municipio\, organizada por l
 a Agencia de Empleo y Desarrollo Local.  \n\nSorteos que potencian y din
 amizan las ventas\, música en directo y actividades lúdicas para los má
 s pequeños de la familia\, son parte del programa diseñado dentro de est
 a nueva edición de Mercasaldo\, que se celebrará en el recinto exterior 
 del Mercadillo Municipal del Agricultor de Puntagorda los días 7 y 8 de o
 ctubre.\n\nEl alcalde\, Vicente Rodríguez\, invita a vecinos y visitantes
  a sumarse a esta cita. “La Feria de Oportunidades es una razón más pa
 ra pasar el fin de semana en Puntagorda\, para apoyar a nuestro tejido com
 ercial en un espacio siempre acogedor como el Mercadillo del Agricultor\, 
 donde cada fin de semana se reúnen cientos de personas”. Comerciantes y
  empresarios sacan su stock a la calle con precios de saldo en una amplia 
 gama de productos\, desde textil y calzado\, pasando por libros y papeler
 ía\, hasta productos de hogar\, informática\, telefonía y electrodomés
 ticos. \n\nEl Ayuntamiento inaugurará esta nueva edición de ‘Mercasal
 do’ a las 11:00 horas el sábado 7 de octubre\, dentro de un programa de
  actos que se desarrollará hasta las 19:00 horas y que incorpora taller d
 e manualidades e hinchables con la asociación ‘Tabayzú’\, además de
  la actuación de la parranda ‘El Lagar’\, sorteo de premios entre los
  compradores de la feria de saldos y oportunidades y una observación sola
 r a cargo de ‘Astronorte’.\n\n\nEl programa continuará el domingo 8 d
 e octubre con la apertura de stands a partir de las 11:00 horas\, con nuev
 os sorteos y actividades lúdicas para todas las edades. La nota musical d
 e esta segunda jornada de la feria de oportunidades la pondrán los integr
 antes de la parranda ‘De repente’.  \n\n\n\n&nbsp\;
ATTACH;FMTTYPE=image/jpeg:https://www.larevistadelapalma.com/wp-content/up
 loads/2023/10/Mercasaldo-Puntagorda.jpg
CATEGORIES:Ferias y mercados,Otras propuestas
LOCATION:Mercadillo de Puntagorda\, Cno. el Pinar\, 56A\, Puntagorda\, 3878
 9 \, España
GEO:28.778862;-17.973843
X-APPLE-STRUCTURED-LOCATION;VALUE=URI;X-ADDRESS=Cno. el Pinar\, 56A\, Punta
 gorda\, 38789 \, España;X-APPLE-RADIUS=100;X-TITLE=Mercadillo de Puntagor
 da:geo:28.778862,-17.973843
END:VEVENT
END:VCALENDAR