BEGIN:VCALENDAR
VERSION:2.0
PRODID:-//wp-events-plugin.com//7.2.3.1//EN
TZID:Europe/London
X-WR-TIMEZONE:Europe/London
BEGIN:VEVENT
UID:3665@larevistadelapalma.com
DTSTART;VALUE=DATE:20250328
DTEND;VALUE=DATE:20250330
DTSTAMP:20250327T183042Z
URL:https://www.larevistadelapalma.com/events/puntallana-despide-el-carnav
 al-con-el-tradicional-entierro-de-la-sardina/
SUMMARY:Puntallana despide el Carnaval con el tradicional Entierro de la S
 ardina
DESCRIPTION:Diferentes actos completan el programa dedicado en esta edició
 n al Espacio Puntallana se prepara para vivir\, este fin de semana 28 y 29
  de marzo\, el Entierro de la Sardina que pondrán fin\, por este año\, a
  los actos del Carnaval.\n\nLa cabalgata de los centros educativos del mun
 icipio será el primer evento que se desarrolle\, a partir de las 18:00h\,
  el viernes. Con sus mejores disfraces acompañarán a “la sardinita” 
 en su último recorrido por las calles del pueblo\, junto a la batucada de
  la Academia de Música de Puntallana. A continuación\, a las 19:00\, en 
 la Plaza San Juan tendrá lugar el espectáculo infantil “Planeta Komba
 ”. El día finalizará con la quema de la sardinita y a continuación at
 racciones hinchables para los más pequeños.\n\nEl sábado\, a las 12:00h
  se presentará junto a la batucada de la Academia de Música la sardina e
 n los exteriores del Mercadillo. Habrá atracciones hinchables para los m
 ás pequeños\, reparto de sardinas asadas y verbena con Los 3 de Caña.\n
 \nPor la noche\, a partir de las 20:00h\, Zebensuí Melián amenizará la 
 espera hasta que parta la comitiva que acompañará a la sardina en su rec
 orrido por las calles del casco urbano. Una vez incinerada comenzará la g
 ran verbena en la plaza de San Juan con las orquestas Tropicana’s y Mara
 caibo.
ATTACH;FMTTYPE=image/jpeg:https://www.larevistadelapalma.com/wp-content/up
 loads/2025/03/PLANTILLA-FOTOS-AYTO-HORIZONTAL-1-scaled.jpg
CATEGORIES:Fiestas populares,Otras propuestas
LOCATION:Plaza de San Juan en Puntallna\, Calle Constitución\, s/n\, Punta
 llana\, 38715\, España
GEO:28.739777;-17.745493
X-APPLE-STRUCTURED-LOCATION;VALUE=URI;X-ADDRESS=Calle Constitución\, s/n\,
  Puntallana\, 38715\, España;X-APPLE-RADIUS=100;X-TITLE=Plaza de San Juan
  en Puntallna:geo:28.739777,-17.745493
END:VEVENT
END:VCALENDARBEGIN:VCALENDAR
VERSION:2.0
PRODID:-//wp-events-plugin.com//7.2.3.1//EN
TZID:Europe/London
X-WR-TIMEZONE:Europe/London
BEGIN:VEVENT
UID:3665@larevistadelapalma.com
DTSTART;VALUE=DATE:20250328
DTEND;VALUE=DATE:20250330
DTSTAMP:20250327T183042Z
URL:https://www.larevistadelapalma.com/events/puntallana-despide-el-carnav
 al-con-el-tradicional-entierro-de-la-sardina/
SUMMARY:Puntallana despide el Carnaval con el tradicional Entierro de la S
 ardina
DESCRIPTION:Diferentes actos completan el programa dedicado en esta edició
 n al Espacio Puntallana se prepara para vivir\, este fin de semana 28 y 29
  de marzo\, el Entierro de la Sardina que pondrán fin\, por este año\, a
  los actos del Carnaval.\n\nLa cabalgata de los centros educativos del mun
 icipio será el primer evento que se desarrolle\, a partir de las 18:00h\,
  el viernes. Con sus mejores disfraces acompañarán a “la sardinita” 
 en su último recorrido por las calles del pueblo\, junto a la batucada de
  la Academia de Música de Puntallana. A continuación\, a las 19:00\, en 
 la Plaza San Juan tendrá lugar el espectáculo infantil “Planeta Komba
 ”. El día finalizará con la quema de la sardinita y a continuación at
 racciones hinchables para los más pequeños.\n\nEl sábado\, a las 12:00h
  se presentará junto a la batucada de la Academia de Música la sardina e
 n los exteriores del Mercadillo. Habrá atracciones hinchables para los m
 ás pequeños\, reparto de sardinas asadas y verbena con Los 3 de Caña.\n
 \nPor la noche\, a partir de las 20:00h\, Zebensuí Melián amenizará la 
 espera hasta que parta la comitiva que acompañará a la sardina en su rec
 orrido por las calles del casco urbano. Una vez incinerada comenzará la g
 ran verbena en la plaza de San Juan con las orquestas Tropicana’s y Mara
 caibo.
ATTACH;FMTTYPE=image/jpeg:https://www.larevistadelapalma.com/wp-content/up
 loads/2025/03/PLANTILLA-FOTOS-AYTO-HORIZONTAL-1-scaled.jpg
CATEGORIES:Fiestas populares,Otras propuestas
LOCATION:Plaza de San Juan en Puntallna\, Calle Constitución\, s/n\, Punta
 llana\, 38715\, España
GEO:28.739777;-17.745493
X-APPLE-STRUCTURED-LOCATION;VALUE=URI;X-ADDRESS=Calle Constitución\, s/n\,
  Puntallana\, 38715\, España;X-APPLE-RADIUS=100;X-TITLE=Plaza de San Juan
  en Puntallna:geo:28.739777,-17.745493
END:VEVENT
END:VCALENDAR