BEGIN:VCALENDAR
VERSION:2.0
PRODID:-//wp-events-plugin.com//7.2.3.1//EN
TZID:Europe/London
X-WR-TIMEZONE:Europe/London
BEGIN:VEVENT
UID:3031@larevistadelapalma.com
DTSTART:20240609T183000Z
DTEND:20240609T200000Z
DTSTAMP:20240605T211946Z
URL:https://www.larevistadelapalma.com/events/que-hambre-que-sed-que-frio-
 una-obra-de-troysteatro-en-villa-de-mazo/
SUMMARY:¡Qué hambre\, qué sed\, qué frío! una obra de Troysteatro\,
  en Villa de Mazo
DESCRIPTION:Lúdica\, delirante\, irónica y profunda.\nNominación en los 
 Premios Réplica 2022 a la mejor actuación.\n\nLa obra  de Toys Teatro\,
  descubre el alma de un actor\, Pobre\, que llega al “aquí y el ahora
 ” tras vagar por el tiempo y el espacio. Momentos intensos\, divertidos\
 , erráticos\, inseguros\, encendidos y temerosos\, en una obra centrada e
 n la presencia y capacidad actoral de su protagonista\, Yiyo Alonso\, prof
 esional de extensa experiencia en escenarios nacionales e internacionales\
 , y en la dirección y dramaturgia de Pedro Martín sobre una selecció
 n de textos de autores como Miguel Ángel Collantes\, Juan Ramón Jimén
 ez\, Sanchís Sinisterra\, Lope de Vega\, Julio Salvatierra\, Federico Ga 
 Lorca\, Antonio Lorenzo\, Edmonton Rostand\, Alfonso Sastre y Calderón de
  la Barca.\n\nYiyo Alonso\, dirigido por Pedro A. Martín\, construye un p
 ersonaje noble\, hermoso\, que se comporta dignamente sobre las tablas\, e
 n un esfuerzo creador comprometido con las circunstancias en que se encuen
 tra. Desde el principio aprende a andar\, a hablar\, a ver\, a actuar…\,
  y aparece un flujo de energía que busca conectar con los espectadores\, 
 un ejercicio contenido de gestualidad\, emotivo en su propósito\, intangi
 ble en sus intenciones: un Bululú\, un actor solo\, único intérprete 
 de loas o pequeñas comedias que intenta crear diversión.
ATTACH;FMTTYPE=image/jpeg:https://www.larevistadelapalma.com/wp-content/up
 loads/2024/06/Que-hambre-que-sed-que-frio.jpg
CATEGORIES:Espectáculos,Teatro
LOCATION:Centro de la Cultura Andares\, Ctra. Dr. Morera Bravo\, 2. El Pueb
 lo.\, Villa de Mazo\, 38730\, España
GEO:28.604882;-17.777431
X-APPLE-STRUCTURED-LOCATION;VALUE=URI;X-ADDRESS=Ctra. Dr. Morera Bravo\, 2.
  El Pueblo.\, Villa de Mazo\, 38730\, España;X-APPLE-RADIUS=100;X-TITLE=C
 entro de la Cultura Andares:geo:28.604882,-17.777431
END:VEVENT
END:VCALENDARBEGIN:VCALENDAR
VERSION:2.0
PRODID:-//wp-events-plugin.com//7.2.3.1//EN
TZID:Europe/London
X-WR-TIMEZONE:Europe/London
BEGIN:VEVENT
UID:3031@larevistadelapalma.com
DTSTART:20240609T183000Z
DTEND:20240609T200000Z
DTSTAMP:20240605T211946Z
URL:https://www.larevistadelapalma.com/events/que-hambre-que-sed-que-frio-
 una-obra-de-troysteatro-en-villa-de-mazo/
SUMMARY:¡Qué hambre\, qué sed\, qué frío! una obra de Troysteatro\,
  en Villa de Mazo
DESCRIPTION:Lúdica\, delirante\, irónica y profunda.\nNominación en los 
 Premios Réplica 2022 a la mejor actuación.\n\nLa obra  de Toys Teatro\,
  descubre el alma de un actor\, Pobre\, que llega al “aquí y el ahora
 ” tras vagar por el tiempo y el espacio. Momentos intensos\, divertidos\
 , erráticos\, inseguros\, encendidos y temerosos\, en una obra centrada e
 n la presencia y capacidad actoral de su protagonista\, Yiyo Alonso\, prof
 esional de extensa experiencia en escenarios nacionales e internacionales\
 , y en la dirección y dramaturgia de Pedro Martín sobre una selecció
 n de textos de autores como Miguel Ángel Collantes\, Juan Ramón Jimén
 ez\, Sanchís Sinisterra\, Lope de Vega\, Julio Salvatierra\, Federico Ga 
 Lorca\, Antonio Lorenzo\, Edmonton Rostand\, Alfonso Sastre y Calderón de
  la Barca.\n\nYiyo Alonso\, dirigido por Pedro A. Martín\, construye un p
 ersonaje noble\, hermoso\, que se comporta dignamente sobre las tablas\, e
 n un esfuerzo creador comprometido con las circunstancias en que se encuen
 tra. Desde el principio aprende a andar\, a hablar\, a ver\, a actuar…\,
  y aparece un flujo de energía que busca conectar con los espectadores\, 
 un ejercicio contenido de gestualidad\, emotivo en su propósito\, intangi
 ble en sus intenciones: un Bululú\, un actor solo\, único intérprete 
 de loas o pequeñas comedias que intenta crear diversión.
ATTACH;FMTTYPE=image/jpeg:https://www.larevistadelapalma.com/wp-content/up
 loads/2024/06/Que-hambre-que-sed-que-frio.jpg
CATEGORIES:Espectáculos,Teatro
LOCATION:Centro de la Cultura Andares\, Ctra. Dr. Morera Bravo\, 2. El Pueb
 lo.\, Villa de Mazo\, 38730\, España
GEO:28.604882;-17.777431
X-APPLE-STRUCTURED-LOCATION;VALUE=URI;X-ADDRESS=Ctra. Dr. Morera Bravo\, 2.
  El Pueblo.\, Villa de Mazo\, 38730\, España;X-APPLE-RADIUS=100;X-TITLE=C
 entro de la Cultura Andares:geo:28.604882,-17.777431
END:VEVENT
END:VCALENDAR