BEGIN:VCALENDAR
VERSION:2.0
PRODID:-//wp-events-plugin.com//7.2.3.1//EN
TZID:Europe/London
X-WR-TIMEZONE:Europe/London
BEGIN:VEVENT
UID:3904@larevistadelapalma.com
DTSTART;VALUE=DATE:20250822
DTEND;VALUE=DATE:20250825
DTSTAMP:20250821T225210Z
URL:https://www.larevistadelapalma.com/events/raices-vivas-artemercado-en-
 los-cancajos/
SUMMARY:Raíces Vivas: Artemercado en Los Cancajos
DESCRIPTION:Tendrán música en vivo\, dj\, talleres de artesanía\, degust
 aciones y muchas sorpresas.
ATTACH;FMTTYPE=image/jpeg:https://www.larevistadelapalma.com/wp-content/up
 loads/2025/08/Raices-vivas.jpg
CATEGORIES:Ferias y mercados,Otras propuestas,Varios
LOCATION:Antiguas Salinas de Los Cancajos\, P.º del litoral\, Breña Baja\
 , 38712\, España
GEO:28.650095;-17.75849
X-APPLE-STRUCTURED-LOCATION;VALUE=URI;X-ADDRESS=P.º del litoral\, Breña B
 aja\, 38712\, España;X-APPLE-RADIUS=100;X-TITLE=Antiguas Salinas de Los C
 ancajos:geo:28.650095,-17.75849
END:VEVENT
END:VCALENDARBEGIN:VCALENDAR
VERSION:2.0
PRODID:-//wp-events-plugin.com//7.2.3.1//EN
TZID:Europe/London
X-WR-TIMEZONE:Europe/London
BEGIN:VEVENT
UID:3904@larevistadelapalma.com
DTSTART;VALUE=DATE:20250822
DTEND;VALUE=DATE:20250825
DTSTAMP:20250821T225210Z
URL:https://www.larevistadelapalma.com/events/raices-vivas-artemercado-en-
 los-cancajos/
SUMMARY:Raíces Vivas: Artemercado en Los Cancajos
DESCRIPTION:Tendrán música en vivo\, dj\, talleres de artesanía\, degust
 aciones y muchas sorpresas.
ATTACH;FMTTYPE=image/jpeg:https://www.larevistadelapalma.com/wp-content/up
 loads/2025/08/Raices-vivas.jpg
CATEGORIES:Ferias y mercados,Otras propuestas,Varios
LOCATION:Antiguas Salinas de Los Cancajos\, P.º del litoral\, Breña Baja\
 , 38712\, España
GEO:28.650095;-17.75849
X-APPLE-STRUCTURED-LOCATION;VALUE=URI;X-ADDRESS=P.º del litoral\, Breña B
 aja\, 38712\, España;X-APPLE-RADIUS=100;X-TITLE=Antiguas Salinas de Los C
 ancajos:geo:28.650095,-17.75849
END:VEVENT
END:VCALENDAR