BEGIN:VCALENDAR
VERSION:2.0
PRODID:-//wp-events-plugin.com//7.2.3.1//EN
TZID:Europe/London
X-WR-TIMEZONE:Europe/London
BEGIN:VEVENT
UID:3300@larevistadelapalma.com
DTSTART:20241012T203000Z
DTEND:20241012T220000Z
DTSTAMP:20240928T203512Z
URL:https://www.larevistadelapalma.com/events/rebeca-mora-duo-en-la-casa-d
 el-conde/
SUMMARY:Rebeca Mora Dúo en la Casa del Conde
DESCRIPTION:Un evento incluido en la programación del Festival Tensamba.\n
 El Festival Tensamba sigue su recorrido por la Isla\, homenajeando a la cu
 ltura brasileña\, en esta ocasión en la Casa del Conde de Argual\, con e
 l dúo formado por Rebeca Mora y el músico Tomás LP Cruz.\n\nRebeca Mora
  destaca por su atractiva voz\, con múltiples registros e influenciada po
 r cantantes como Rosa Passos\, Elis Regina\, Stacey Kent\, Ella Fitzgerald
  o Steve Wonder. Hace 14 años comenzó su carrera musical con un cuarteto
  vocal dirigido por Chabela Arnao\, artista cubana residente en la isla de
  La Palma\, para pasar a actuar en vivo compartiendo escenario con Alexand
 er Sputh\, lo que le permitió definir su estilo.\n\nTomás López-Perea\,
  además de ser un músico con una extensa carrera internacional\, es el f
 undador y director del Festival Tensamba.\nEntradas aquí &gt\;&gt\;
ATTACH;FMTTYPE=image/jpeg:https://www.larevistadelapalma.com/wp-content/up
 loads/2024/09/Rebeca-Mora.jpg
CATEGORIES:Conciertos,Música
LOCATION:Casa del Conde\, Los Llanos de Aridane\, C/San Antonio\, 35 - Llan
 o de Argual\, Los Llanos de Aridane\, 38760\, España
GEO:28.655333;-17.926641
X-APPLE-STRUCTURED-LOCATION;VALUE=URI;X-ADDRESS=C/San Antonio\, 35 - Llano 
 de Argual\, Los Llanos de Aridane\, 38760\, España;X-APPLE-RADIUS=100;X-T
 ITLE=Casa del Conde\, Los Llanos de Aridane:geo:28.655333,-17.926641
END:VEVENT
END:VCALENDARBEGIN:VCALENDAR
VERSION:2.0
PRODID:-//wp-events-plugin.com//7.2.3.1//EN
TZID:Europe/London
X-WR-TIMEZONE:Europe/London
BEGIN:VEVENT
UID:3300@larevistadelapalma.com
DTSTART:20241012T203000Z
DTEND:20241012T220000Z
DTSTAMP:20240928T203512Z
URL:https://www.larevistadelapalma.com/events/rebeca-mora-duo-en-la-casa-d
 el-conde/
SUMMARY:Rebeca Mora Dúo en la Casa del Conde
DESCRIPTION:Un evento incluido en la programación del Festival Tensamba.\n
 El Festival Tensamba sigue su recorrido por la Isla\, homenajeando a la cu
 ltura brasileña\, en esta ocasión en la Casa del Conde de Argual\, con e
 l dúo formado por Rebeca Mora y el músico Tomás LP Cruz.\n\nRebeca Mora
  destaca por su atractiva voz\, con múltiples registros e influenciada po
 r cantantes como Rosa Passos\, Elis Regina\, Stacey Kent\, Ella Fitzgerald
  o Steve Wonder. Hace 14 años comenzó su carrera musical con un cuarteto
  vocal dirigido por Chabela Arnao\, artista cubana residente en la isla de
  La Palma\, para pasar a actuar en vivo compartiendo escenario con Alexand
 er Sputh\, lo que le permitió definir su estilo.\n\nTomás López-Perea\,
  además de ser un músico con una extensa carrera internacional\, es el f
 undador y director del Festival Tensamba.\nEntradas aquí &gt\;&gt\;
ATTACH;FMTTYPE=image/jpeg:https://www.larevistadelapalma.com/wp-content/up
 loads/2024/09/Rebeca-Mora.jpg
CATEGORIES:Conciertos,Música
LOCATION:Casa del Conde\, Los Llanos de Aridane\, C/San Antonio\, 35 - Llan
 o de Argual\, Los Llanos de Aridane\, 38760\, España
GEO:28.655333;-17.926641
X-APPLE-STRUCTURED-LOCATION;VALUE=URI;X-ADDRESS=C/San Antonio\, 35 - Llano 
 de Argual\, Los Llanos de Aridane\, 38760\, España;X-APPLE-RADIUS=100;X-T
 ITLE=Casa del Conde\, Los Llanos de Aridane:geo:28.655333,-17.926641
END:VEVENT
END:VCALENDAR