BEGIN:VCALENDAR
VERSION:2.0
PRODID:-//wp-events-plugin.com//7.2.3.1//EN
TZID:Europe/London
X-WR-TIMEZONE:Europe/London
BEGIN:VEVENT
UID:3786@larevistadelapalma.com
DTSTART:20250612T180000Z
DTEND:20250612T193000Z
DTSTAMP:20250602T225344Z
URL:https://www.larevistadelapalma.com/events/recital-de-zarzuela-en-tijar
 afe/
SUMMARY:Recital de Zarzuela en Tijarafe
DESCRIPTION:Coral Municipal de Tijarafe con Blanca Quevedo al piano.\n\n
ATTACH;FMTTYPE=image/jpeg:https://www.larevistadelapalma.com/wp-content/up
 loads/2025/06/Recital-Zarzuela-Tijarafe.jpg
CATEGORIES:Espectáculos
LOCATION:Casa de La Décima\, Tijarafe\, C. La Luz\, 3\,\, Tijarafe\, 38780
 \, España
GEO:28.711284;-17.955549
X-APPLE-STRUCTURED-LOCATION;VALUE=URI;X-ADDRESS=C. La Luz\, 3\,\, Tijarafe\
 , 38780\, España;X-APPLE-RADIUS=100;X-TITLE=Casa de La Décima\, Tijarafe
 :geo:28.711284,-17.955549
END:VEVENT
END:VCALENDARBEGIN:VCALENDAR
VERSION:2.0
PRODID:-//wp-events-plugin.com//7.2.3.1//EN
TZID:Europe/London
X-WR-TIMEZONE:Europe/London
BEGIN:VEVENT
UID:3786@larevistadelapalma.com
DTSTART:20250612T180000Z
DTEND:20250612T193000Z
DTSTAMP:20250602T225344Z
URL:https://www.larevistadelapalma.com/events/recital-de-zarzuela-en-tijar
 afe/
SUMMARY:Recital de Zarzuela en Tijarafe
DESCRIPTION:Coral Municipal de Tijarafe con Blanca Quevedo al piano.\n\n
ATTACH;FMTTYPE=image/jpeg:https://www.larevistadelapalma.com/wp-content/up
 loads/2025/06/Recital-Zarzuela-Tijarafe.jpg
CATEGORIES:Espectáculos
LOCATION:Casa de La Décima\, Tijarafe\, C. La Luz\, 3\,\, Tijarafe\, 38780
 \, España
GEO:28.711284;-17.955549
X-APPLE-STRUCTURED-LOCATION;VALUE=URI;X-ADDRESS=C. La Luz\, 3\,\, Tijarafe\
 , 38780\, España;X-APPLE-RADIUS=100;X-TITLE=Casa de La Décima\, Tijarafe
 :geo:28.711284,-17.955549
END:VEVENT
END:VCALENDAR