BEGIN:VCALENDAR
VERSION:2.0
PRODID:-//wp-events-plugin.com//7.2.3.1//EN
TZID:Europe/London
X-WR-TIMEZONE:Europe/London
BEGIN:VEVENT
UID:3067@larevistadelapalma.com
DTSTART:20240620T173000Z
DTEND:20240620T203000Z
DTSTAMP:20240614T153606Z
URL:https://www.larevistadelapalma.com/events/representaciones-de-fin-de-c
 urso-infantil-y-juvenil-de-la-escuela-de-teatro-pilar-rey/
SUMMARY:Representaciones de Fin de curso (infantil y juvenil) de la Escuela
  de Teatro Pilar Rey
DESCRIPTION:\nEl jueves 20 de junio tendrá lugar el fin de curso infantil 
 y juvenil de la Escuela Municipal de Teatro de Santa Cruz de La Palma.\nSe
  representarán diferentes piezas a cargo de los diversos grupos de la esc
 uela.\n\n\n 	Por parte de la agrupación infantil se representarán: ‘As
 í nos va’\, ‘El Hueco’\, ‘Aeropuerto’.\n 	Por el lado de los gr
 upos adolescentes podrán ver ‘Barracón’\, la comedia futurista ‘Wi
 ja Wifi’ y ‘Los niños de la basura’\, de Carlos De León.\n 	El gru
 po Jóvenes personificarán a los personajes de ‘El método de Gronhölm
 ’ de Jordi Galcerán\n\nEntrada libre\, previa retirada de invitación e
 n la taquilla.\n\n
ATTACH;FMTTYPE=image/jpeg:https://www.larevistadelapalma.com/wp-content/up
 loads/2024/06/Teatro-fin-de-curso-infantil-y-juvenil-santa-cruz.jpg
CATEGORIES:Espectáculos,Teatro
LOCATION:Teatro Circo de Marte\, Calle Virgen de La Luz\, 5\, Santa Cruz de
  La Palma\, 38700\, España
GEO:28.682989;-17.765755
X-APPLE-STRUCTURED-LOCATION;VALUE=URI;X-ADDRESS=Calle Virgen de La Luz\, 5\
 , Santa Cruz de La Palma\, 38700\, España;X-APPLE-RADIUS=100;X-TITLE=Teat
 ro Circo de Marte:geo:28.682989,-17.765755
END:VEVENT
END:VCALENDARBEGIN:VCALENDAR
VERSION:2.0
PRODID:-//wp-events-plugin.com//7.2.3.1//EN
TZID:Europe/London
X-WR-TIMEZONE:Europe/London
BEGIN:VEVENT
UID:3067@larevistadelapalma.com
DTSTART:20240620T173000Z
DTEND:20240620T203000Z
DTSTAMP:20240614T153606Z
URL:https://www.larevistadelapalma.com/events/representaciones-de-fin-de-c
 urso-infantil-y-juvenil-de-la-escuela-de-teatro-pilar-rey/
SUMMARY:Representaciones de Fin de curso (infantil y juvenil) de la Escuela
  de Teatro Pilar Rey
DESCRIPTION:\nEl jueves 20 de junio tendrá lugar el fin de curso infantil 
 y juvenil de la Escuela Municipal de Teatro de Santa Cruz de La Palma.\nSe
  representarán diferentes piezas a cargo de los diversos grupos de la esc
 uela.\n\n\n 	Por parte de la agrupación infantil se representarán: ‘As
 í nos va’\, ‘El Hueco’\, ‘Aeropuerto’.\n 	Por el lado de los gr
 upos adolescentes podrán ver ‘Barracón’\, la comedia futurista ‘Wi
 ja Wifi’ y ‘Los niños de la basura’\, de Carlos De León.\n 	El gru
 po Jóvenes personificarán a los personajes de ‘El método de Gronhölm
 ’ de Jordi Galcerán\n\nEntrada libre\, previa retirada de invitación e
 n la taquilla.\n\n
ATTACH;FMTTYPE=image/jpeg:https://www.larevistadelapalma.com/wp-content/up
 loads/2024/06/Teatro-fin-de-curso-infantil-y-juvenil-santa-cruz.jpg
CATEGORIES:Espectáculos,Teatro
LOCATION:Teatro Circo de Marte\, Calle Virgen de La Luz\, 5\, Santa Cruz de
  La Palma\, 38700\, España
GEO:28.682989;-17.765755
X-APPLE-STRUCTURED-LOCATION;VALUE=URI;X-ADDRESS=Calle Virgen de La Luz\, 5\
 , Santa Cruz de La Palma\, 38700\, España;X-APPLE-RADIUS=100;X-TITLE=Teat
 ro Circo de Marte:geo:28.682989,-17.765755
END:VEVENT
END:VCALENDAR