BEGIN:VCALENDAR
VERSION:2.0
PRODID:-//wp-events-plugin.com//7.2.3.1//EN
TZID:Europe/London
X-WR-TIMEZONE:Europe/London
BEGIN:VEVENT
UID:580@larevistadelapalma.com
DTSTART:20230803T193000Z
DTEND:20230803T203000Z
DTSTAMP:20230802T182459Z
URL:https://www.larevistadelapalma.com/events/reservorio-cultural-y-etnogr
 afico-de-barlovento-a-traves-de-su-toponomia/
SUMMARY:Presentación del libro "Reservorio cultural y etnográfico de Barl
 ovento a través de su toponimia"
DESCRIPTION:El jueves día 3 de agosto se presenta\, en el salón de actos 
 Leocadio Ortega Hernández de La Casa del La Cultura\, el Libro: "Reservor
 io cultural y etnográfico de Barlovento a través de su toponomia" del hi
 storiador Horacio Concepcion García.\n\nIntervienen Jacob Qadri Hijazo y
  José Miguel Rodríguez Pérez.\n\nEn la programación de las Fiestas del
  Rosario &gt\;&gt\;
ATTACH;FMTTYPE=image/jpeg:https://www.larevistadelapalma.com/wp-content/up
 loads/2023/08/Reservorio-cultural-y-etnografico-de-Barlovento-a-traves-de-
 su-toponomia.jpg
CATEGORIES:Cine y Literatura,Literatura
LOCATION:Casa de La Cultura de Barlovento\, Travesía Casco Urbano\, 9\, Ba
 rlovento\, 38726\, España
GEO:28.829961;-17.802585
X-APPLE-STRUCTURED-LOCATION;VALUE=URI;X-ADDRESS=Travesía Casco Urbano\, 9\
 , Barlovento\, 38726\, España;X-APPLE-RADIUS=100;X-TITLE=Casa de La Cultu
 ra de Barlovento:geo:28.829961,-17.802585
END:VEVENT
END:VCALENDARBEGIN:VCALENDAR
VERSION:2.0
PRODID:-//wp-events-plugin.com//7.2.3.1//EN
TZID:Europe/London
X-WR-TIMEZONE:Europe/London
BEGIN:VEVENT
UID:580@larevistadelapalma.com
DTSTART:20230803T193000Z
DTEND:20230803T203000Z
DTSTAMP:20230802T182459Z
URL:https://www.larevistadelapalma.com/events/reservorio-cultural-y-etnogr
 afico-de-barlovento-a-traves-de-su-toponomia/
SUMMARY:Presentación del libro "Reservorio cultural y etnográfico de Barl
 ovento a través de su toponimia"
DESCRIPTION:El jueves día 3 de agosto se presenta\, en el salón de actos 
 Leocadio Ortega Hernández de La Casa del La Cultura\, el Libro: "Reservor
 io cultural y etnográfico de Barlovento a través de su toponomia" del hi
 storiador Horacio Concepcion García.\n\nIntervienen Jacob Qadri Hijazo y
  José Miguel Rodríguez Pérez.\n\nEn la programación de las Fiestas del
  Rosario &gt\;&gt\;
ATTACH;FMTTYPE=image/jpeg:https://www.larevistadelapalma.com/wp-content/up
 loads/2023/08/Reservorio-cultural-y-etnografico-de-Barlovento-a-traves-de-
 su-toponomia.jpg
CATEGORIES:Cine y Literatura,Literatura
LOCATION:Casa de La Cultura de Barlovento\, Travesía Casco Urbano\, 9\, Ba
 rlovento\, 38726\, España
GEO:28.829961;-17.802585
X-APPLE-STRUCTURED-LOCATION;VALUE=URI;X-ADDRESS=Travesía Casco Urbano\, 9\
 , Barlovento\, 38726\, España;X-APPLE-RADIUS=100;X-TITLE=Casa de La Cultu
 ra de Barlovento:geo:28.829961,-17.802585
END:VEVENT
END:VCALENDAR