BEGIN:VCALENDAR
VERSION:2.0
PRODID:-//wp-events-plugin.com//7.2.3.1//EN
TZID:Europe/London
X-WR-TIMEZONE:Europe/London
BEGIN:VEVENT
UID:8@larevistadelapalma.com
DTSTART:20230722T170000Z
DTEND:20230722T224500Z
DTSTAMP:20230722T143914Z
URL:https://www.larevistadelapalma.com/events/resistime-live-fest/
SUMMARY:ResisTime Live Fest
DESCRIPTION:Por motivos de salud\, Saiko no podrá actuar en el Festival.\n
 MANUEL TURIZO\, JUSTIN QUILES\, NORIEL\, SAIKO\, JUSEPH\, DANIELA GARSAL\,
  LUCHO RK\, KHARMA & SPINNHELI.
ATTACH;FMTTYPE=image/jpeg:https://www.larevistadelapalma.com/wp-content/up
 loads/2023/06/Resistime-Live-Fest.jpg
CATEGORIES:Festivales/Fiestas,Música
LOCATION:Campo de Fútbol El Paso\, Calle Vista Alegre\, 37 \, El Paso\, 38
 750\, España
GEO:28.647991;-17.883845
X-APPLE-STRUCTURED-LOCATION;VALUE=URI;X-ADDRESS=Calle Vista Alegre\, 37 \, 
 El Paso\, 38750\, España;X-APPLE-RADIUS=100;X-TITLE=Campo de Fútbol El P
 aso:geo:28.647991,-17.883845
END:VEVENT
END:VCALENDARBEGIN:VCALENDAR
VERSION:2.0
PRODID:-//wp-events-plugin.com//7.2.3.1//EN
TZID:Europe/London
X-WR-TIMEZONE:Europe/London
BEGIN:VEVENT
UID:8@larevistadelapalma.com
DTSTART:20230722T170000Z
DTEND:20230722T224500Z
DTSTAMP:20230722T143914Z
URL:https://www.larevistadelapalma.com/events/resistime-live-fest/
SUMMARY:ResisTime Live Fest
DESCRIPTION:Por motivos de salud\, Saiko no podrá actuar en el Festival.\n
 MANUEL TURIZO\, JUSTIN QUILES\, NORIEL\, SAIKO\, JUSEPH\, DANIELA GARSAL\,
  LUCHO RK\, KHARMA & SPINNHELI.
ATTACH;FMTTYPE=image/jpeg:https://www.larevistadelapalma.com/wp-content/up
 loads/2023/06/Resistime-Live-Fest.jpg
CATEGORIES:Festivales/Fiestas,Música
LOCATION:Campo de Fútbol El Paso\, Calle Vista Alegre\, 37 \, El Paso\, 38
 750\, España
GEO:28.647991;-17.883845
X-APPLE-STRUCTURED-LOCATION;VALUE=URI;X-ADDRESS=Calle Vista Alegre\, 37 \, 
 El Paso\, 38750\, España;X-APPLE-RADIUS=100;X-TITLE=Campo de Fútbol El P
 aso:geo:28.647991,-17.883845
END:VEVENT
END:VCALENDAR