BEGIN:VCALENDAR
VERSION:2.0
PRODID:-//wp-events-plugin.com//7.2.3.1//EN
TZID:Europe/London
X-WR-TIMEZONE:Europe/London
BEGIN:VEVENT
UID:3644@larevistadelapalma.com
DTSTART;VALUE=DATE:20250320
DTEND;VALUE=DATE:20250321
DTSTAMP:20250313T185018Z
URL:https://www.larevistadelapalma.com/events/restaurando-historias-curso-
 de-restauracion-de-muebles-antiguos/
SUMMARY:‘Restaurando historias’ : Curso de restauración de muebles an
 tiguos
DESCRIPTION:El Cabildo impulsa la recuperación de patrimonio con el proyec
 to ‘Restaurando historias’ \n\nLa iniciativa comenzará a realizarse 
 el próximo jueves 20 de marzo.\n\nEl Cabildo de La Palma\, a través de l
 a empresa pública Sodepal\, lanza el innovador programa formativo ‘Rest
 aurando Historias’\, una iniciativa destinada a la recuperación y resta
 uración de muebles antiguos. Este proyecto\, desarrollado en colaboració
 n con la Asociación Saposá y la reconocida artesana Maritina\, tiene com
 o objetivo rescatar parte del patrimonio en desuso o deteriorado\, revalor
 izándolo como atractivo cultural\, histórico y turístico\, al tiempo qu
 e genera nuevas oportunidades económicas para la Isla.\n\nEl consejero de
  Artesanía\, Pablo Díaz Cobiella\, destaca que ‘Restaurando Historias
 ’ busca poner en valor el potencial del patrimonio insular\, acercando s
 u historia a la ciudadanía e impulsando su restauración\, tanto en el á
 mbito público como privado. El curso está dirigido a todas las personas 
 interesadas en la artesanía y la restauración de muebles\, ofreciendo un
  enfoque inclusivo y participativo.\n\nPor su parte\, la consejera de Prom
 oción Económica y consejera delegada de Sodepal\, Miriam Perestelo\, des
 taca la importancia de este proyecto\, que no solo contribuye a la conserv
 ación del patrimonio\, sino que también fomenta el interés por la artes
 anía y la restauración. Además\, brinda a los participantes conocimient
 os y habilidades que podrán aplicar en futuros proyectos personales o pro
 fesionales.\n\nEl programa tiene una duración de cuatro meses y dará com
 ienzo el próximo jueves 20 de marzo. Contará con la participación de ap
 roximadamente diez alumnos\, quienes recibirán formación especializada e
 n restauración de muebles antiguos bajo la dirección de la artesana Mari
 tina.\n\nLas clases se impartirán en dos turnos para facilitar la asisten
 cia: lunes y miércoles\, y martes y jueves. Cada sesión tendrá una dura
 ción de dos horas\, permitiendo flexibilidad y accesibilidad para los par
 ticipantes.\n\nLas inscripciones ya están disponibles y pueden realizarse
  a través de los siguientes enlaces:\n\n 	Lunes y miércoles\n 	Martes y 
 jueves\n
ATTACH;FMTTYPE=image/jpeg:https://www.larevistadelapalma.com/wp-content/up
 loads/2025/03/restauracion_muebles_antiguos.jpg
CATEGORIES:Formación,Otras propuestas
END:VEVENT
END:VCALENDARBEGIN:VCALENDAR
VERSION:2.0
PRODID:-//wp-events-plugin.com//7.2.3.1//EN
TZID:Europe/London
X-WR-TIMEZONE:Europe/London
BEGIN:VEVENT
UID:3644@larevistadelapalma.com
DTSTART;VALUE=DATE:20250320
DTEND;VALUE=DATE:20250321
DTSTAMP:20250313T185018Z
URL:https://www.larevistadelapalma.com/events/restaurando-historias-curso-
 de-restauracion-de-muebles-antiguos/
SUMMARY:‘Restaurando historias’ : Curso de restauración de muebles an
 tiguos
DESCRIPTION:El Cabildo impulsa la recuperación de patrimonio con el proyec
 to ‘Restaurando historias’ \n\nLa iniciativa comenzará a realizarse 
 el próximo jueves 20 de marzo.\n\nEl Cabildo de La Palma\, a través de l
 a empresa pública Sodepal\, lanza el innovador programa formativo ‘Rest
 aurando Historias’\, una iniciativa destinada a la recuperación y resta
 uración de muebles antiguos. Este proyecto\, desarrollado en colaboració
 n con la Asociación Saposá y la reconocida artesana Maritina\, tiene com
 o objetivo rescatar parte del patrimonio en desuso o deteriorado\, revalor
 izándolo como atractivo cultural\, histórico y turístico\, al tiempo qu
 e genera nuevas oportunidades económicas para la Isla.\n\nEl consejero de
  Artesanía\, Pablo Díaz Cobiella\, destaca que ‘Restaurando Historias
 ’ busca poner en valor el potencial del patrimonio insular\, acercando s
 u historia a la ciudadanía e impulsando su restauración\, tanto en el á
 mbito público como privado. El curso está dirigido a todas las personas 
 interesadas en la artesanía y la restauración de muebles\, ofreciendo un
  enfoque inclusivo y participativo.\n\nPor su parte\, la consejera de Prom
 oción Económica y consejera delegada de Sodepal\, Miriam Perestelo\, des
 taca la importancia de este proyecto\, que no solo contribuye a la conserv
 ación del patrimonio\, sino que también fomenta el interés por la artes
 anía y la restauración. Además\, brinda a los participantes conocimient
 os y habilidades que podrán aplicar en futuros proyectos personales o pro
 fesionales.\n\nEl programa tiene una duración de cuatro meses y dará com
 ienzo el próximo jueves 20 de marzo. Contará con la participación de ap
 roximadamente diez alumnos\, quienes recibirán formación especializada e
 n restauración de muebles antiguos bajo la dirección de la artesana Mari
 tina.\n\nLas clases se impartirán en dos turnos para facilitar la asisten
 cia: lunes y miércoles\, y martes y jueves. Cada sesión tendrá una dura
 ción de dos horas\, permitiendo flexibilidad y accesibilidad para los par
 ticipantes.\n\nLas inscripciones ya están disponibles y pueden realizarse
  a través de los siguientes enlaces:\n\n 	Lunes y miércoles\n 	Martes y 
 jueves\n
ATTACH;FMTTYPE=image/jpeg:https://www.larevistadelapalma.com/wp-content/up
 loads/2025/03/restauracion_muebles_antiguos.jpg
CATEGORIES:Formación,Otras propuestas
END:VEVENT
END:VCALENDAR