BEGIN:VCALENDAR
VERSION:2.0
PRODID:-//wp-events-plugin.com//7.2.3.1//EN
TZID:Europe/London
X-WR-TIMEZONE:Europe/London
BEGIN:VEVENT
UID:4047@larevistadelapalma.com
DTSTART;VALUE=DATE:20251108
DTEND;VALUE=DATE:20251110
DTSTAMP:20251106T174145Z
URL:https://www.larevistadelapalma.com/events/rincon-artesano-y-comercial-
 de-el-paso/
SUMMARY:Rincón artesano y comercial de El Paso
DESCRIPTION:\nUn evento que une artesanía\, comercio local y exposaldo\, e
 l sábado 8 y domingo 9 de noviembre\, en la Plaza de Las Abuelas\, Jardí
 n de La Era y calle Antonio Pino Pérez del municipio de El Paso.\n\n\n\nT
 alleres:\n\nSábado 8 de noviembre\n\n11:30 h. Taller infantil "Lindas cal
 abazas"\, impartido por Gabriela Plata. Artesanos unidos de La Palma. (A 
 partir de 6 años).\n11:30 h. Taller de jabones artesanales (reciclado) im
 partido por Doralma Cabrera.\n17:00 h.  Taller de repostería infantil si
 n glúten y sin lactosa. Impartido por “Aquí si hay”.\n Domingo 9 de
  noviembre\n\n\n\n11:30 h. Taller "Arte y vino"\, impartido por Ángela Gl
 ezal.\n\n\n11:30 h. Taller infantil de manualidades de otoño y pintacaras
 \, impartido por Centro lúdico infantil “El árbol”.\n11:30 h. Visita
  al museo de la Seda\, de la mano de Las Hilanderas.\n Inscripción a los
  talleres y vista en el teléfono 638 666 257 de 9:00 h a 13:00 h.\n\n\n 
 Música:\n\nSábado 8 de noviembre\n\n13:00 h. Grajasound y Benito Elvira.
 \n\n18:30 h. Macaca Radiata.\n\n\nDomingo 9 de noviembre\n\n\n13:30 h. Fla
 via Cruz\, “Al Cielo”. Concierto acústico.\nConsulta toda la programa
 ción en elpaso.es
ATTACH;FMTTYPE=image/jpeg:https://www.larevistadelapalma.com/wp-content/up
 loads/2025/11/Rincon-artesano-el-paso.jpg
CATEGORIES:Otras propuestas,Varios
LOCATION:Municipio de El Paso\, El Paso\, La Palma \, El Paso\, 38750\, Esp
 aña
GEO:28.652378;-17.880396
X-APPLE-STRUCTURED-LOCATION;VALUE=URI;X-ADDRESS=El Paso\, La Palma \, El Pa
 so\, 38750\, España;X-APPLE-RADIUS=100;X-TITLE=Municipio de El Paso:geo:2
 8.652378,-17.880396
END:VEVENT
END:VCALENDARBEGIN:VCALENDAR
VERSION:2.0
PRODID:-//wp-events-plugin.com//7.2.3.1//EN
TZID:Europe/London
X-WR-TIMEZONE:Europe/London
BEGIN:VEVENT
UID:4047@larevistadelapalma.com
DTSTART;VALUE=DATE:20251108
DTEND;VALUE=DATE:20251110
DTSTAMP:20251106T174145Z
URL:https://www.larevistadelapalma.com/events/rincon-artesano-y-comercial-
 de-el-paso/
SUMMARY:Rincón artesano y comercial de El Paso
DESCRIPTION:\nUn evento que une artesanía\, comercio local y exposaldo\, e
 l sábado 8 y domingo 9 de noviembre\, en la Plaza de Las Abuelas\, Jardí
 n de La Era y calle Antonio Pino Pérez del municipio de El Paso.\n\n\n\nT
 alleres:\n\nSábado 8 de noviembre\n\n11:30 h. Taller infantil "Lindas cal
 abazas"\, impartido por Gabriela Plata. Artesanos unidos de La Palma. (A 
 partir de 6 años).\n11:30 h. Taller de jabones artesanales (reciclado) im
 partido por Doralma Cabrera.\n17:00 h.  Taller de repostería infantil si
 n glúten y sin lactosa. Impartido por “Aquí si hay”.\n Domingo 9 de
  noviembre\n\n\n\n11:30 h. Taller "Arte y vino"\, impartido por Ángela Gl
 ezal.\n\n\n11:30 h. Taller infantil de manualidades de otoño y pintacaras
 \, impartido por Centro lúdico infantil “El árbol”.\n11:30 h. Visita
  al museo de la Seda\, de la mano de Las Hilanderas.\n Inscripción a los
  talleres y vista en el teléfono 638 666 257 de 9:00 h a 13:00 h.\n\n\n 
 Música:\n\nSábado 8 de noviembre\n\n13:00 h. Grajasound y Benito Elvira.
 \n\n18:30 h. Macaca Radiata.\n\n\nDomingo 9 de noviembre\n\n\n13:30 h. Fla
 via Cruz\, “Al Cielo”. Concierto acústico.\nConsulta toda la programa
 ción en elpaso.es
ATTACH;FMTTYPE=image/jpeg:https://www.larevistadelapalma.com/wp-content/up
 loads/2025/11/Rincon-artesano-el-paso.jpg
CATEGORIES:Otras propuestas,Varios
LOCATION:Municipio de El Paso\, El Paso\, La Palma \, El Paso\, 38750\, Esp
 aña
GEO:28.652378;-17.880396
X-APPLE-STRUCTURED-LOCATION;VALUE=URI;X-ADDRESS=El Paso\, La Palma \, El Pa
 so\, 38750\, España;X-APPLE-RADIUS=100;X-TITLE=Municipio de El Paso:geo:2
 8.652378,-17.880396
END:VEVENT
END:VCALENDAR