BEGIN:VCALENDAR
VERSION:2.0
PRODID:-//wp-events-plugin.com//7.2.3.1//EN
TZID:Europe/London
X-WR-TIMEZONE:Europe/London
BEGIN:VEVENT
UID:3307@larevistadelapalma.com
DTSTART:20241005T190000Z
DTEND:20241005T203000Z
DTSTAMP:20240929T183910Z
URL:https://www.larevistadelapalma.com/events/rita-dalton-museo-del-puro/
SUMMARY:"Rita Dalton" en el Museo del Puro
DESCRIPTION:\nDentro del ciclo de conciertos enmarcados en el Proyecto Cult
 ural PuroArte\, en esta ocasión con el dúo Rita Dalton\, conformado por 
 la pianista Margarita Galván y el productor Carlos Ramos (Dalton) temas p
 ropios\, con una fusión de melodías y ritmos con influencias que van des
 de el rock hasta la música alternativa.\n\n\n\n
ATTACH;FMTTYPE=image/jpeg:https://www.larevistadelapalma.com/wp-content/up
 loads/2024/09/RITA-DALTON-B-ALTA.jpg
CATEGORIES:Conciertos,Música
LOCATION:Museo del Puro Palmero\, Parque de Los Álamos\, Breña Alta\, 387
 10\, España
GEO:28.666832;-17.787186
X-APPLE-STRUCTURED-LOCATION;VALUE=URI;X-ADDRESS=Parque de Los Álamos\, Bre
 ña Alta\, 38710\, España;X-APPLE-RADIUS=100;X-TITLE=Museo del Puro Palme
 ro:geo:28.666832,-17.787186
END:VEVENT
END:VCALENDARBEGIN:VCALENDAR
VERSION:2.0
PRODID:-//wp-events-plugin.com//7.2.3.1//EN
TZID:Europe/London
X-WR-TIMEZONE:Europe/London
BEGIN:VEVENT
UID:3307@larevistadelapalma.com
DTSTART:20241005T190000Z
DTEND:20241005T203000Z
DTSTAMP:20240929T183910Z
URL:https://www.larevistadelapalma.com/events/rita-dalton-museo-del-puro/
SUMMARY:"Rita Dalton" en el Museo del Puro
DESCRIPTION:\nDentro del ciclo de conciertos enmarcados en el Proyecto Cult
 ural PuroArte\, en esta ocasión con el dúo Rita Dalton\, conformado por 
 la pianista Margarita Galván y el productor Carlos Ramos (Dalton) temas p
 ropios\, con una fusión de melodías y ritmos con influencias que van des
 de el rock hasta la música alternativa.\n\n\n\n
ATTACH;FMTTYPE=image/jpeg:https://www.larevistadelapalma.com/wp-content/up
 loads/2024/09/RITA-DALTON-B-ALTA.jpg
CATEGORIES:Conciertos,Música
LOCATION:Museo del Puro Palmero\, Parque de Los Álamos\, Breña Alta\, 387
 10\, España
GEO:28.666832;-17.787186
X-APPLE-STRUCTURED-LOCATION;VALUE=URI;X-ADDRESS=Parque de Los Álamos\, Bre
 ña Alta\, 38710\, España;X-APPLE-RADIUS=100;X-TITLE=Museo del Puro Palme
 ro:geo:28.666832,-17.787186
END:VEVENT
END:VCALENDAR