BEGIN:VCALENDAR
VERSION:2.0
PRODID:-//wp-events-plugin.com//7.2.3.1//EN
TZID:Europe/London
X-WR-TIMEZONE:Europe/London
BEGIN:VEVENT
UID:684@larevistadelapalma.com
DTSTART;VALUE=DATE:20230921
DTEND;VALUE=DATE:20231011
DTSTAMP:20230921T214035Z
URL:https://www.larevistadelapalma.com/events/rita-reise-expone-en-garafia
 -colours-of-la-palma/
SUMMARY:Rita Reise expone en Garafía “Colours of La Palma”
DESCRIPTION:Comienza una nueva propuesta expositiva en la sala de exposicio
 nes de Las Tricias\, en la Villa de Garafía.\n\nRita Reise presenta sus b
 ajo el título genérico de “Colours of La Palma”
ATTACH;FMTTYPE=image/jpeg:https://www.larevistadelapalma.com/wp-content/up
 loads/2023/09/Rita-Reise_Sala-exposiciones-Las-Tricias.jpg
CATEGORIES:Exposiciones
LOCATION:Sala de Exposiciones Las Tricias\, Casa Los Barreros. Plaza José 
 Mata\, Las Tricias s/n\, Garafía\, 38787 \, España
GEO:28.781121;-17.963295
X-APPLE-STRUCTURED-LOCATION;VALUE=URI;X-ADDRESS=Casa Los Barreros. Plaza Jo
 sé Mata\, Las Tricias s/n\, Garafía\, 38787 \, España;X-APPLE-RADIUS=10
 0;X-TITLE=Sala de Exposiciones Las Tricias:geo:28.781121,-17.963295
END:VEVENT
END:VCALENDARBEGIN:VCALENDAR
VERSION:2.0
PRODID:-//wp-events-plugin.com//7.2.3.1//EN
TZID:Europe/London
X-WR-TIMEZONE:Europe/London
BEGIN:VEVENT
UID:684@larevistadelapalma.com
DTSTART;VALUE=DATE:20230921
DTEND;VALUE=DATE:20231011
DTSTAMP:20230921T214035Z
URL:https://www.larevistadelapalma.com/events/rita-reise-expone-en-garafia
 -colours-of-la-palma/
SUMMARY:Rita Reise expone en Garafía “Colours of La Palma”
DESCRIPTION:Comienza una nueva propuesta expositiva en la sala de exposicio
 nes de Las Tricias\, en la Villa de Garafía.\n\nRita Reise presenta sus b
 ajo el título genérico de “Colours of La Palma”
ATTACH;FMTTYPE=image/jpeg:https://www.larevistadelapalma.com/wp-content/up
 loads/2023/09/Rita-Reise_Sala-exposiciones-Las-Tricias.jpg
CATEGORIES:Exposiciones
LOCATION:Sala de Exposiciones Las Tricias\, Casa Los Barreros. Plaza José 
 Mata\, Las Tricias s/n\, Garafía\, 38787 \, España
GEO:28.781121;-17.963295
X-APPLE-STRUCTURED-LOCATION;VALUE=URI;X-ADDRESS=Casa Los Barreros. Plaza Jo
 sé Mata\, Las Tricias s/n\, Garafía\, 38787 \, España;X-APPLE-RADIUS=10
 0;X-TITLE=Sala de Exposiciones Las Tricias:geo:28.781121,-17.963295
END:VEVENT
END:VCALENDAR