BEGIN:VCALENDAR
VERSION:2.0
PRODID:-//wp-events-plugin.com//7.2.3.1//EN
TZID:Europe/London
X-WR-TIMEZONE:Europe/London
BEGIN:VEVENT
UID:4003@larevistadelapalma.com
DTSTART;VALUE=DATE:20251031
DTEND;VALUE=DATE:20251102
DTSTAMP:20251007T214638Z
URL:https://www.larevistadelapalma.com/events/ritualia-el-primer-evento-de
 -la-bonita-music-vibes/
SUMMARY:Ritualia\, el primer evento de La Bonita Music Vibes
DESCRIPTION:El primer evento de La Bonita Music Vibes la nueva marca impuls
 ada por Kiosco Ocean y Grajasound. \nEntradas &gt\;&gt\;\nDRESSCODE: La 
 fiesta tendrá la temática del día de los muertos de México\, catrinas 
 etc. Tú puedes ir disfrazado o no\, acorde con la temática o con otra te
 mática halloweenera\, lo importante es ir con ganas de pasarlo bien. Para
  los que no acudan caracterizados\, Sara Eventos estará presente para dar
  ese toque especial.\n\n\n 	Tendrás comida dentro del recinto.\n 	Musica 
 en vivo con La Bonita Brass Band\, formada para la ocasión con músicos d
 e la isla.\n 	Los djs presentes serán Grajasound\, Elvira\, Zapi y  DJ b
 eatcreator que nos visitará desde la isla de Tenerife\, un clásico de la
  escena de Canarias\, que nos deleita con sus sesiones en los festivales m
 ás importantes de las islas. También darán la alternativa a djs jóvene
 s\, en esta ocasión será Martina HF la encargada de abrir el festival co
 n sus discos de vinilo.\n 	El viernes 31 realizarán dos talleres uno de p
 intacaras y juegos para los más peques y otro Dj\, ambos de entrada gratu
 ita con aforo limitado previa inscripción.\n
ATTACH;FMTTYPE=image/jpeg:https://www.larevistadelapalma.com/wp-content/up
 loads/2025/10/Ritualia.jpg
CATEGORIES:Festivales/Fiestas,Música
LOCATION:Casa del Conde\, Los Llanos de Aridane\, C/San Antonio\, 35 - Llan
 o de Argual\, Los Llanos de Aridane\, 38760\, España
GEO:28.655333;-17.926641
X-APPLE-STRUCTURED-LOCATION;VALUE=URI;X-ADDRESS=C/San Antonio\, 35 - Llano 
 de Argual\, Los Llanos de Aridane\, 38760\, España;X-APPLE-RADIUS=100;X-T
 ITLE=Casa del Conde\, Los Llanos de Aridane:geo:28.655333,-17.926641
END:VEVENT
END:VCALENDARBEGIN:VCALENDAR
VERSION:2.0
PRODID:-//wp-events-plugin.com//7.2.3.1//EN
TZID:Europe/London
X-WR-TIMEZONE:Europe/London
BEGIN:VEVENT
UID:4003@larevistadelapalma.com
DTSTART;VALUE=DATE:20251031
DTEND;VALUE=DATE:20251102
DTSTAMP:20251007T214638Z
URL:https://www.larevistadelapalma.com/events/ritualia-el-primer-evento-de
 -la-bonita-music-vibes/
SUMMARY:Ritualia\, el primer evento de La Bonita Music Vibes
DESCRIPTION:El primer evento de La Bonita Music Vibes la nueva marca impuls
 ada por Kiosco Ocean y Grajasound. \nEntradas &gt\;&gt\;\nDRESSCODE: La 
 fiesta tendrá la temática del día de los muertos de México\, catrinas 
 etc. Tú puedes ir disfrazado o no\, acorde con la temática o con otra te
 mática halloweenera\, lo importante es ir con ganas de pasarlo bien. Para
  los que no acudan caracterizados\, Sara Eventos estará presente para dar
  ese toque especial.\n\n\n 	Tendrás comida dentro del recinto.\n 	Musica 
 en vivo con La Bonita Brass Band\, formada para la ocasión con músicos d
 e la isla.\n 	Los djs presentes serán Grajasound\, Elvira\, Zapi y  DJ b
 eatcreator que nos visitará desde la isla de Tenerife\, un clásico de la
  escena de Canarias\, que nos deleita con sus sesiones en los festivales m
 ás importantes de las islas. También darán la alternativa a djs jóvene
 s\, en esta ocasión será Martina HF la encargada de abrir el festival co
 n sus discos de vinilo.\n 	El viernes 31 realizarán dos talleres uno de p
 intacaras y juegos para los más peques y otro Dj\, ambos de entrada gratu
 ita con aforo limitado previa inscripción.\n
ATTACH;FMTTYPE=image/jpeg:https://www.larevistadelapalma.com/wp-content/up
 loads/2025/10/Ritualia.jpg
CATEGORIES:Festivales/Fiestas,Música
LOCATION:Casa del Conde\, Los Llanos de Aridane\, C/San Antonio\, 35 - Llan
 o de Argual\, Los Llanos de Aridane\, 38760\, España
GEO:28.655333;-17.926641
X-APPLE-STRUCTURED-LOCATION;VALUE=URI;X-ADDRESS=C/San Antonio\, 35 - Llano 
 de Argual\, Los Llanos de Aridane\, 38760\, España;X-APPLE-RADIUS=100;X-T
 ITLE=Casa del Conde\, Los Llanos de Aridane:geo:28.655333,-17.926641
END:VEVENT
END:VCALENDAR