BEGIN:VCALENDAR
VERSION:2.0
PRODID:-//wp-events-plugin.com//7.2.3.1//EN
TZID:Europe/London
X-WR-TIMEZONE:Europe/London
BEGIN:VEVENT
UID:3382@larevistadelapalma.com
DTSTART:20241115T200000Z
DTEND:20241115T224500Z
DTSTAMP:20241105T221735Z
URL:https://www.larevistadelapalma.com/events/rock-festival-santa-cruz/
SUMMARY:Barbanegra\, Hackers y Bella Bestia en el 2º Rock Festival de Sant
 a Cruz de La Palma
DESCRIPTION:\nSanta Cruz de La Palma organiza una nueva edición del Rock F
 estival de Santa Cruz de La Palma para el próximo 15 de noviembre.\n\n\nS
 e trata de la segunda cita de una iniciativa de carácter gratuita puesta 
 en marcha el pasado año que aspira a consolidarse en la capital palmera d
 ando así espacio a un estilo musical que cuenta con un gran número de fa
 ns en el territorio insular y en el resto del Archipiélago.\n\n\n\nEl con
 cierto de rock y heavy metal tendrá lugar nuevamente en la plaza de Santo
  Domingo y contará con tres bandas:\n\n\nBarbanegra\, será la representa
 nte del rock vernáculo palmero. Cuentan con dos discos en su trayectoria:
   ‘A sangre y fuego’ y ‘Tiempos Prohibidos’ .\nDesde Las Palmas d
 e Gran Canaria llega Hackers\, que aterrizará en el Rock Festival de la c
 apital palmera para mostrar un amplio repertorio de composiciones propias 
 de rock melódico\, que nació a finales de 2016 por músicos experimentad
 os y de gran renombre en el panorama musical canario. Ganadores de los fes
 tivales regionales CAJA SONORA 2018 y la primera edición de VIVE EL ROCK 
 LPA. Su segundo disco\, ‘El poder de una canción’ ha sido nominado c
 omo Mejor Disco de Rock en los Premios Canarios de la Música 2024.\nBella
  Bestia\, la legendaria banda del glam rock español\, llega desde Madrid 
 para poner el broche a un festival con una trayectoria de más de 40 años
  en los escenarios demostrando la energía del heavy metal desde sus comie
 nzos\, cuando abrió paso a una nueva y audaz forma de vivir el rock\, con
 virtiéndose en una de las bandas más transgresoras de aquellos años.\n\
 n\nUna formación que\, a pesar de algunos momentos de receso\, no ha deja
 do de participar en giras\, conciertos y festivales y que en esta ocasión
  tendrán la oportunidad de pisar tierra palmera para hacer llegar el esp
 íritu rockero más genuino con el fin de presentar y dar un nuevo impulso
  a su trayectoria desde La Palma\, en su único concierto en Canarias.\n\n
ATTACH;FMTTYPE=image/jpeg:https://www.larevistadelapalma.com/wp-content/up
 loads/2024/11/Rock-Festival.jpg
CATEGORIES:Festivales/Fiestas,Música
LOCATION:Plaza de Santo Domingo en Santa Cruz de La Palma\, Plaza Santo Dom
 ingo\, Santa Cruz de La Palma\, 38700\, España
GEO:28.682691;-17.766334
X-APPLE-STRUCTURED-LOCATION;VALUE=URI;X-ADDRESS=Plaza Santo Domingo\, Santa
  Cruz de La Palma\, 38700\, España;X-APPLE-RADIUS=100;X-TITLE=Plaza de Sa
 nto Domingo en Santa Cruz de La Palma:geo:28.682691,-17.766334
END:VEVENT
END:VCALENDARBEGIN:VCALENDAR
VERSION:2.0
PRODID:-//wp-events-plugin.com//7.2.3.1//EN
TZID:Europe/London
X-WR-TIMEZONE:Europe/London
BEGIN:VEVENT
UID:3382@larevistadelapalma.com
DTSTART:20241115T200000Z
DTEND:20241115T224500Z
DTSTAMP:20241105T221735Z
URL:https://www.larevistadelapalma.com/events/rock-festival-santa-cruz/
SUMMARY:Barbanegra\, Hackers y Bella Bestia en el 2º Rock Festival de Sant
 a Cruz de La Palma
DESCRIPTION:\nSanta Cruz de La Palma organiza una nueva edición del Rock F
 estival de Santa Cruz de La Palma para el próximo 15 de noviembre.\n\n\nS
 e trata de la segunda cita de una iniciativa de carácter gratuita puesta 
 en marcha el pasado año que aspira a consolidarse en la capital palmera d
 ando así espacio a un estilo musical que cuenta con un gran número de fa
 ns en el territorio insular y en el resto del Archipiélago.\n\n\n\nEl con
 cierto de rock y heavy metal tendrá lugar nuevamente en la plaza de Santo
  Domingo y contará con tres bandas:\n\n\nBarbanegra\, será la representa
 nte del rock vernáculo palmero. Cuentan con dos discos en su trayectoria:
   ‘A sangre y fuego’ y ‘Tiempos Prohibidos’ .\nDesde Las Palmas d
 e Gran Canaria llega Hackers\, que aterrizará en el Rock Festival de la c
 apital palmera para mostrar un amplio repertorio de composiciones propias 
 de rock melódico\, que nació a finales de 2016 por músicos experimentad
 os y de gran renombre en el panorama musical canario. Ganadores de los fes
 tivales regionales CAJA SONORA 2018 y la primera edición de VIVE EL ROCK 
 LPA. Su segundo disco\, ‘El poder de una canción’ ha sido nominado c
 omo Mejor Disco de Rock en los Premios Canarios de la Música 2024.\nBella
  Bestia\, la legendaria banda del glam rock español\, llega desde Madrid 
 para poner el broche a un festival con una trayectoria de más de 40 años
  en los escenarios demostrando la energía del heavy metal desde sus comie
 nzos\, cuando abrió paso a una nueva y audaz forma de vivir el rock\, con
 virtiéndose en una de las bandas más transgresoras de aquellos años.\n\
 n\nUna formación que\, a pesar de algunos momentos de receso\, no ha deja
 do de participar en giras\, conciertos y festivales y que en esta ocasión
  tendrán la oportunidad de pisar tierra palmera para hacer llegar el esp
 íritu rockero más genuino con el fin de presentar y dar un nuevo impulso
  a su trayectoria desde La Palma\, en su único concierto en Canarias.\n\n
ATTACH;FMTTYPE=image/jpeg:https://www.larevistadelapalma.com/wp-content/up
 loads/2024/11/Rock-Festival.jpg
CATEGORIES:Festivales/Fiestas,Música
LOCATION:Plaza de Santo Domingo en Santa Cruz de La Palma\, Plaza Santo Dom
 ingo\, Santa Cruz de La Palma\, 38700\, España
GEO:28.682691;-17.766334
X-APPLE-STRUCTURED-LOCATION;VALUE=URI;X-ADDRESS=Plaza Santo Domingo\, Santa
  Cruz de La Palma\, 38700\, España;X-APPLE-RADIUS=100;X-TITLE=Plaza de Sa
 nto Domingo en Santa Cruz de La Palma:geo:28.682691,-17.766334
END:VEVENT
END:VCALENDAR