BEGIN:VCALENDAR
VERSION:2.0
PRODID:-//wp-events-plugin.com//7.2.3.1//EN
TZID:Europe/London
X-WR-TIMEZONE:Europe/London
BEGIN:VEVENT
UID:3649@larevistadelapalma.com
DTSTART;VALUE=DATE:20250829
DTEND;VALUE=DATE:20250830
DTSTAMP:20250401T172921Z
URL:https://www.larevistadelapalma.com/events/rock-road-2025-san-andres-y-
 sauces/
SUMMARY:"God Save de Queen"\, "Pignoise" y "Los Rebeldes" en el cartel del 
 Rock & Road 2025 de San Andrés y Sauces
DESCRIPTION:\n\n\nSan Andrés y Sauces consolida el festival de Rock del No
 rte de La Palma con la celebración de la segunda edición del “Rock &am
 p\; Road _Van experience”\, el festival que concentra a varias de las ba
 ndas de pop-rock más importantes de España y que además genera una acti
 vidad turística vinculada a la caravanas de vital importancia para la com
 arca.\nEl primer año cosechó un gran éxito de participación\, por lo q
 ue vuelve a La Palma con una propuesta irresistible para los amantes del r
 ock. El evento se celebrará el próximo 29 de agosto en el recinto diseñ
 ado en Puerto Espíndola que sorprendió por su conformación y encaje en 
 el espacio costero.\nPara esta segunda edición\, se vivirá la mejor mús
 ica de rock en vivo con un cartel de primer nivel. El Line Up estará comp
 uesto por: el espectacular homenaje a Queen que tantos recintos ha llenado
  en todo el mundo\, God Save The Queen ‘Dios Salve a La Reina’ \, la i
 nsigne banda Pignoise en su 25 aniversario y la mítica banda de rock los 
 80 Los Rebeldes. A ellos se sumará la banda de rock palmero\, ManiKomio d
 el Sur. \n\nCOMPRAR ENTRADAS &gt\;&gt\;.\n‘Dios Salve a la Reina’: el
  mejor show de Queen del Mundo\, según la revista Rolling Stone\nEl públ
 ico del Rock&amp\;Road podrá disfrutar del mejor tributo a Queen a nivel 
 mundial con su show ‘Dios Salve a la Reina’\, un homenaje a la icónic
 a banda británica que interpretará clásicos inmortales como ‘We Will 
 Rock You’ y ‘I Want to Break Free’.\nLa impecable puesta en escena y
  una fidelidad en cada interpretación\, ha convertido a esta banda en la 
 mejor recreación de la esencia de Queen\, con un espectáculo que trascie
 nde generaciones. Cada detalle está cuidado para transportar al público 
 a la época dorada del legendario grupo liderado por Freddie Mercury.\n\n
 ‘Dios Salve a la Reina’ se ha convertido en un fenómeno excepcional\,
  reviviendo la magia de Queen en América\, Europa\, y el resto del mundo\
 ; con conciertos completamente agotados en importantes ciudades como Bueno
 s Aires\, Sao Paulo\, México DF\, Madrid\, Barcelona\, Liverpool\, entre 
 otras.\nPignoise revivirá los 2000 en su 20 Aniversario\nSi una banda mar
 có la primera década de los 2000 fue Pignoise. El grupo\, que celebra en
  2025 su 20 aniversario\, se hizo especialmente popular en España a media
 dos de la primera década del siglo con éxitos como ‘Nada que perder’
 \, que se convirtió en la sintonía de la serie juvenil “Los Hombres de
  Paco”\, ‘Te entiendo’ y ‘Estoy enfermo’\, consolidándose como 
 una de las bandas más icónicas del pop punk en español.\n\nSu presencia
  en el festival será un viaje nostálgico para quienes crecieron con su m
 úsica\, y una oportunidad perfecta para revivir la esencia del pop punk q
 ue marcó una era: Pignoise reafirmará por qué sus himnos siguen siendo 
 un icono después de dos décadas.\nLos Rebeldes\; un símbolo de la músi
 ca rock de los 80 \nEl grupo barcelonés de rock Los Rebeldes\, una de la
 s bandas más míticas de los años 80\, estará sobre el escenario en el 
 Puerto Espíndola con temas que se han convertido en historia de la músic
 a en España: 'Mediterráneo'\, 'Esto no es Hawaii'\, 'Noche de acción'\,
  'Vestida de azul'...\n\nA lo largo de su trayectoria\, han publicado 15 
 álbumes de estudio y 4 en directo\, consolidando su legado dentro del roc
 k &amp\; roll. Esta banda\, que 45 años después de su formación sigue d
 ando “salvajes” shows sobre los escenarios\, trasladará al público a
 l ritmo de la música que marcó una época.\n\nCaravaning y turismo: la e
 xperiencia Rock&amp\;Road\nTras el éxito de su primera edición\, Rock&am
 p\;Road vuelve a combinar la música con una espectacular ruta de turismo 
 en caravana\, permitiendo a los asistentes recorrer los impresionantes pai
 sajes del norte de La Palma durante varios días.\nEsta experiencia única
  combina la pasión por el rock con la aventura al aire libre\, ofreciendo
  cinco días de recorrido en caravana inolvidables\, del 26 al 30 de agost
 o\, para descubrir la esencia de La Palma.\nLa ruta comienza en el impresi
 onante municipio de Breña Baja\, recorriendo los espectaculares paisajes 
 de San Andrés y Sauces\, para luego continuar por otros rincones de la is
 la\, permitiendo a los participantes sumergirse en su incomparable belleza
  natural.\nA lo largo del recorrido\, los asistentes disfrutarán de sende
 rismo\, observación de estrellas y fotografía\, además de visitas a par
 ques nacionales\, zonas de baño y miradores\, convirtiendo este viaje en 
 una combinación perfecta de música y naturaleza.\n\n\n\n\n\n\n\n&nbsp\;
ATTACH;FMTTYPE=image/jpeg:https://www.larevistadelapalma.com/wp-content/up
 loads/2025/03/Rock-and-Road-25.jpg
CATEGORIES:Festivales/Fiestas,Música
LOCATION:Puerto Espíndola\, Puerto Espíndola\, San Andrés y Sauces\, 387
 29 \, España
GEO:28.80992;-17.762919
X-APPLE-STRUCTURED-LOCATION;VALUE=URI;X-ADDRESS=Puerto Espíndola\, San And
 rés y Sauces\, 38729 \, España;X-APPLE-RADIUS=100;X-TITLE=Puerto Espínd
 ola:geo:28.80992,-17.762919
END:VEVENT
END:VCALENDARBEGIN:VCALENDAR
VERSION:2.0
PRODID:-//wp-events-plugin.com//7.2.3.1//EN
TZID:Europe/London
X-WR-TIMEZONE:Europe/London
BEGIN:VEVENT
UID:3649@larevistadelapalma.com
DTSTART;VALUE=DATE:20250829
DTEND;VALUE=DATE:20250830
DTSTAMP:20250401T172921Z
URL:https://www.larevistadelapalma.com/events/rock-road-2025-san-andres-y-
 sauces/
SUMMARY:"God Save de Queen"\, "Pignoise" y "Los Rebeldes" en el cartel del 
 Rock & Road 2025 de San Andrés y Sauces
DESCRIPTION:\n\n\nSan Andrés y Sauces consolida el festival de Rock del No
 rte de La Palma con la celebración de la segunda edición del “Rock &am
 p\; Road _Van experience”\, el festival que concentra a varias de las ba
 ndas de pop-rock más importantes de España y que además genera una acti
 vidad turística vinculada a la caravanas de vital importancia para la com
 arca.\nEl primer año cosechó un gran éxito de participación\, por lo q
 ue vuelve a La Palma con una propuesta irresistible para los amantes del r
 ock. El evento se celebrará el próximo 29 de agosto en el recinto diseñ
 ado en Puerto Espíndola que sorprendió por su conformación y encaje en 
 el espacio costero.\nPara esta segunda edición\, se vivirá la mejor mús
 ica de rock en vivo con un cartel de primer nivel. El Line Up estará comp
 uesto por: el espectacular homenaje a Queen que tantos recintos ha llenado
  en todo el mundo\, God Save The Queen ‘Dios Salve a La Reina’ \, la i
 nsigne banda Pignoise en su 25 aniversario y la mítica banda de rock los 
 80 Los Rebeldes. A ellos se sumará la banda de rock palmero\, ManiKomio d
 el Sur. \n\nCOMPRAR ENTRADAS &gt\;&gt\;.\n‘Dios Salve a la Reina’: el
  mejor show de Queen del Mundo\, según la revista Rolling Stone\nEl públ
 ico del Rock&amp\;Road podrá disfrutar del mejor tributo a Queen a nivel 
 mundial con su show ‘Dios Salve a la Reina’\, un homenaje a la icónic
 a banda británica que interpretará clásicos inmortales como ‘We Will 
 Rock You’ y ‘I Want to Break Free’.\nLa impecable puesta en escena y
  una fidelidad en cada interpretación\, ha convertido a esta banda en la 
 mejor recreación de la esencia de Queen\, con un espectáculo que trascie
 nde generaciones. Cada detalle está cuidado para transportar al público 
 a la época dorada del legendario grupo liderado por Freddie Mercury.\n\n
 ‘Dios Salve a la Reina’ se ha convertido en un fenómeno excepcional\,
  reviviendo la magia de Queen en América\, Europa\, y el resto del mundo\
 ; con conciertos completamente agotados en importantes ciudades como Bueno
 s Aires\, Sao Paulo\, México DF\, Madrid\, Barcelona\, Liverpool\, entre 
 otras.\nPignoise revivirá los 2000 en su 20 Aniversario\nSi una banda mar
 có la primera década de los 2000 fue Pignoise. El grupo\, que celebra en
  2025 su 20 aniversario\, se hizo especialmente popular en España a media
 dos de la primera década del siglo con éxitos como ‘Nada que perder’
 \, que se convirtió en la sintonía de la serie juvenil “Los Hombres de
  Paco”\, ‘Te entiendo’ y ‘Estoy enfermo’\, consolidándose como 
 una de las bandas más icónicas del pop punk en español.\n\nSu presencia
  en el festival será un viaje nostálgico para quienes crecieron con su m
 úsica\, y una oportunidad perfecta para revivir la esencia del pop punk q
 ue marcó una era: Pignoise reafirmará por qué sus himnos siguen siendo 
 un icono después de dos décadas.\nLos Rebeldes\; un símbolo de la músi
 ca rock de los 80 \nEl grupo barcelonés de rock Los Rebeldes\, una de la
 s bandas más míticas de los años 80\, estará sobre el escenario en el 
 Puerto Espíndola con temas que se han convertido en historia de la músic
 a en España: 'Mediterráneo'\, 'Esto no es Hawaii'\, 'Noche de acción'\,
  'Vestida de azul'...\n\nA lo largo de su trayectoria\, han publicado 15 
 álbumes de estudio y 4 en directo\, consolidando su legado dentro del roc
 k &amp\; roll. Esta banda\, que 45 años después de su formación sigue d
 ando “salvajes” shows sobre los escenarios\, trasladará al público a
 l ritmo de la música que marcó una época.\n\nCaravaning y turismo: la e
 xperiencia Rock&amp\;Road\nTras el éxito de su primera edición\, Rock&am
 p\;Road vuelve a combinar la música con una espectacular ruta de turismo 
 en caravana\, permitiendo a los asistentes recorrer los impresionantes pai
 sajes del norte de La Palma durante varios días.\nEsta experiencia única
  combina la pasión por el rock con la aventura al aire libre\, ofreciendo
  cinco días de recorrido en caravana inolvidables\, del 26 al 30 de agost
 o\, para descubrir la esencia de La Palma.\nLa ruta comienza en el impresi
 onante municipio de Breña Baja\, recorriendo los espectaculares paisajes 
 de San Andrés y Sauces\, para luego continuar por otros rincones de la is
 la\, permitiendo a los participantes sumergirse en su incomparable belleza
  natural.\nA lo largo del recorrido\, los asistentes disfrutarán de sende
 rismo\, observación de estrellas y fotografía\, además de visitas a par
 ques nacionales\, zonas de baño y miradores\, convirtiendo este viaje en 
 una combinación perfecta de música y naturaleza.\n\n\n\n\n\n\n\n&nbsp\;
ATTACH;FMTTYPE=image/jpeg:https://www.larevistadelapalma.com/wp-content/up
 loads/2025/03/Rock-and-Road-25.jpg
CATEGORIES:Festivales/Fiestas,Música
LOCATION:Puerto Espíndola\, Puerto Espíndola\, San Andrés y Sauces\, 387
 29 \, España
GEO:28.80992;-17.762919
X-APPLE-STRUCTURED-LOCATION;VALUE=URI;X-ADDRESS=Puerto Espíndola\, San And
 rés y Sauces\, 38729 \, España;X-APPLE-RADIUS=100;X-TITLE=Puerto Espínd
 ola:geo:28.80992,-17.762919
END:VEVENT
END:VCALENDAR