BEGIN:VCALENDAR
VERSION:2.0
PRODID:-//wp-events-plugin.com//7.2.3.1//EN
TZID:Europe/London
X-WR-TIMEZONE:Europe/London
BEGIN:VEVENT
UID:3251@larevistadelapalma.com
DTSTART:20240920T203000Z
DTEND:20240920T220000Z
DTSTAMP:20240918T211700Z
URL:https://www.larevistadelapalma.com/events/rock-talent-con-cristina-ram
 os-en-tazacorte/
SUMMARY:"Rock Talent" con Cristina Ramos en Tazacorte
DESCRIPTION:Cristina Ramos presenta su espectáculo "Rock Talent"\, con cl
 ásicos musicales de todos los tiempos. \n\nEl espectáculo es de entrada
  libre\, y tendrá lugar en el Pabellón de usos múltiples de Tazacorte.\
 nCristina Ramos Pérez (Las Palmas de Gran Canaria) es una cantante espa
 ñola conocida por su capacidad para cantar y combinar diferentes género
 s como la ópera\, el rock\, el funky o los boleros. Su participación y v
 ictoria en los Talent Shows Spain´s Got Talent 2016\, y La Voz México 20
 18\, además de ser la única cantante en el TOP 5 de America´s Got Talen
 t THE CHAMPIONS\, y GOLDEN BUZZER de David Foster en GTW China\, la han co
 nvertido en una artista única en el mundo.\nEn 2016\, su actuación en el
  programa de talentos internacional\, GOT TALENT de España\,  le vale se
 r ganadora del concurso y la catapulta a la fama mundial\, creando un fen
 ómeno viral de más de 100  millones de visualizaciones en apenas una se
 mana.\nDesde entonces\, y gracias a su versatilidad e imponente puesta en 
 escena\, Cristina no deja de protagonizar galas  y eventos por todo el mu
 ndo\, como la DSHS de Limburgo\, el World Ocean Forum en Busan\, Corea del
  Sur o El Nordic Bussines Forum de Helsinki. Ha actuado como estrella par
 a eventos de grandes marcas\, como Cartier\, Porsche\, Cepsa\, Fiat\, Well
 a o Mercedes en ciudades de todo el mundo.\nEn 2017\, estrenó su propio e
 spectáculo\, Rock TALENT y ha viajado por toda Europa como protagonista
  de eventos de grande marcas. Fue la artista invitada de la Gala de la Re
 ina del Carnaval de su tierra\, Las Palmas de Gran Canaria y lanzó su pri
 mer single\, LOCA\, que fue canción oficial del WINTER PRIDE MASPALOMAS
 .\nEn 2018\, además de seguir siendo protagonista de destacados eventos\,
  lanzó su segundo single\, We Can´t Know\, Fue seleccionada como partic
 ipante de LA VOZ…MEXICO del que ha resultado vencedora absoluta. Tras 
 ello\, la cantante fue invitada a participar en America´s Got Talent:THE 
 CHAMPIONS\, la mayor concentración de talentos de la historia de la telev
 isión\, donde ha sido elegida en el TOP 5. Es la única cantante que ha l
 legado tan alto.\nEn 2019 fue invitada a participar en el Worl´s Got Tale
 nt de China\, resultando ser la única artista europea en actuar en la fin
 al\, recibiendo el Golden Buzzer del prestigioso productor David Foster. H
 ace una minigira de conciertos en Costa Rica\, graba su single con UNIVERS
 AL MEXICO y actúa n innumerables eventos\, entre los que destaca el conci
 erto como artista principal en el Kick Off de Beverly Hills\, Califormia. 
 Su aparición en el Bristish Got Talent THE CHAMPIONS causó otro impacto 
 en Simon Cowell que no dudó en calificarla como la mejor cantante que ha 
 pasado jamás por ese formato en todo el mundo\, y  resultó otro fenóme
 no viral.  Además de los innumerables eventos que la llevan a viajar por
  todo el mundo\, Cristina celebra su concierto Christmas Symphony en el Au
 ditorio Alfredo Kraus de Las Palmas que se graba y emite por la Televisió
 n Canaria.\nEn 2020\, Cristina Ramos es anunciada como una de las artistas
  participantes en el célebre concurso de Televisión TU CARA ME SUENA\, d
 onde realiza algunas de las actuaciones más impactantes de la historia de
 l concurso. Mientras tanto\, y durante el confinamiento causado por la pan
 demia\, Cristina graba un memorable concierto en la Catedral de Santa Ana 
 vacía\, que es emitido por la Televisión Canaria convirtiéndose en el p
 rograma de entretenimiento más visto del año en las Islas Canarias.\nEn 
 el mes de octubre\, Cristina se mete en el estudio para grabar su primer d
 isco\, SUPERSTAR\, producido por Alejandro de Pinedo\, y que será lanzado
  en 2021.\nCristina graba el programa especial de Nochebuena para la Telev
 isión Canaria y da otro recital en la Catedral de Santa Ana\, esta vez co
 n público y acompañada de orquesta\, coro\, y dos invitados de lujo\, lo
 s tenores Pancho Corujo y Celso Albelo.\nEl Año 2021 comienza con el anun
 cio del lanzamiento de su primer disco SUPERSTAR\, y con el estreno de su 
 espectáculo ROCK TALENT en la Gran Vía de Madrid.
ATTACH;FMTTYPE=image/jpeg:https://www.larevistadelapalma.com/wp-content/up
 loads/2024/09/ROCK-TALENT-CRISTINA-RAMOS.jpg
CATEGORIES:Conciertos,Música
LOCATION:Municipio de Tazacorte\, Villa y Puerto de Tazacorte\, Tazacorte\,
  38770\, España
GEO:28.642917;-17.936888
X-APPLE-STRUCTURED-LOCATION;VALUE=URI;X-ADDRESS=Villa y Puerto de Tazacorte
 \, Tazacorte\, 38770\, España;X-APPLE-RADIUS=100;X-TITLE=Municipio de Taz
 acorte:geo:28.642917,-17.936888
END:VEVENT
END:VCALENDARBEGIN:VCALENDAR
VERSION:2.0
PRODID:-//wp-events-plugin.com//7.2.3.1//EN
TZID:Europe/London
X-WR-TIMEZONE:Europe/London
BEGIN:VEVENT
UID:3251@larevistadelapalma.com
DTSTART:20240920T203000Z
DTEND:20240920T220000Z
DTSTAMP:20240918T211700Z
URL:https://www.larevistadelapalma.com/events/rock-talent-con-cristina-ram
 os-en-tazacorte/
SUMMARY:"Rock Talent" con Cristina Ramos en Tazacorte
DESCRIPTION:Cristina Ramos presenta su espectáculo "Rock Talent"\, con cl
 ásicos musicales de todos los tiempos. \n\nEl espectáculo es de entrada
  libre\, y tendrá lugar en el Pabellón de usos múltiples de Tazacorte.\
 nCristina Ramos Pérez (Las Palmas de Gran Canaria) es una cantante espa
 ñola conocida por su capacidad para cantar y combinar diferentes género
 s como la ópera\, el rock\, el funky o los boleros. Su participación y v
 ictoria en los Talent Shows Spain´s Got Talent 2016\, y La Voz México 20
 18\, además de ser la única cantante en el TOP 5 de America´s Got Talen
 t THE CHAMPIONS\, y GOLDEN BUZZER de David Foster en GTW China\, la han co
 nvertido en una artista única en el mundo.\nEn 2016\, su actuación en el
  programa de talentos internacional\, GOT TALENT de España\,  le vale se
 r ganadora del concurso y la catapulta a la fama mundial\, creando un fen
 ómeno viral de más de 100  millones de visualizaciones en apenas una se
 mana.\nDesde entonces\, y gracias a su versatilidad e imponente puesta en 
 escena\, Cristina no deja de protagonizar galas  y eventos por todo el mu
 ndo\, como la DSHS de Limburgo\, el World Ocean Forum en Busan\, Corea del
  Sur o El Nordic Bussines Forum de Helsinki. Ha actuado como estrella par
 a eventos de grandes marcas\, como Cartier\, Porsche\, Cepsa\, Fiat\, Well
 a o Mercedes en ciudades de todo el mundo.\nEn 2017\, estrenó su propio e
 spectáculo\, Rock TALENT y ha viajado por toda Europa como protagonista
  de eventos de grande marcas. Fue la artista invitada de la Gala de la Re
 ina del Carnaval de su tierra\, Las Palmas de Gran Canaria y lanzó su pri
 mer single\, LOCA\, que fue canción oficial del WINTER PRIDE MASPALOMAS
 .\nEn 2018\, además de seguir siendo protagonista de destacados eventos\,
  lanzó su segundo single\, We Can´t Know\, Fue seleccionada como partic
 ipante de LA VOZ…MEXICO del que ha resultado vencedora absoluta. Tras 
 ello\, la cantante fue invitada a participar en America´s Got Talent:THE 
 CHAMPIONS\, la mayor concentración de talentos de la historia de la telev
 isión\, donde ha sido elegida en el TOP 5. Es la única cantante que ha l
 legado tan alto.\nEn 2019 fue invitada a participar en el Worl´s Got Tale
 nt de China\, resultando ser la única artista europea en actuar en la fin
 al\, recibiendo el Golden Buzzer del prestigioso productor David Foster. H
 ace una minigira de conciertos en Costa Rica\, graba su single con UNIVERS
 AL MEXICO y actúa n innumerables eventos\, entre los que destaca el conci
 erto como artista principal en el Kick Off de Beverly Hills\, Califormia. 
 Su aparición en el Bristish Got Talent THE CHAMPIONS causó otro impacto 
 en Simon Cowell que no dudó en calificarla como la mejor cantante que ha 
 pasado jamás por ese formato en todo el mundo\, y  resultó otro fenóme
 no viral.  Además de los innumerables eventos que la llevan a viajar por
  todo el mundo\, Cristina celebra su concierto Christmas Symphony en el Au
 ditorio Alfredo Kraus de Las Palmas que se graba y emite por la Televisió
 n Canaria.\nEn 2020\, Cristina Ramos es anunciada como una de las artistas
  participantes en el célebre concurso de Televisión TU CARA ME SUENA\, d
 onde realiza algunas de las actuaciones más impactantes de la historia de
 l concurso. Mientras tanto\, y durante el confinamiento causado por la pan
 demia\, Cristina graba un memorable concierto en la Catedral de Santa Ana 
 vacía\, que es emitido por la Televisión Canaria convirtiéndose en el p
 rograma de entretenimiento más visto del año en las Islas Canarias.\nEn 
 el mes de octubre\, Cristina se mete en el estudio para grabar su primer d
 isco\, SUPERSTAR\, producido por Alejandro de Pinedo\, y que será lanzado
  en 2021.\nCristina graba el programa especial de Nochebuena para la Telev
 isión Canaria y da otro recital en la Catedral de Santa Ana\, esta vez co
 n público y acompañada de orquesta\, coro\, y dos invitados de lujo\, lo
 s tenores Pancho Corujo y Celso Albelo.\nEl Año 2021 comienza con el anun
 cio del lanzamiento de su primer disco SUPERSTAR\, y con el estreno de su 
 espectáculo ROCK TALENT en la Gran Vía de Madrid.
ATTACH;FMTTYPE=image/jpeg:https://www.larevistadelapalma.com/wp-content/up
 loads/2024/09/ROCK-TALENT-CRISTINA-RAMOS.jpg
CATEGORIES:Conciertos,Música
LOCATION:Municipio de Tazacorte\, Villa y Puerto de Tazacorte\, Tazacorte\,
  38770\, España
GEO:28.642917;-17.936888
X-APPLE-STRUCTURED-LOCATION;VALUE=URI;X-ADDRESS=Villa y Puerto de Tazacorte
 \, Tazacorte\, 38770\, España;X-APPLE-RADIUS=100;X-TITLE=Municipio de Taz
 acorte:geo:28.642917,-17.936888
END:VEVENT
END:VCALENDAR