BEGIN:VCALENDAR
VERSION:2.0
PRODID:-//wp-events-plugin.com//7.2.3.1//EN
TZID:Europe/London
X-WR-TIMEZONE:Europe/London
BEGIN:VEVENT
UID:3915@larevistadelapalma.com
DTSTART;VALUE=DATE:20250828
DTEND;VALUE=DATE:20250901
DTSTAMP:20250818T185847Z
URL:https://www.larevistadelapalma.com/events/rock-therapy-weekend-rock-an
 d-blues-en-el-paso/
SUMMARY:Rock Therapy Weekend - Rock and Blues en El Paso
DESCRIPTION:Rock Therapy Weekend - Rock and Blues en El Paso\, de Los 4 Gat
 os Rockers Club.\n\nDesde el jueves 28\, hasta el domingo 31\, Los 4 Gatos
  Rockers Club nos tienen preparado más que un fin de semana para disfruta
 r de un cartel impresionante de grupos musicales y djs tocando blues y Roc
 k'and'roll del mejor: The Moon Rockers\, Uncle Chalie Trio\, Tihuja Cats\,
  Melvin Pelvis\, Moni Loff\, Monterreina\, Franky Frank \, Aaron White y s
 u banda\, Maldito Derrape\, y muchos más...
ATTACH;FMTTYPE=image/jpeg:https://www.larevistadelapalma.com/wp-content/up
 loads/2025/08/Rock-and-blues.jpg
CATEGORIES:Festivales/Fiestas,Música
LOCATION:Municipio de El Paso\, El Paso\, La Palma \, El Paso\, 38750\, Esp
 aña
GEO:28.652378;-17.880396
X-APPLE-STRUCTURED-LOCATION;VALUE=URI;X-ADDRESS=El Paso\, La Palma \, El Pa
 so\, 38750\, España;X-APPLE-RADIUS=100;X-TITLE=Municipio de El Paso:geo:2
 8.652378,-17.880396
END:VEVENT
END:VCALENDARBEGIN:VCALENDAR
VERSION:2.0
PRODID:-//wp-events-plugin.com//7.2.3.1//EN
TZID:Europe/London
X-WR-TIMEZONE:Europe/London
BEGIN:VEVENT
UID:3915@larevistadelapalma.com
DTSTART;VALUE=DATE:20250828
DTEND;VALUE=DATE:20250901
DTSTAMP:20250818T185847Z
URL:https://www.larevistadelapalma.com/events/rock-therapy-weekend-rock-an
 d-blues-en-el-paso/
SUMMARY:Rock Therapy Weekend - Rock and Blues en El Paso
DESCRIPTION:Rock Therapy Weekend - Rock and Blues en El Paso\, de Los 4 Gat
 os Rockers Club.\n\nDesde el jueves 28\, hasta el domingo 31\, Los 4 Gatos
  Rockers Club nos tienen preparado más que un fin de semana para disfruta
 r de un cartel impresionante de grupos musicales y djs tocando blues y Roc
 k'and'roll del mejor: The Moon Rockers\, Uncle Chalie Trio\, Tihuja Cats\,
  Melvin Pelvis\, Moni Loff\, Monterreina\, Franky Frank \, Aaron White y s
 u banda\, Maldito Derrape\, y muchos más...
ATTACH;FMTTYPE=image/jpeg:https://www.larevistadelapalma.com/wp-content/up
 loads/2025/08/Rock-and-blues.jpg
CATEGORIES:Festivales/Fiestas,Música
LOCATION:Municipio de El Paso\, El Paso\, La Palma \, El Paso\, 38750\, Esp
 aña
GEO:28.652378;-17.880396
X-APPLE-STRUCTURED-LOCATION;VALUE=URI;X-ADDRESS=El Paso\, La Palma \, El Pa
 so\, 38750\, España;X-APPLE-RADIUS=100;X-TITLE=Municipio de El Paso:geo:2
 8.652378,-17.880396
END:VEVENT
END:VCALENDAR