BEGIN:VCALENDAR
VERSION:2.0
PRODID:-//wp-events-plugin.com//7.2.3.1//EN
TZID:Europe/London
X-WR-TIMEZONE:Europe/London
BEGIN:VEVENT
UID:3849@larevistadelapalma.com
DTSTART:20250629T160000Z
DTEND:20250629T225900Z
DTSTAMP:20250627T233122Z
URL:https://www.larevistadelapalma.com/events/romeria-del-trono-fiestas-de
 -la-bajada-de-la-virgen/
SUMMARY:Romería del Trono (Fiestas de la Bajada de La Virgen)
DESCRIPTION:La Romería avanza por la carretera general hasta adentrarse en
  los caminos de la Dehesa\, Cuesta del Llano de La Cruz\, El Planto\, La E
 ncarnación ... hasta la Plaza de La Alameda. La última etapa llega a la 
 Plaza de España.\n\n\n\n&nbsp\;\n\nAl finalizar la romería\, a partir de
  las 22:00 horas Noche de Orquestas con Grupo Bomba\, Tropicana y DJs\n\n&
 nbsp\;
ATTACH;FMTTYPE=image/jpeg:https://www.larevistadelapalma.com/wp-content/up
 loads/2025/06/Romeria-del-Trono-2015-3.png
CATEGORIES:Fiestas populares,Otras propuestas,Varios
LOCATION:Municipio de Santa Cruz de La Palma\, Santa Cruz de La Palma \, Sa
 nta Cruz de La Palma \, 38700\, España
GEO:28.688757;-17.765102
X-APPLE-STRUCTURED-LOCATION;VALUE=URI;X-ADDRESS=Santa Cruz de La Palma \, S
 anta Cruz de La Palma \, 38700\, España;X-APPLE-RADIUS=100;X-TITLE=Munici
 pio de Santa Cruz de La Palma:geo:28.688757,-17.765102
END:VEVENT
END:VCALENDARBEGIN:VCALENDAR
VERSION:2.0
PRODID:-//wp-events-plugin.com//7.2.3.1//EN
TZID:Europe/London
X-WR-TIMEZONE:Europe/London
BEGIN:VEVENT
UID:3849@larevistadelapalma.com
DTSTART:20250629T160000Z
DTEND:20250629T225900Z
DTSTAMP:20250627T233122Z
URL:https://www.larevistadelapalma.com/events/romeria-del-trono-fiestas-de
 -la-bajada-de-la-virgen/
SUMMARY:Romería del Trono (Fiestas de la Bajada de La Virgen)
DESCRIPTION:La Romería avanza por la carretera general hasta adentrarse en
  los caminos de la Dehesa\, Cuesta del Llano de La Cruz\, El Planto\, La E
 ncarnación ... hasta la Plaza de La Alameda. La última etapa llega a la 
 Plaza de España.\n\n\n\n&nbsp\;\n\nAl finalizar la romería\, a partir de
  las 22:00 horas Noche de Orquestas con Grupo Bomba\, Tropicana y DJs\n\n&
 nbsp\;
ATTACH;FMTTYPE=image/jpeg:https://www.larevistadelapalma.com/wp-content/up
 loads/2025/06/Romeria-del-Trono-2015-3.png
CATEGORIES:Fiestas populares,Otras propuestas,Varios
LOCATION:Municipio de Santa Cruz de La Palma\, Santa Cruz de La Palma \, Sa
 nta Cruz de La Palma \, 38700\, España
GEO:28.688757;-17.765102
X-APPLE-STRUCTURED-LOCATION;VALUE=URI;X-ADDRESS=Santa Cruz de La Palma \, S
 anta Cruz de La Palma \, 38700\, España;X-APPLE-RADIUS=100;X-TITLE=Munici
 pio de Santa Cruz de La Palma:geo:28.688757,-17.765102
END:VEVENT
END:VCALENDAR