BEGIN:VCALENDAR
VERSION:2.0
PRODID:-//wp-events-plugin.com//7.2.3.1//EN
TZID:Europe/London
X-WR-TIMEZONE:Europe/London
BEGIN:VEVENT
UID:3874@larevistadelapalma.com
DTSTART:20250822T170000Z
DTEND:20250822T224500Z
DTSTAMP:20250819T203147Z
URL:https://www.larevistadelapalma.com/events/rs-urban-party/
SUMMARY:RS Urban Party
DESCRIPTION:\nBrray\, Villano\, Soge Culebra\, Jhay P\, Paula Cendejas y m
 ás...\nBarra libre\, actuaciones en directo\, dj sets.\n\n\nSi compraste 
 la entrada de ResisTime Creyente\, vas gratis.\nSi compraste entrada front
  de Camilo\, vas gratis a la zona front stage.\nSi compraste tu entrada de
  Camilo VIP o Full Experience\, no sólo irás gratis\, sino que además t
 endrás barra libre en Front Stage.\n\n¿Qué pasa si tienes derecho a ent
 rada gratuita pero prefieres la barra libre en el Resis? ¡No pasa nada! P
 uedes solicitar un Upgrade por 30 euros.\n\n\n\n\n\n\nEscenario Heineken: 
 Parking trasero del pabellón de deportes de El Paso\n\n\n\n\n\nComprar en
 tradas &gt\;&gt\;\nPuntos de venta físicos: De lunes a viernes de 9:00 a 
 15:00 horas.\n\n\n 	Time Street - C/ Ramón Pol\, 11 (Edificio Millennium\
 , 1ª planta)\n 	CIT La Palma (Oficina de Turismo de S/C de La Palma)\n 	O
 ficina de El Paso - C. Antonio Pino Pérez\, El Paso.\n\n
ATTACH;FMTTYPE=image/jpeg:https://www.larevistadelapalma.com/wp-content/up
 loads/2025/07/urban-party.jpeg
CATEGORIES:Festivales/Fiestas,Música
LOCATION:Polideportivo de El Paso\, C. Sericícola\, 14\, El Paso\, 38750\,
  España
GEO:28.646771;-17.884458
X-APPLE-STRUCTURED-LOCATION;VALUE=URI;X-ADDRESS=C. Sericícola\, 14\, El Pa
 so\, 38750\, España;X-APPLE-RADIUS=100;X-TITLE=Polideportivo de El Paso:g
 eo:28.646771,-17.884458
END:VEVENT
END:VCALENDARBEGIN:VCALENDAR
VERSION:2.0
PRODID:-//wp-events-plugin.com//7.2.3.1//EN
TZID:Europe/London
X-WR-TIMEZONE:Europe/London
BEGIN:VEVENT
UID:3874@larevistadelapalma.com
DTSTART:20250822T170000Z
DTEND:20250822T224500Z
DTSTAMP:20250819T203147Z
URL:https://www.larevistadelapalma.com/events/rs-urban-party/
SUMMARY:RS Urban Party
DESCRIPTION:\nBrray\, Villano\, Soge Culebra\, Jhay P\, Paula Cendejas y m
 ás...\nBarra libre\, actuaciones en directo\, dj sets.\n\n\nSi compraste 
 la entrada de ResisTime Creyente\, vas gratis.\nSi compraste entrada front
  de Camilo\, vas gratis a la zona front stage.\nSi compraste tu entrada de
  Camilo VIP o Full Experience\, no sólo irás gratis\, sino que además t
 endrás barra libre en Front Stage.\n\n¿Qué pasa si tienes derecho a ent
 rada gratuita pero prefieres la barra libre en el Resis? ¡No pasa nada! P
 uedes solicitar un Upgrade por 30 euros.\n\n\n\n\n\n\nEscenario Heineken: 
 Parking trasero del pabellón de deportes de El Paso\n\n\n\n\n\nComprar en
 tradas &gt\;&gt\;\nPuntos de venta físicos: De lunes a viernes de 9:00 a 
 15:00 horas.\n\n\n 	Time Street - C/ Ramón Pol\, 11 (Edificio Millennium\
 , 1ª planta)\n 	CIT La Palma (Oficina de Turismo de S/C de La Palma)\n 	O
 ficina de El Paso - C. Antonio Pino Pérez\, El Paso.\n\n
ATTACH;FMTTYPE=image/jpeg:https://www.larevistadelapalma.com/wp-content/up
 loads/2025/07/urban-party.jpeg
CATEGORIES:Festivales/Fiestas,Música
LOCATION:Polideportivo de El Paso\, C. Sericícola\, 14\, El Paso\, 38750\,
  España
GEO:28.646771;-17.884458
X-APPLE-STRUCTURED-LOCATION;VALUE=URI;X-ADDRESS=C. Sericícola\, 14\, El Pa
 so\, 38750\, España;X-APPLE-RADIUS=100;X-TITLE=Polideportivo de El Paso:g
 eo:28.646771,-17.884458
END:VEVENT
END:VCALENDAR