BEGIN:VCALENDAR
VERSION:2.0
PRODID:-//wp-events-plugin.com//7.2.3.1//EN
TZID:Europe/London
X-WR-TIMEZONE:Europe/London
BEGIN:VEVENT
UID:3917@larevistadelapalma.com
DTSTART;VALUE=DATE:20250816
DTEND;VALUE=DATE:20250901
DTSTAMP:20250819T111820Z
URL:https://www.larevistadelapalma.com/events/ruben-sanchez-presenta-en-la
 -sala-odaly-la-exposicion-doble-falta/
SUMMARY:Rubén Sánchez presenta en la Sala O'Daly la exposición "Doble fa
 lta"
DESCRIPTION:El artista palmero Rubén Sánchez presenta en la Sala O´Daly 
 de Santa Cruz de La Palma una nueva colección de pinturas de pequeño f
 ormato que representan situaciones del deporte. Se trata en general de im
 ágenes que trasmiten fracaso o frustración\, que están tomadas desde 
 puntos de vista poco convencionales o que simplemente son estéticamen
 te bellas. Los deportistas muestran sentimientos íntimos como el enfado
  o la tristeza\, pero están a la vez en el foco de las cámaras y so
 n observados por miles de espectadores. \n\n\n\n\nEn la pequeña sala ane
 xa se puede ver una selección de pinturas anteriores del artista.\nRub
 én Sánchez es licenciado y doctor en Bellas Artes. Es también titulado 
 superior en música (Saxofón) y ha realizado el Máster “Art in Context
 ” en Berlín\, donde vive y trabaja como profesor de música y pintura. 
 Ha participado en más de una treintena de exposiciones en Berlín\, Madri
 d\, Barcelona\, Hannover o Bonn y\, por supuesto\, en Canarias. A destacar
  la participación en ARCO 2007 tras recibir el segundo premio en la Biena
 l Regional de Artes Plásticas de Tenerife.\nHORARIO: La exposición se pu
 ede visitar hasta el 31 de agosto de 11-13 h (Lunes-Sábado) y de 17-2
 0h (Lunes-Viernes) 
ATTACH;FMTTYPE=image/jpeg:https://www.larevistadelapalma.com/wp-content/up
 loads/2025/08/Ruben-Sanchez-25.png
CATEGORIES:Exposiciones
LOCATION:Sala O'Daly\, C. O'Daly\, 2\, \, Santa Cruz de La Palma \, 38700\,
  España
GEO:28.68306;-17.765032
X-APPLE-STRUCTURED-LOCATION;VALUE=URI;X-ADDRESS=C. O'Daly\, 2\, \, Santa Cr
 uz de La Palma \, 38700\, España;X-APPLE-RADIUS=100;X-TITLE=Sala O'Daly:g
 eo:28.68306,-17.765032
END:VEVENT
END:VCALENDARBEGIN:VCALENDAR
VERSION:2.0
PRODID:-//wp-events-plugin.com//7.2.3.1//EN
TZID:Europe/London
X-WR-TIMEZONE:Europe/London
BEGIN:VEVENT
UID:3917@larevistadelapalma.com
DTSTART;VALUE=DATE:20250816
DTEND;VALUE=DATE:20250901
DTSTAMP:20250819T111820Z
URL:https://www.larevistadelapalma.com/events/ruben-sanchez-presenta-en-la
 -sala-odaly-la-exposicion-doble-falta/
SUMMARY:Rubén Sánchez presenta en la Sala O'Daly la exposición "Doble fa
 lta"
DESCRIPTION:El artista palmero Rubén Sánchez presenta en la Sala O´Daly 
 de Santa Cruz de La Palma una nueva colección de pinturas de pequeño f
 ormato que representan situaciones del deporte. Se trata en general de im
 ágenes que trasmiten fracaso o frustración\, que están tomadas desde 
 puntos de vista poco convencionales o que simplemente son estéticamen
 te bellas. Los deportistas muestran sentimientos íntimos como el enfado
  o la tristeza\, pero están a la vez en el foco de las cámaras y so
 n observados por miles de espectadores. \n\n\n\n\nEn la pequeña sala ane
 xa se puede ver una selección de pinturas anteriores del artista.\nRub
 én Sánchez es licenciado y doctor en Bellas Artes. Es también titulado 
 superior en música (Saxofón) y ha realizado el Máster “Art in Context
 ” en Berlín\, donde vive y trabaja como profesor de música y pintura. 
 Ha participado en más de una treintena de exposiciones en Berlín\, Madri
 d\, Barcelona\, Hannover o Bonn y\, por supuesto\, en Canarias. A destacar
  la participación en ARCO 2007 tras recibir el segundo premio en la Biena
 l Regional de Artes Plásticas de Tenerife.\nHORARIO: La exposición se pu
 ede visitar hasta el 31 de agosto de 11-13 h (Lunes-Sábado) y de 17-2
 0h (Lunes-Viernes) 
ATTACH;FMTTYPE=image/jpeg:https://www.larevistadelapalma.com/wp-content/up
 loads/2025/08/Ruben-Sanchez-25.png
CATEGORIES:Exposiciones
LOCATION:Sala O'Daly\, C. O'Daly\, 2\, \, Santa Cruz de La Palma \, 38700\,
  España
GEO:28.68306;-17.765032
X-APPLE-STRUCTURED-LOCATION;VALUE=URI;X-ADDRESS=C. O'Daly\, 2\, \, Santa Cr
 uz de La Palma \, 38700\, España;X-APPLE-RADIUS=100;X-TITLE=Sala O'Daly:g
 eo:28.68306,-17.765032
END:VEVENT
END:VCALENDAR