BEGIN:VCALENDAR
VERSION:2.0
PRODID:-//wp-events-plugin.com//7.2.3.1//EN
TZID:Europe/London
X-WR-TIMEZONE:Europe/London
BEGIN:VEVENT
UID:3376@larevistadelapalma.com
DTSTART:20241116T163000Z
DTEND:20241116T200000Z
DTSTAMP:20241101T152315Z
URL:https://www.larevistadelapalma.com/events/ruta-arqueologia-y-estrellas
 -garafia/
SUMMARY:Ruta Arqueología y Estrellas\, Garafía
DESCRIPTION:\nDentro de las actividades de Las Semanas de la Ciencia y la I
 nnovación en Canarias\, promovidas por la Consejería de Universidades\, 
 Ciencia e Innovación y Cultura del Gobierno de Canarias\, a través de la
  Agencia Canaria de Investigación\, Innovación y Sociedad de la Informac
 ión (Aciisi).\n\n\n\nInscripciones en: www.airelibrelapalma.org\nPlazas l
 imitadas.\n\n\n
ATTACH;FMTTYPE=image/jpeg:https://www.larevistadelapalma.com/wp-content/up
 loads/2024/11/RUTA-ARQUEOLOGIA-Y-ESTRELLAS.jpg
CATEGORIES:Actividades deportivas,Otras propuestas,Varios
LOCATION:Municipio Villa de Garafía\, Garafía\, Garafía\, 38787\, Españ
 a
GEO:28.822803;-17.950221
X-APPLE-STRUCTURED-LOCATION;VALUE=URI;X-ADDRESS=Garafía\, Garafía\, 38787
 \, España;X-APPLE-RADIUS=100;X-TITLE=Municipio Villa de Garafía:geo:28.8
 22803,-17.950221
END:VEVENT
END:VCALENDARBEGIN:VCALENDAR
VERSION:2.0
PRODID:-//wp-events-plugin.com//7.2.3.1//EN
TZID:Europe/London
X-WR-TIMEZONE:Europe/London
BEGIN:VEVENT
UID:3376@larevistadelapalma.com
DTSTART:20241116T163000Z
DTEND:20241116T200000Z
DTSTAMP:20241101T152315Z
URL:https://www.larevistadelapalma.com/events/ruta-arqueologia-y-estrellas
 -garafia/
SUMMARY:Ruta Arqueología y Estrellas\, Garafía
DESCRIPTION:\nDentro de las actividades de Las Semanas de la Ciencia y la I
 nnovación en Canarias\, promovidas por la Consejería de Universidades\, 
 Ciencia e Innovación y Cultura del Gobierno de Canarias\, a través de la
  Agencia Canaria de Investigación\, Innovación y Sociedad de la Informac
 ión (Aciisi).\n\n\n\nInscripciones en: www.airelibrelapalma.org\nPlazas l
 imitadas.\n\n\n
ATTACH;FMTTYPE=image/jpeg:https://www.larevistadelapalma.com/wp-content/up
 loads/2024/11/RUTA-ARQUEOLOGIA-Y-ESTRELLAS.jpg
CATEGORIES:Actividades deportivas,Otras propuestas,Varios
LOCATION:Municipio Villa de Garafía\, Garafía\, Garafía\, 38787\, Españ
 a
GEO:28.822803;-17.950221
X-APPLE-STRUCTURED-LOCATION;VALUE=URI;X-ADDRESS=Garafía\, Garafía\, 38787
 \, España;X-APPLE-RADIUS=100;X-TITLE=Municipio Villa de Garafía:geo:28.8
 22803,-17.950221
END:VEVENT
END:VCALENDAR