BEGIN:VCALENDAR
VERSION:2.0
PRODID:-//wp-events-plugin.com//7.2.3.1//EN
TZID:Europe/London
X-WR-TIMEZONE:Europe/London
BEGIN:VEVENT
UID:3858@larevistadelapalma.com
DTSTART:20250706T070000Z
DTEND:20250706T133000Z
DTSTAMP:20250628T235939Z
URL:https://www.larevistadelapalma.com/events/ruta-cabanas-prehispanicas/
SUMMARY:Ruta "Tras las huellas de las cabañas prehispánicas"
DESCRIPTION:\nUna actividad organizada por el Centro de Interpretación de 
 Petroglifos Benehauno\, donde se explorará el vínculo entre arqueología
 \, paisaje y transformación volcánica en nuestra isla.\n\n\n\n 	Transpor
 te incluido (Punto de encuentro: Oficina de Información Turística de El 
 Paso)\n 	Plazas limitadas (inscripción obligatoria)\n 	Dificultad: Interm
 edia\n\nLa jornada comenzará ascendiendo en guagua hasta la zona donde se
  conservan vestigios de antiguas cabañas prehispánicas\, escenario de vi
 da aborigen que cobra vida con las explicaciones de nuestra guía arqueól
 oga especializada. Desde allí\, iniciaremos el descenso pasando por el Ll
 ano de los Jables\, una de las áreas más impactadas por la última erupc
 ión\, para comprender sobre el terreno los efectos reales del volcán en 
 el paisaje y la biodiversidad.\nLa ruta incluirá el transporte hasta las 
 cabañas\, guía\, seguros\, acompañamiento de nuestra arqueóloga y un p
 equeño tentempié (frutas y agua). Se recomienda llevar más agua y algo 
 de comida por las temperaturas que se esperan\, además de\, ropa y calzad
 o adecuado para el entorno que vamos a transitar.\n\n\n\n
ATTACH;FMTTYPE=image/jpeg:https://www.larevistadelapalma.com/wp-content/up
 loads/2025/06/Ruta-Tras-las-huellas-de-las-Cabanas-Prehispanicas.jpg
CATEGORIES:Actividades deportivas,Otras propuestas
LOCATION:Municipio de El Paso\, El Paso\, La Palma \, El Paso\, 38750\, Esp
 aña
GEO:28.652378;-17.880396
X-APPLE-STRUCTURED-LOCATION;VALUE=URI;X-ADDRESS=El Paso\, La Palma \, El Pa
 so\, 38750\, España;X-APPLE-RADIUS=100;X-TITLE=Municipio de El Paso:geo:2
 8.652378,-17.880396
END:VEVENT
END:VCALENDARBEGIN:VCALENDAR
VERSION:2.0
PRODID:-//wp-events-plugin.com//7.2.3.1//EN
TZID:Europe/London
X-WR-TIMEZONE:Europe/London
BEGIN:VEVENT
UID:3858@larevistadelapalma.com
DTSTART:20250706T070000Z
DTEND:20250706T133000Z
DTSTAMP:20250628T235939Z
URL:https://www.larevistadelapalma.com/events/ruta-cabanas-prehispanicas/
SUMMARY:Ruta "Tras las huellas de las cabañas prehispánicas"
DESCRIPTION:\nUna actividad organizada por el Centro de Interpretación de 
 Petroglifos Benehauno\, donde se explorará el vínculo entre arqueología
 \, paisaje y transformación volcánica en nuestra isla.\n\n\n\n 	Transpor
 te incluido (Punto de encuentro: Oficina de Información Turística de El 
 Paso)\n 	Plazas limitadas (inscripción obligatoria)\n 	Dificultad: Interm
 edia\n\nLa jornada comenzará ascendiendo en guagua hasta la zona donde se
  conservan vestigios de antiguas cabañas prehispánicas\, escenario de vi
 da aborigen que cobra vida con las explicaciones de nuestra guía arqueól
 oga especializada. Desde allí\, iniciaremos el descenso pasando por el Ll
 ano de los Jables\, una de las áreas más impactadas por la última erupc
 ión\, para comprender sobre el terreno los efectos reales del volcán en 
 el paisaje y la biodiversidad.\nLa ruta incluirá el transporte hasta las 
 cabañas\, guía\, seguros\, acompañamiento de nuestra arqueóloga y un p
 equeño tentempié (frutas y agua). Se recomienda llevar más agua y algo 
 de comida por las temperaturas que se esperan\, además de\, ropa y calzad
 o adecuado para el entorno que vamos a transitar.\n\n\n\n
ATTACH;FMTTYPE=image/jpeg:https://www.larevistadelapalma.com/wp-content/up
 loads/2025/06/Ruta-Tras-las-huellas-de-las-Cabanas-Prehispanicas.jpg
CATEGORIES:Actividades deportivas,Otras propuestas
LOCATION:Municipio de El Paso\, El Paso\, La Palma \, El Paso\, 38750\, Esp
 aña
GEO:28.652378;-17.880396
X-APPLE-STRUCTURED-LOCATION;VALUE=URI;X-ADDRESS=El Paso\, La Palma \, El Pa
 so\, 38750\, España;X-APPLE-RADIUS=100;X-TITLE=Municipio de El Paso:geo:2
 8.652378,-17.880396
END:VEVENT
END:VCALENDAR