BEGIN:VCALENDAR
VERSION:2.0
PRODID:-//wp-events-plugin.com//7.2.3.1//EN
TZID:Europe/London
X-WR-TIMEZONE:Europe/London
BEGIN:VEVENT
UID:3437@larevistadelapalma.com
DTSTART:20241211T170000Z
DTEND:20241211T183000Z
DTSTAMP:20241128T210821Z
URL:https://www.larevistadelapalma.com/events/ruta-guiada-en-santa-cruz-de
 -la-palma/
SUMMARY:Ruta guiada en Santa Cruz de La Palma
DESCRIPTION:«La luz resplandeció entre ellos: luminarias históricas y si
 mbología navideña en Santa Cruz de La Palma» es la temática de la pró
 xima visita guiada por el Patrimonio Cultural de la ciudad que tendrá lug
 ar el próximo miércoles 11 de manera gratuita. Estará a cargo del histo
 riador Víctor J. Hernández Correa.\n\nEl punto de partida será la plaza
  de España y desde allí comenzará un camino por los lugares más emblem
 áticos de la ciudad explicando al público la importancia y la simbologí
 a de las luminarias capitalinas.\n\nLa ruta se acerca a los sistemas hist
 óricos de iluminación pública y doméstica hasta la inauguración de la
  electricidad el 31 de diciembre de 1893 gracias a la Sociedad El Electró
 n\, la Sociedad Hidráulica La Dehesa de la Encarnación y el Consistorio 
 capitalino.\n\nAsimismo\, aborda los principales hitos del ciclo navideño
  en Santa Cruz de La Palma: desde los símbolos mesiánicos asociados a la
  luz —muchos de ellos presentes en los repertorios villanciqueros— has
 ta la fábrica artesanal de luminarias de Navidad en la década de 1970 a 
 cargo del Taller Escuela Sindical (hoy\, IES Virgen de las Nieves)\, pasan
 do por las fechas más relevantes del calendario (Inmaculada\, Santa Lucí
 a\, Nuestra Señora de la O\, Navidad\, Santos Inocentes\, Sagrada Familia
 \, San Silvestre\, Dulce Nombre\, Epifanía y Purificación) o por la cost
 umbre de montar el nacimiento y el árbol.
ATTACH;FMTTYPE=image/jpeg:https://www.larevistadelapalma.com/wp-content/up
 loads/2024/11/Ruta-guiada-Iluminarias.jpg
CATEGORIES:Otras propuestas,Varios
LOCATION:Municipio de Santa Cruz de La Palma\, Santa Cruz de La Palma \, Sa
 nta Cruz de La Palma \, 38700\, España
GEO:28.688757;-17.765102
X-APPLE-STRUCTURED-LOCATION;VALUE=URI;X-ADDRESS=Santa Cruz de La Palma \, S
 anta Cruz de La Palma \, 38700\, España;X-APPLE-RADIUS=100;X-TITLE=Munici
 pio de Santa Cruz de La Palma:geo:28.688757,-17.765102
END:VEVENT
END:VCALENDARBEGIN:VCALENDAR
VERSION:2.0
PRODID:-//wp-events-plugin.com//7.2.3.1//EN
TZID:Europe/London
X-WR-TIMEZONE:Europe/London
BEGIN:VEVENT
UID:3437@larevistadelapalma.com
DTSTART:20241211T170000Z
DTEND:20241211T183000Z
DTSTAMP:20241128T210821Z
URL:https://www.larevistadelapalma.com/events/ruta-guiada-en-santa-cruz-de
 -la-palma/
SUMMARY:Ruta guiada en Santa Cruz de La Palma
DESCRIPTION:«La luz resplandeció entre ellos: luminarias históricas y si
 mbología navideña en Santa Cruz de La Palma» es la temática de la pró
 xima visita guiada por el Patrimonio Cultural de la ciudad que tendrá lug
 ar el próximo miércoles 11 de manera gratuita. Estará a cargo del histo
 riador Víctor J. Hernández Correa.\n\nEl punto de partida será la plaza
  de España y desde allí comenzará un camino por los lugares más emblem
 áticos de la ciudad explicando al público la importancia y la simbologí
 a de las luminarias capitalinas.\n\nLa ruta se acerca a los sistemas hist
 óricos de iluminación pública y doméstica hasta la inauguración de la
  electricidad el 31 de diciembre de 1893 gracias a la Sociedad El Electró
 n\, la Sociedad Hidráulica La Dehesa de la Encarnación y el Consistorio 
 capitalino.\n\nAsimismo\, aborda los principales hitos del ciclo navideño
  en Santa Cruz de La Palma: desde los símbolos mesiánicos asociados a la
  luz —muchos de ellos presentes en los repertorios villanciqueros— has
 ta la fábrica artesanal de luminarias de Navidad en la década de 1970 a 
 cargo del Taller Escuela Sindical (hoy\, IES Virgen de las Nieves)\, pasan
 do por las fechas más relevantes del calendario (Inmaculada\, Santa Lucí
 a\, Nuestra Señora de la O\, Navidad\, Santos Inocentes\, Sagrada Familia
 \, San Silvestre\, Dulce Nombre\, Epifanía y Purificación) o por la cost
 umbre de montar el nacimiento y el árbol.
ATTACH;FMTTYPE=image/jpeg:https://www.larevistadelapalma.com/wp-content/up
 loads/2024/11/Ruta-guiada-Iluminarias.jpg
CATEGORIES:Otras propuestas,Varios
LOCATION:Municipio de Santa Cruz de La Palma\, Santa Cruz de La Palma \, Sa
 nta Cruz de La Palma \, 38700\, España
GEO:28.688757;-17.765102
X-APPLE-STRUCTURED-LOCATION;VALUE=URI;X-ADDRESS=Santa Cruz de La Palma \, S
 anta Cruz de La Palma \, 38700\, España;X-APPLE-RADIUS=100;X-TITLE=Munici
 pio de Santa Cruz de La Palma:geo:28.688757,-17.765102
END:VEVENT
END:VCALENDAR