BEGIN:VCALENDAR
VERSION:2.0
PRODID:-//wp-events-plugin.com//7.2.3.1//EN
TZID:Europe/London
X-WR-TIMEZONE:Europe/London
BEGIN:VEVENT
UID:3600@larevistadelapalma.com
DTSTART:20250225T160000Z
DTEND:20250225T174500Z
DTSTAMP:20250213T225245Z
URL:https://www.larevistadelapalma.com/events/ruta-guiada-por-los-callejon
 es-de-santa-cruz-de-la-palma/
SUMMARY:Ruta Guiada por los Callejones de Santa Cruz de La Palma
DESCRIPTION:Explora los rincones más escondidos de nuestra ciudad en esta 
 ruta organizada por el Club de Lectura Gatos Callejeros.\nPunto de encuent
 ro: IES Alonso Pérez Díaz.
ATTACH;FMTTYPE=image/jpeg:https://www.larevistadelapalma.com/wp-content/up
 loads/2025/02/Ruta-guiada-callejones.jpg
CATEGORIES:Otras propuestas,Varios
LOCATION:Municipio de Santa Cruz de La Palma\, Santa Cruz de La Palma \, Sa
 nta Cruz de La Palma \, 38700\, España
GEO:28.688757;-17.765102
X-APPLE-STRUCTURED-LOCATION;VALUE=URI;X-ADDRESS=Santa Cruz de La Palma \, S
 anta Cruz de La Palma \, 38700\, España;X-APPLE-RADIUS=100;X-TITLE=Munici
 pio de Santa Cruz de La Palma:geo:28.688757,-17.765102
END:VEVENT
END:VCALENDARBEGIN:VCALENDAR
VERSION:2.0
PRODID:-//wp-events-plugin.com//7.2.3.1//EN
TZID:Europe/London
X-WR-TIMEZONE:Europe/London
BEGIN:VEVENT
UID:3600@larevistadelapalma.com
DTSTART:20250225T160000Z
DTEND:20250225T174500Z
DTSTAMP:20250213T225245Z
URL:https://www.larevistadelapalma.com/events/ruta-guiada-por-los-callejon
 es-de-santa-cruz-de-la-palma/
SUMMARY:Ruta Guiada por los Callejones de Santa Cruz de La Palma
DESCRIPTION:Explora los rincones más escondidos de nuestra ciudad en esta 
 ruta organizada por el Club de Lectura Gatos Callejeros.\nPunto de encuent
 ro: IES Alonso Pérez Díaz.
ATTACH;FMTTYPE=image/jpeg:https://www.larevistadelapalma.com/wp-content/up
 loads/2025/02/Ruta-guiada-callejones.jpg
CATEGORIES:Otras propuestas,Varios
LOCATION:Municipio de Santa Cruz de La Palma\, Santa Cruz de La Palma \, Sa
 nta Cruz de La Palma \, 38700\, España
GEO:28.688757;-17.765102
X-APPLE-STRUCTURED-LOCATION;VALUE=URI;X-ADDRESS=Santa Cruz de La Palma \, S
 anta Cruz de La Palma \, 38700\, España;X-APPLE-RADIUS=100;X-TITLE=Munici
 pio de Santa Cruz de La Palma:geo:28.688757,-17.765102
END:VEVENT
END:VCALENDAR