BEGIN:VCALENDAR
VERSION:2.0
PRODID:-//wp-events-plugin.com//7.2.3.1//EN
TZID:Europe/London
X-WR-TIMEZONE:Europe/London
BEGIN:VEVENT
UID:121@larevistadelapalma.com
DTSTART:20230706T173000Z
DTEND:20230706T190000Z
DTSTAMP:20230705T182750Z
URL:https://www.larevistadelapalma.com/events/ruta-lgtbiq-santa-cruz/
SUMMARY:Ruta por espacios con historia LGTBIQ+ en Santa Cruz de La Palma
DESCRIPTION:Recorrido por espacios con historia LGTBIQ+ por Santa Cruz de L
 a Palma con Víctor Hernández Correa.
ATTACH;FMTTYPE=image/jpeg:https://www.larevistadelapalma.com/wp-content/up
 loads/2023/07/Ruta-LGTBI-santa-Cruz.jpg
CATEGORIES:Otras propuestas,Varios
LOCATION:Municipio de Santa Cruz de La Palma\, Santa Cruz de La Palma \, Sa
 nta Cruz de La Palma \, 38700\, España
GEO:28.688757;-17.765102
X-APPLE-STRUCTURED-LOCATION;VALUE=URI;X-ADDRESS=Santa Cruz de La Palma \, S
 anta Cruz de La Palma \, 38700\, España;X-APPLE-RADIUS=100;X-TITLE=Munici
 pio de Santa Cruz de La Palma:geo:28.688757,-17.765102
END:VEVENT
END:VCALENDARBEGIN:VCALENDAR
VERSION:2.0
PRODID:-//wp-events-plugin.com//7.2.3.1//EN
TZID:Europe/London
X-WR-TIMEZONE:Europe/London
BEGIN:VEVENT
UID:121@larevistadelapalma.com
DTSTART:20230706T173000Z
DTEND:20230706T190000Z
DTSTAMP:20230705T182750Z
URL:https://www.larevistadelapalma.com/events/ruta-lgtbiq-santa-cruz/
SUMMARY:Ruta por espacios con historia LGTBIQ+ en Santa Cruz de La Palma
DESCRIPTION:Recorrido por espacios con historia LGTBIQ+ por Santa Cruz de L
 a Palma con Víctor Hernández Correa.
ATTACH;FMTTYPE=image/jpeg:https://www.larevistadelapalma.com/wp-content/up
 loads/2023/07/Ruta-LGTBI-santa-Cruz.jpg
CATEGORIES:Otras propuestas,Varios
LOCATION:Municipio de Santa Cruz de La Palma\, Santa Cruz de La Palma \, Sa
 nta Cruz de La Palma \, 38700\, España
GEO:28.688757;-17.765102
X-APPLE-STRUCTURED-LOCATION;VALUE=URI;X-ADDRESS=Santa Cruz de La Palma \, S
 anta Cruz de La Palma \, 38700\, España;X-APPLE-RADIUS=100;X-TITLE=Munici
 pio de Santa Cruz de La Palma:geo:28.688757,-17.765102
END:VEVENT
END:VCALENDAR