BEGIN:VCALENDAR
VERSION:2.0
PRODID:-//wp-events-plugin.com//7.2.3.1//EN
TZID:Europe/London
X-WR-TIMEZONE:Europe/London
BEGIN:VEVENT
UID:3648@larevistadelapalma.com
DTSTART:20250316T093000Z
DTEND:20250316T124500Z
DTSTAMP:20250313T231553Z
URL:https://www.larevistadelapalma.com/events/rutas-y-exposiciones-por-san
 -patricio-santa-cruz-de-la-palma/
SUMMARY:Rutas y exposiciones por San Patricio\, Santa Cruz de La Palma
DESCRIPTION:El domingo la programación comienza con una ruta guiada para f
 amilias\, “Los irlandeses en la isla de La Palma”\, que arranca a las 
 10:30 horas\, en el Atrio del Ayuntamiento de la mano de la compañía Tal
  Cual Troupe.\n\nA las 12:00 horas\,  habrá una exposición de vehículo
 s antíguos. (Desde la Plaza de la Constitución hasta la Casa Principal d
 e Salazar)\n\nY a partir de las 12:30 horas\, un pasacalle homenaje a la f
 igura del comerciante irlandés Dionisio O’Daly \, que junto al abogado 
 palmero Anselmo Pérez de Brito\, hicieron que Santa Cruz de La Palma fues
 e el primer ayuntamiento elegido por voto popular en España en el siglo X
 VIII. (Desde la Casa Principal de Salazar hasta la Plaza de San Francisco)
 \n\n&nbsp\;
ATTACH;FMTTYPE=image/jpeg:https://www.larevistadelapalma.com/wp-content/up
 loads/2025/03/San-Patricio-Tal-cual-Troupe.jpg
CATEGORIES:Fiestas populares,Otras propuestas,Varios
LOCATION:Municipio de Santa Cruz de La Palma\, Santa Cruz de La Palma \, Sa
 nta Cruz de La Palma \, 38700\, España
GEO:28.688757;-17.765102
X-APPLE-STRUCTURED-LOCATION;VALUE=URI;X-ADDRESS=Santa Cruz de La Palma \, S
 anta Cruz de La Palma \, 38700\, España;X-APPLE-RADIUS=100;X-TITLE=Munici
 pio de Santa Cruz de La Palma:geo:28.688757,-17.765102
END:VEVENT
END:VCALENDARBEGIN:VCALENDAR
VERSION:2.0
PRODID:-//wp-events-plugin.com//7.2.3.1//EN
TZID:Europe/London
X-WR-TIMEZONE:Europe/London
BEGIN:VEVENT
UID:3648@larevistadelapalma.com
DTSTART:20250316T093000Z
DTEND:20250316T124500Z
DTSTAMP:20250313T231553Z
URL:https://www.larevistadelapalma.com/events/rutas-y-exposiciones-por-san
 -patricio-santa-cruz-de-la-palma/
SUMMARY:Rutas y exposiciones por San Patricio\, Santa Cruz de La Palma
DESCRIPTION:El domingo la programación comienza con una ruta guiada para f
 amilias\, “Los irlandeses en la isla de La Palma”\, que arranca a las 
 10:30 horas\, en el Atrio del Ayuntamiento de la mano de la compañía Tal
  Cual Troupe.\n\nA las 12:00 horas\,  habrá una exposición de vehículo
 s antíguos. (Desde la Plaza de la Constitución hasta la Casa Principal d
 e Salazar)\n\nY a partir de las 12:30 horas\, un pasacalle homenaje a la f
 igura del comerciante irlandés Dionisio O’Daly \, que junto al abogado 
 palmero Anselmo Pérez de Brito\, hicieron que Santa Cruz de La Palma fues
 e el primer ayuntamiento elegido por voto popular en España en el siglo X
 VIII. (Desde la Casa Principal de Salazar hasta la Plaza de San Francisco)
 \n\n&nbsp\;
ATTACH;FMTTYPE=image/jpeg:https://www.larevistadelapalma.com/wp-content/up
 loads/2025/03/San-Patricio-Tal-cual-Troupe.jpg
CATEGORIES:Fiestas populares,Otras propuestas,Varios
LOCATION:Municipio de Santa Cruz de La Palma\, Santa Cruz de La Palma \, Sa
 nta Cruz de La Palma \, 38700\, España
GEO:28.688757;-17.765102
X-APPLE-STRUCTURED-LOCATION;VALUE=URI;X-ADDRESS=Santa Cruz de La Palma \, S
 anta Cruz de La Palma \, 38700\, España;X-APPLE-RADIUS=100;X-TITLE=Munici
 pio de Santa Cruz de La Palma:geo:28.688757,-17.765102
END:VEVENT
END:VCALENDAR