BEGIN:VCALENDAR
VERSION:2.0
PRODID:-//wp-events-plugin.com//7.2.3.1//EN
TZID:Europe/London
X-WR-TIMEZONE:Europe/London
BEGIN:VEVENT
UID:2777@larevistadelapalma.com
DTSTART:20240210T170000Z
DTEND:20240210T225900Z
DTSTAMP:20240208T231953Z
URL:https://www.larevistadelapalma.com/events/sabado-carnaval-santa-cruz/
SUMMARY:Desfile de embajadores y sábado de Carnaval en Santa Cruz de La Pa
 lma
DESCRIPTION:Después de la concurrida Fiesta de la peluca del viernes\, le 
 toca el turno al desfile de Grandes Personalidades y Embajadores del Mundo
 \, con inicio a las 18.30 horas desde el principio de la calle O’Daly pa
 ra concluir en la plaza de La Alameda. (Participarán en el recorrido: Art
 uro Castillo e Ilusión Gomera)\nUna noche con verbena de carnaval con la 
 orquesta Maquinaria Band a partir de las 23:00 horas en el recinto central
 .\nEl sábado también contará con otras actividades\, unas dedicadas a l
 os pequeños de la casa\, en el recinto central del carnaval desde las 11.
 30 horas de la mañana\, y por la tarde se recupera el Carnaval de tarde\,
  que dará comienzo desde las 18:00 horas y que\, en esta ocasión\, viene
  con el Festival de Dj's "La Palma Blue Experience" y una propuesta de LOS
 40 .\n\n\n\n 	\n\n 	\n\n\n\nPROGRAMA DE CARNAVAL SANTA CRUZ DE LA PALMA 20
 24\n\n\n\nJUEVES 8 FEBRERO:\n17:30 h. Gran Coso del Carnaval Escolar. Des
 de la Plaza de la Alameda\, seguirá por Anselmo Pérez de Brito\, Avenida
  El Puente y Avenida Marítima. Terminarán con una Fiesta Infantil en el 
 Recinto Central del Carnaval con actuación de la Compañía KantyKomba.\n
 VIERNES 9 FEBRERO:\n10:00 h. Loca Carrera Solidaria\, en la Plaza de La A
 lameda\, en favor de la asociación KALEN (Asociación palmera por el tras
 torno del espectro autista)\n11:00 h. Festival de Murgas del Colegio Sant
 o Domingo de Guzmán en la Plaza de España.\n14:00 h. Fiesta de la Peluc
 a en el Recinto Central.\n15:00 h. Concurso de Coctelería en la Plaza de
 le Kiosco Eliseo (Avenida El Puente) organizado por la Asociación de empr
 esarios Casco Histórico.\nSÁBADO 10 FEBRERO:\n11:30 h. Actividades infan
 tiles en el Recinto del Carnaval.\n18:00 h. Fiesta del Carnaval. Recinto
  del Carnaval.\n\n\n 	\n\n 	\n\n 	Festival DJ "La Palma Blue Experience": 
 La Diabla\, La Pantera\, J. Beren y Dj Conjurer. (Un evento perteneciente 
 al Festival La Palma Blue Experience que fue suspendido en diciembre)\n 	"
 Los 40 POP"- Ver más &gt\;\n 	Orquesta Maquinaria Band\, Dj. X.\n\n\n\n\n
 \n18:30 h. Desfile de Embajadores partiendo desde la calle O'Daly hacia la
  Plaza de La Alameda.\nDOMINGO 11 FEBRERO:\n11:00 h. Los Indianitos para i
 ntroducir a los más pequeños en la tradición de la fiesta palmera. En e
 l Recinto Central.\n19:00 h. El Festival "Orillas del Son" celebra la mús
 ica tradicional cubana con invitados especiales.\nLUNES 12 FEBRERO:\nA par
 tir de las 10:00h. Los Indianos&gt\;&gt\;\nMIÉRCOLES 13 FEBRERO:\n17:00 h
 . Hinchables y talleres infantiles en el Recinto Central\n19:00 h. Pasacal
 les del grupo Dixeland\n19:00 h. Show de payasos en el Recinto Central.\nJ
 UEVES 15 FEBRERO:\n17:00 h. Actividades con hinchables y talleres en el Re
 cinto Central.\n19:00 h. La magia del Carnaval\, con la actuación de los 
 magos El Creador de Sueños y Malcom\, en el Recinto Central.\nVIERNES 16 
 FEBRERO:\n17:00 h. Fiesta del antifaz en el Centro de Día (con la Orquest
 a Ritmo)\n19:00 h. Funeral de Doña Sardina desde la Plaza de la Alameda\,
  concluyendo en el Recinto Central del Carnaval. Con las actuaciones del G
 rupo Asere\, Los Lolas\, Orquesta Tropicana y Dj’s\nSÁBADO 17 DE FEBRER
 O:\n12:00h. Carnaval infantil\, con hinchables\, talleres y música. Recin
 to Central del Carnaval.\n18:00 h. Carnaval de Piñata\, con las actuacion
 es de Ni un pelo de tonto\, Parranda La Palma\, Orquesta Libertad\, Orques
 ta ACuatro y Dj’s.\n18:00 h. Concurso de Disfraces “Binter”. Hasta l
 as 20:00 horas\, los participantes tendrán que pasar por el photocall ins
 talado junto al Recinto Central para hacerse una foto que les permitirá l
 levarse los premios establecidos en las bases. Categorías: Individual\, p
 arejas y grupo (hasta 6 miembros)\nDOMINGO 18 DE FEBRERO:\n16:00 h. Piñat
 a Infantil. Recinto Central del Carnaval. Con concurso de disfraces (inscr
 ipciones una hora antes) y animación.\n18:30 h. Carnaval del Mayor con la
  actuación de Arturo Castillo\, Manolo “El Charro” y Dúo Libertad. R
 ecinto Central del Carnaval.\n&nbsp\;\n\n\n\n&nbsp\;
ATTACH;FMTTYPE=image/jpeg:https://www.larevistadelapalma.com/wp-content/up
 loads/2024/02/dia-de-los-embajadores-2011-042.jpg
CATEGORIES:Fiestas populares,Otras propuestas
LOCATION:Municipio de Santa Cruz de La Palma\, Santa Cruz de La Palma \, Sa
 nta Cruz de La Palma \, 38700\, España
GEO:28.688757;-17.765102
X-APPLE-STRUCTURED-LOCATION;VALUE=URI;X-ADDRESS=Santa Cruz de La Palma \, S
 anta Cruz de La Palma \, 38700\, España;X-APPLE-RADIUS=100;X-TITLE=Munici
 pio de Santa Cruz de La Palma:geo:28.688757,-17.765102
END:VEVENT
END:VCALENDARBEGIN:VCALENDAR
VERSION:2.0
PRODID:-//wp-events-plugin.com//7.2.3.1//EN
TZID:Europe/London
X-WR-TIMEZONE:Europe/London
BEGIN:VEVENT
UID:2777@larevistadelapalma.com
DTSTART:20240210T170000Z
DTEND:20240210T225900Z
DTSTAMP:20240208T231953Z
URL:https://www.larevistadelapalma.com/events/sabado-carnaval-santa-cruz/
SUMMARY:Desfile de embajadores y sábado de Carnaval en Santa Cruz de La Pa
 lma
DESCRIPTION:Después de la concurrida Fiesta de la peluca del viernes\, le 
 toca el turno al desfile de Grandes Personalidades y Embajadores del Mundo
 \, con inicio a las 18.30 horas desde el principio de la calle O’Daly pa
 ra concluir en la plaza de La Alameda. (Participarán en el recorrido: Art
 uro Castillo e Ilusión Gomera)\nUna noche con verbena de carnaval con la 
 orquesta Maquinaria Band a partir de las 23:00 horas en el recinto central
 .\nEl sábado también contará con otras actividades\, unas dedicadas a l
 os pequeños de la casa\, en el recinto central del carnaval desde las 11.
 30 horas de la mañana\, y por la tarde se recupera el Carnaval de tarde\,
  que dará comienzo desde las 18:00 horas y que\, en esta ocasión\, viene
  con el Festival de Dj's "La Palma Blue Experience" y una propuesta de LOS
 40 .\n\n\n\n 	\n\n 	\n\n\n\nPROGRAMA DE CARNAVAL SANTA CRUZ DE LA PALMA 20
 24\n\n\n\nJUEVES 8 FEBRERO:\n17:30 h. Gran Coso del Carnaval Escolar. Des
 de la Plaza de la Alameda\, seguirá por Anselmo Pérez de Brito\, Avenida
  El Puente y Avenida Marítima. Terminarán con una Fiesta Infantil en el 
 Recinto Central del Carnaval con actuación de la Compañía KantyKomba.\n
 VIERNES 9 FEBRERO:\n10:00 h. Loca Carrera Solidaria\, en la Plaza de La A
 lameda\, en favor de la asociación KALEN (Asociación palmera por el tras
 torno del espectro autista)\n11:00 h. Festival de Murgas del Colegio Sant
 o Domingo de Guzmán en la Plaza de España.\n14:00 h. Fiesta de la Peluc
 a en el Recinto Central.\n15:00 h. Concurso de Coctelería en la Plaza de
 le Kiosco Eliseo (Avenida El Puente) organizado por la Asociación de empr
 esarios Casco Histórico.\nSÁBADO 10 FEBRERO:\n11:30 h. Actividades infan
 tiles en el Recinto del Carnaval.\n18:00 h. Fiesta del Carnaval. Recinto
  del Carnaval.\n\n\n 	\n\n 	\n\n 	Festival DJ "La Palma Blue Experience": 
 La Diabla\, La Pantera\, J. Beren y Dj Conjurer. (Un evento perteneciente 
 al Festival La Palma Blue Experience que fue suspendido en diciembre)\n 	"
 Los 40 POP"- Ver más &gt\;\n 	Orquesta Maquinaria Band\, Dj. X.\n\n\n\n\n
 \n18:30 h. Desfile de Embajadores partiendo desde la calle O'Daly hacia la
  Plaza de La Alameda.\nDOMINGO 11 FEBRERO:\n11:00 h. Los Indianitos para i
 ntroducir a los más pequeños en la tradición de la fiesta palmera. En e
 l Recinto Central.\n19:00 h. El Festival "Orillas del Son" celebra la mús
 ica tradicional cubana con invitados especiales.\nLUNES 12 FEBRERO:\nA par
 tir de las 10:00h. Los Indianos&gt\;&gt\;\nMIÉRCOLES 13 FEBRERO:\n17:00 h
 . Hinchables y talleres infantiles en el Recinto Central\n19:00 h. Pasacal
 les del grupo Dixeland\n19:00 h. Show de payasos en el Recinto Central.\nJ
 UEVES 15 FEBRERO:\n17:00 h. Actividades con hinchables y talleres en el Re
 cinto Central.\n19:00 h. La magia del Carnaval\, con la actuación de los 
 magos El Creador de Sueños y Malcom\, en el Recinto Central.\nVIERNES 16 
 FEBRERO:\n17:00 h. Fiesta del antifaz en el Centro de Día (con la Orquest
 a Ritmo)\n19:00 h. Funeral de Doña Sardina desde la Plaza de la Alameda\,
  concluyendo en el Recinto Central del Carnaval. Con las actuaciones del G
 rupo Asere\, Los Lolas\, Orquesta Tropicana y Dj’s\nSÁBADO 17 DE FEBRER
 O:\n12:00h. Carnaval infantil\, con hinchables\, talleres y música. Recin
 to Central del Carnaval.\n18:00 h. Carnaval de Piñata\, con las actuacion
 es de Ni un pelo de tonto\, Parranda La Palma\, Orquesta Libertad\, Orques
 ta ACuatro y Dj’s.\n18:00 h. Concurso de Disfraces “Binter”. Hasta l
 as 20:00 horas\, los participantes tendrán que pasar por el photocall ins
 talado junto al Recinto Central para hacerse una foto que les permitirá l
 levarse los premios establecidos en las bases. Categorías: Individual\, p
 arejas y grupo (hasta 6 miembros)\nDOMINGO 18 DE FEBRERO:\n16:00 h. Piñat
 a Infantil. Recinto Central del Carnaval. Con concurso de disfraces (inscr
 ipciones una hora antes) y animación.\n18:30 h. Carnaval del Mayor con la
  actuación de Arturo Castillo\, Manolo “El Charro” y Dúo Libertad. R
 ecinto Central del Carnaval.\n&nbsp\;\n\n\n\n&nbsp\;
ATTACH;FMTTYPE=image/jpeg:https://www.larevistadelapalma.com/wp-content/up
 loads/2024/02/dia-de-los-embajadores-2011-042.jpg
CATEGORIES:Fiestas populares,Otras propuestas
LOCATION:Municipio de Santa Cruz de La Palma\, Santa Cruz de La Palma \, Sa
 nta Cruz de La Palma \, 38700\, España
GEO:28.688757;-17.765102
X-APPLE-STRUCTURED-LOCATION;VALUE=URI;X-ADDRESS=Santa Cruz de La Palma \, S
 anta Cruz de La Palma \, 38700\, España;X-APPLE-RADIUS=100;X-TITLE=Munici
 pio de Santa Cruz de La Palma:geo:28.688757,-17.765102
END:VEVENT
END:VCALENDAR