BEGIN:VCALENDAR
VERSION:2.0
PRODID:-//wp-events-plugin.com//7.2.3.1//EN
TZID:Europe/London
X-WR-TIMEZONE:Europe/London
BEGIN:VEVENT
UID:3756@larevistadelapalma.com
DTSTART;VALUE=DATE:20251104
DTEND;VALUE=DATE:20251106
DTSTAMP:20250524T212939Z
URL:https://www.larevistadelapalma.com/events/salon-profesional-vinos-la-p
 alma/
SUMMARY:Salón Profesional Vinos La Palma
DESCRIPTION:El Cabildo de La Palma presenta el Salón Profesional Vinos La 
 Palma\, un encuentro organizado en colaboración con el Instituto Canario 
 de Calidad Agroalimentaria (ICCA) que tendrá lugar en la Casa Salazar y e
 n el Espacio Cultural Cajacanarias de Santa Cruz de La Palma el próximo 4
  y 5 de noviembre\, y que contará con la participación de distintos prof
 esionales y entidades del sector vitivinícola. Además\, el Consejo Regul
 ador Denominación de Origen Protegida de Vinos de La Palma estará presen
 te.\n\nEsta colaboración se enmarca en las acciones de promoción y apoyo
  a la comercialización de las producciones de calidad diferenciada del ar
 chipiélago que desarrolla el Ejecutivo canario a lo largo del año y dest
 acó la importancia de este tipo de foros de carácter profesional.\n\nDur
 ante los dos días del evento\, se ofrecerán charlas divulgadoras en el E
 spacio Cultural CajaCanarias\, entre las 17:00 y las 20:00 horas\, dirigid
 as al público general interesado en conocer más sobre el sector vitivin
 ícola palmero. Los asistentes podrán conocer más sobre el sector vitivi
 nícola\, como el estudio de variedades de vid\, la comercialización del 
 vino\, el posicionamiento de marcas o el movimiento asociativo de las deno
 minaciones de origen.\n\nEl 4 de noviembre\, tendrá lugar el Salón del V
 ino en la Casa Salazar\, un evento exclusivo para profesionales del sector
 \, en el que se podrá descubrir en profundidad los vinos de La Palma\, es
 tablecer contactos y sinergias entre productores\, distribuidores\, restau
 radores y otros agentes del ámbito enológico. La participación en este 
 evento requiere inscripción previa\, en canalagrariolapalma.com\n\nPara m
 ás información o cualquier consulta relacionada con el evento\, las pers
 onas interesadas pueden escribir al correo electrónico: servicio.agricul
 tura@cablapalma.es
ATTACH;FMTTYPE=image/jpeg:https://www.larevistadelapalma.com/wp-content/up
 loads/2025/05/CARTEL-SALON-VINO-baja-resolucion.jpg
CATEGORIES:Formación,Otras propuestas
LOCATION:Espacio Cultural CajaCanarias La Palma\, Plaza de España\, 3\, Sa
 nta Cruz De La Palma\, Santa Cruz de Tenerife\, 38700\, España
GEO:28.683481;-17.764831
X-APPLE-STRUCTURED-LOCATION;VALUE=URI;X-ADDRESS=Plaza de España\, 3\, Sant
 a Cruz De La Palma\, Santa Cruz de Tenerife\, 38700\, España;X-APPLE-RADI
 US=100;X-TITLE=Espacio Cultural CajaCanarias La Palma:geo:28.683481,-17.76
 4831
END:VEVENT
END:VCALENDARBEGIN:VCALENDAR
VERSION:2.0
PRODID:-//wp-events-plugin.com//7.2.3.1//EN
TZID:Europe/London
X-WR-TIMEZONE:Europe/London
BEGIN:VEVENT
UID:3756@larevistadelapalma.com
DTSTART;VALUE=DATE:20251104
DTEND;VALUE=DATE:20251106
DTSTAMP:20250524T212939Z
URL:https://www.larevistadelapalma.com/events/salon-profesional-vinos-la-p
 alma/
SUMMARY:Salón Profesional Vinos La Palma
DESCRIPTION:El Cabildo de La Palma presenta el Salón Profesional Vinos La 
 Palma\, un encuentro organizado en colaboración con el Instituto Canario 
 de Calidad Agroalimentaria (ICCA) que tendrá lugar en la Casa Salazar y e
 n el Espacio Cultural Cajacanarias de Santa Cruz de La Palma el próximo 4
  y 5 de noviembre\, y que contará con la participación de distintos prof
 esionales y entidades del sector vitivinícola. Además\, el Consejo Regul
 ador Denominación de Origen Protegida de Vinos de La Palma estará presen
 te.\n\nEsta colaboración se enmarca en las acciones de promoción y apoyo
  a la comercialización de las producciones de calidad diferenciada del ar
 chipiélago que desarrolla el Ejecutivo canario a lo largo del año y dest
 acó la importancia de este tipo de foros de carácter profesional.\n\nDur
 ante los dos días del evento\, se ofrecerán charlas divulgadoras en el E
 spacio Cultural CajaCanarias\, entre las 17:00 y las 20:00 horas\, dirigid
 as al público general interesado en conocer más sobre el sector vitivin
 ícola palmero. Los asistentes podrán conocer más sobre el sector vitivi
 nícola\, como el estudio de variedades de vid\, la comercialización del 
 vino\, el posicionamiento de marcas o el movimiento asociativo de las deno
 minaciones de origen.\n\nEl 4 de noviembre\, tendrá lugar el Salón del V
 ino en la Casa Salazar\, un evento exclusivo para profesionales del sector
 \, en el que se podrá descubrir en profundidad los vinos de La Palma\, es
 tablecer contactos y sinergias entre productores\, distribuidores\, restau
 radores y otros agentes del ámbito enológico. La participación en este 
 evento requiere inscripción previa\, en canalagrariolapalma.com\n\nPara m
 ás información o cualquier consulta relacionada con el evento\, las pers
 onas interesadas pueden escribir al correo electrónico: servicio.agricul
 tura@cablapalma.es
ATTACH;FMTTYPE=image/jpeg:https://www.larevistadelapalma.com/wp-content/up
 loads/2025/05/CARTEL-SALON-VINO-baja-resolucion.jpg
CATEGORIES:Formación,Otras propuestas
LOCATION:Espacio Cultural CajaCanarias La Palma\, Plaza de España\, 3\, Sa
 nta Cruz De La Palma\, Santa Cruz de Tenerife\, 38700\, España
GEO:28.683481;-17.764831
X-APPLE-STRUCTURED-LOCATION;VALUE=URI;X-ADDRESS=Plaza de España\, 3\, Sant
 a Cruz De La Palma\, Santa Cruz de Tenerife\, 38700\, España;X-APPLE-RADI
 US=100;X-TITLE=Espacio Cultural CajaCanarias La Palma:geo:28.683481,-17.76
 4831
END:VEVENT
END:VCALENDAR