BEGIN:VCALENDAR
VERSION:2.0
PRODID:-//wp-events-plugin.com//7.2.3.1//EN
TZID:Europe/London
X-WR-TIMEZONE:Europe/London
BEGIN:VEVENT
UID:3472@larevistadelapalma.com
DTSTART:20241207T193000Z
DTEND:20241207T225900Z
DTSTAMP:20241205T165050Z
URL:https://www.larevistadelapalma.com/events/salsa-y-bachata-con-nando-ve
 ga-en-el-bar-central-de-el-paso/
SUMMARY:Salsa y bachata con Nando Vega en el Bar Central de El Paso
DESCRIPTION:Música con Nando Vega\, en el Bar Central\, este fin de semana
 \, el día 7\, a partir de las 20:30 horas. 
ATTACH;FMTTYPE=image/jpeg:https://www.larevistadelapalma.com/wp-content/up
 loads/2024/12/Nando-Vega-Bar-Central.jpg
CATEGORIES:Conciertos,Música
LOCATION:Municipio de El Paso\, El Paso\, La Palma \, El Paso\, 38750\, Esp
 aña
GEO:28.652378;-17.880396
X-APPLE-STRUCTURED-LOCATION;VALUE=URI;X-ADDRESS=El Paso\, La Palma \, El Pa
 so\, 38750\, España;X-APPLE-RADIUS=100;X-TITLE=Municipio de El Paso:geo:2
 8.652378,-17.880396
END:VEVENT
END:VCALENDARBEGIN:VCALENDAR
VERSION:2.0
PRODID:-//wp-events-plugin.com//7.2.3.1//EN
TZID:Europe/London
X-WR-TIMEZONE:Europe/London
BEGIN:VEVENT
UID:3472@larevistadelapalma.com
DTSTART:20241207T193000Z
DTEND:20241207T225900Z
DTSTAMP:20241205T165050Z
URL:https://www.larevistadelapalma.com/events/salsa-y-bachata-con-nando-ve
 ga-en-el-bar-central-de-el-paso/
SUMMARY:Salsa y bachata con Nando Vega en el Bar Central de El Paso
DESCRIPTION:Música con Nando Vega\, en el Bar Central\, este fin de semana
 \, el día 7\, a partir de las 20:30 horas. 
ATTACH;FMTTYPE=image/jpeg:https://www.larevistadelapalma.com/wp-content/up
 loads/2024/12/Nando-Vega-Bar-Central.jpg
CATEGORIES:Conciertos,Música
LOCATION:Municipio de El Paso\, El Paso\, La Palma \, El Paso\, 38750\, Esp
 aña
GEO:28.652378;-17.880396
X-APPLE-STRUCTURED-LOCATION;VALUE=URI;X-ADDRESS=El Paso\, La Palma \, El Pa
 so\, 38750\, España;X-APPLE-RADIUS=100;X-TITLE=Municipio de El Paso:geo:2
 8.652378,-17.880396
END:VEVENT
END:VCALENDAR