BEGIN:VCALENDAR
VERSION:2.0
PRODID:-//wp-events-plugin.com//7.2.3.1//EN
TZID:Europe/London
X-WR-TIMEZONE:Europe/London
BEGIN:VEVENT
UID:4017@larevistadelapalma.com
DTSTART:20251013T160000Z
DTEND:20251016T190000Z
DTSTAMP:20251014T114436Z
URL:https://www.larevistadelapalma.com/events/salud-mental-la-palma-organi
 za-una-exposicion-de-pinturas-en-tela/
SUMMARY:"Salud Mental La Palma" organiza una exposición de pinturas en tel
 a
DESCRIPTION:\nSalud Mental La Palma\, con el apoyo del Cabildo Insular de L
 a Palma y el Ayuntamiento de Los Llanos de Aridane\, puso en marcha en feb
 rero un taller de pintura en tela lleno de creatividad y bienestar.\nComo 
 colofón a las jornadas "MUJER Y SUFRIMIENTO FÍSICO"\, organizan esta  E
 XPOSICIÓN con las obras creadas en el taller\, que estará abierta al pú
 blico hasta el 16 de octubre en la Sala Real 21.\n\n
ATTACH;FMTTYPE=image/jpeg:https://www.larevistadelapalma.com/wp-content/up
 loads/2025/10/Expo-Pintura-en-tela-AFEM.jpg
CATEGORIES:Exposiciones
LOCATION:Espacio Cultural Real 21\, Los Llanos de Aridane\, C. Real\, 21\,\
 , Los Llanos de Aridane\, 38760\, España
GEO:28.658619;-17.910989
X-APPLE-STRUCTURED-LOCATION;VALUE=URI;X-ADDRESS=C. Real\, 21\,\, Los Llanos
  de Aridane\, 38760\, España;X-APPLE-RADIUS=100;X-TITLE=Espacio Cultural 
 Real 21\, Los Llanos de Aridane:geo:28.658619,-17.910989
END:VEVENT
END:VCALENDARBEGIN:VCALENDAR
VERSION:2.0
PRODID:-//wp-events-plugin.com//7.2.3.1//EN
TZID:Europe/London
X-WR-TIMEZONE:Europe/London
BEGIN:VEVENT
UID:4017@larevistadelapalma.com
DTSTART:20251013T160000Z
DTEND:20251016T190000Z
DTSTAMP:20251014T114436Z
URL:https://www.larevistadelapalma.com/events/salud-mental-la-palma-organi
 za-una-exposicion-de-pinturas-en-tela/
SUMMARY:"Salud Mental La Palma" organiza una exposición de pinturas en tel
 a
DESCRIPTION:\nSalud Mental La Palma\, con el apoyo del Cabildo Insular de L
 a Palma y el Ayuntamiento de Los Llanos de Aridane\, puso en marcha en feb
 rero un taller de pintura en tela lleno de creatividad y bienestar.\nComo 
 colofón a las jornadas "MUJER Y SUFRIMIENTO FÍSICO"\, organizan esta  E
 XPOSICIÓN con las obras creadas en el taller\, que estará abierta al pú
 blico hasta el 16 de octubre en la Sala Real 21.\n\n
ATTACH;FMTTYPE=image/jpeg:https://www.larevistadelapalma.com/wp-content/up
 loads/2025/10/Expo-Pintura-en-tela-AFEM.jpg
CATEGORIES:Exposiciones
LOCATION:Espacio Cultural Real 21\, Los Llanos de Aridane\, C. Real\, 21\,\
 , Los Llanos de Aridane\, 38760\, España
GEO:28.658619;-17.910989
X-APPLE-STRUCTURED-LOCATION;VALUE=URI;X-ADDRESS=C. Real\, 21\,\, Los Llanos
  de Aridane\, 38760\, España;X-APPLE-RADIUS=100;X-TITLE=Espacio Cultural 
 Real 21\, Los Llanos de Aridane:geo:28.658619,-17.910989
END:VEVENT
END:VCALENDAR