BEGIN:VCALENDAR
VERSION:2.0
PRODID:-//wp-events-plugin.com//7.2.3.1//EN
TZID:Europe/London
X-WR-TIMEZONE:Europe/London
BEGIN:VEVENT
UID:3344@larevistadelapalma.com
DTSTART:20241026T160000Z
DTEND:20241026T174500Z
DTSTAMP:20241025T131915Z
URL:https://www.larevistadelapalma.com/events/san-andres-y-sauces-acoge-la
 -4a-edicion-del-festival-familiar-de-halloween/
SUMMARY:San Andrés y Sauces acoge la 4a edición del Festival Familiar de 
 Halloween
DESCRIPTION:El 26 de octubre de 2024\, el municipio de San Andrés y Sauces
  celebrará la cuarta edición del esperado Festival Familiar de Halloween
 \, bajo el lema "El Aquelarre de las Brujas".\n\nLa cita tendrá lugar a p
 artir de las 17:00 horas en el CEIP Verada de Las Lomadas\, y la entrada s
 erá libre y gratuita para todas las familias que deseen disfrutar de una 
 tarde de diversión\, terror y muchas sorpresas.\n\nEste evento\, que se h
 a convertido en una cita anual en el barrio de Las Lomadas\, promete una e
 xperiencia inolvidable para niños y adultos con una programación variada
  que incluye Casa del\nTerror\, juegos de feria con premios\, elaboración
  de pociones (cócteles)\, concurso de disfraces\, talleres y pintacaras\,
  merienda terrorífica y muchas sorpresas y premios que garantizarán una\
 njornada inolvidable.\n\nEl festival\, organizado por el Colectivo de Escu
 elas Rurales Barlovento-Sauces junto conla Escuela de cine  Secuencia 27 
 y el Ayuntamiento de San Andrés y Sauces\, está pensado para fomentar la
  convivencia y la diversión en familia en un ambiente único y familiar.\
 n\nAdemás\, aunque la entrada es gratuita\, los asistentes que lo deseen 
 podrán realizar un donativo voluntario a la asociación Secuencia 27\, qu
 e estará disponible en la entrada del evento.\n\nDesde la organización i
 nvitan a la ciudadanía de la isla a disfrutar de una alternativa de ocio 
 distinta dirigida a las familias llena de actividades para todas las edade
 s.
ATTACH;FMTTYPE=image/jpeg:https://www.larevistadelapalma.com/wp-content/up
 loads/2024/10/Cartel-Halloween-2024.png
CATEGORIES:Otras propuestas,Varios
LOCATION:Municipio de San Andrés y Sauces\, San Andrés y Sauces\, San And
 rés y Sauces\, 38720\, España
GEO:28.801722;-17.779166
X-APPLE-STRUCTURED-LOCATION;VALUE=URI;X-ADDRESS=San Andrés y Sauces\, San 
 Andrés y Sauces\, 38720\, España;X-APPLE-RADIUS=100;X-TITLE=Municipio de
  San Andrés y Sauces:geo:28.801722,-17.779166
END:VEVENT
END:VCALENDARBEGIN:VCALENDAR
VERSION:2.0
PRODID:-//wp-events-plugin.com//7.2.3.1//EN
TZID:Europe/London
X-WR-TIMEZONE:Europe/London
BEGIN:VEVENT
UID:3344@larevistadelapalma.com
DTSTART:20241026T160000Z
DTEND:20241026T174500Z
DTSTAMP:20241025T131915Z
URL:https://www.larevistadelapalma.com/events/san-andres-y-sauces-acoge-la
 -4a-edicion-del-festival-familiar-de-halloween/
SUMMARY:San Andrés y Sauces acoge la 4a edición del Festival Familiar de 
 Halloween
DESCRIPTION:El 26 de octubre de 2024\, el municipio de San Andrés y Sauces
  celebrará la cuarta edición del esperado Festival Familiar de Halloween
 \, bajo el lema "El Aquelarre de las Brujas".\n\nLa cita tendrá lugar a p
 artir de las 17:00 horas en el CEIP Verada de Las Lomadas\, y la entrada s
 erá libre y gratuita para todas las familias que deseen disfrutar de una 
 tarde de diversión\, terror y muchas sorpresas.\n\nEste evento\, que se h
 a convertido en una cita anual en el barrio de Las Lomadas\, promete una e
 xperiencia inolvidable para niños y adultos con una programación variada
  que incluye Casa del\nTerror\, juegos de feria con premios\, elaboración
  de pociones (cócteles)\, concurso de disfraces\, talleres y pintacaras\,
  merienda terrorífica y muchas sorpresas y premios que garantizarán una\
 njornada inolvidable.\n\nEl festival\, organizado por el Colectivo de Escu
 elas Rurales Barlovento-Sauces junto conla Escuela de cine  Secuencia 27 
 y el Ayuntamiento de San Andrés y Sauces\, está pensado para fomentar la
  convivencia y la diversión en familia en un ambiente único y familiar.\
 n\nAdemás\, aunque la entrada es gratuita\, los asistentes que lo deseen 
 podrán realizar un donativo voluntario a la asociación Secuencia 27\, qu
 e estará disponible en la entrada del evento.\n\nDesde la organización i
 nvitan a la ciudadanía de la isla a disfrutar de una alternativa de ocio 
 distinta dirigida a las familias llena de actividades para todas las edade
 s.
ATTACH;FMTTYPE=image/jpeg:https://www.larevistadelapalma.com/wp-content/up
 loads/2024/10/Cartel-Halloween-2024.png
CATEGORIES:Otras propuestas,Varios
LOCATION:Municipio de San Andrés y Sauces\, San Andrés y Sauces\, San And
 rés y Sauces\, 38720\, España
GEO:28.801722;-17.779166
X-APPLE-STRUCTURED-LOCATION;VALUE=URI;X-ADDRESS=San Andrés y Sauces\, San 
 Andrés y Sauces\, 38720\, España;X-APPLE-RADIUS=100;X-TITLE=Municipio de
  San Andrés y Sauces:geo:28.801722,-17.779166
END:VEVENT
END:VCALENDAR