BEGIN:VCALENDAR
VERSION:2.0
PRODID:-//wp-events-plugin.com//7.2.3.1//EN
TZID:Europe/London
X-WR-TIMEZONE:Europe/London
BEGIN:VEVENT
UID:4107@larevistadelapalma.com
DTSTART:20251218T180000Z
DTEND:20251218T200000Z
DTSTAMP:20251210T233834Z
URL:https://www.larevistadelapalma.com/events/santa-cruz-all-stars/
SUMMARY:Santa Cruz All Stars
DESCRIPTION:\nLa Concejalía de Fiestas te invita al espectáculo de Talent
  Show Santa Cruz All Stars.\n\n\nPremios en metálico y actuaciones especi
 ales de Eddy Castillo y Anisel Alonso (Got Talent España)\n\n Inscripcio
 nes por WhatsApp: 656 698 279\n\n
ATTACH;FMTTYPE=image/jpeg:https://www.larevistadelapalma.com/wp-content/up
 loads/2025/12/Sasnta-Cruz-ALl-Stars.jpg
CATEGORIES:Otras propuestas,Varios
LOCATION:Plaza de Santo Domingo en Santa Cruz de La Palma\, Plaza Santo Dom
 ingo\, Santa Cruz de La Palma\, 38700\, España
GEO:28.682691;-17.766334
X-APPLE-STRUCTURED-LOCATION;VALUE=URI;X-ADDRESS=Plaza Santo Domingo\, Santa
  Cruz de La Palma\, 38700\, España;X-APPLE-RADIUS=100;X-TITLE=Plaza de Sa
 nto Domingo en Santa Cruz de La Palma:geo:28.682691,-17.766334
END:VEVENT
END:VCALENDARBEGIN:VCALENDAR
VERSION:2.0
PRODID:-//wp-events-plugin.com//7.2.3.1//EN
TZID:Europe/London
X-WR-TIMEZONE:Europe/London
BEGIN:VEVENT
UID:4107@larevistadelapalma.com
DTSTART:20251218T180000Z
DTEND:20251218T200000Z
DTSTAMP:20251210T233834Z
URL:https://www.larevistadelapalma.com/events/santa-cruz-all-stars/
SUMMARY:Santa Cruz All Stars
DESCRIPTION:\nLa Concejalía de Fiestas te invita al espectáculo de Talent
  Show Santa Cruz All Stars.\n\n\nPremios en metálico y actuaciones especi
 ales de Eddy Castillo y Anisel Alonso (Got Talent España)\n\n Inscripcio
 nes por WhatsApp: 656 698 279\n\n
ATTACH;FMTTYPE=image/jpeg:https://www.larevistadelapalma.com/wp-content/up
 loads/2025/12/Sasnta-Cruz-ALl-Stars.jpg
CATEGORIES:Otras propuestas,Varios
LOCATION:Plaza de Santo Domingo en Santa Cruz de La Palma\, Plaza Santo Dom
 ingo\, Santa Cruz de La Palma\, 38700\, España
GEO:28.682691;-17.766334
X-APPLE-STRUCTURED-LOCATION;VALUE=URI;X-ADDRESS=Plaza Santo Domingo\, Santa
  Cruz de La Palma\, 38700\, España;X-APPLE-RADIUS=100;X-TITLE=Plaza de Sa
 nto Domingo en Santa Cruz de La Palma:geo:28.682691,-17.766334
END:VEVENT
END:VCALENDAR