BEGIN:VCALENDAR
VERSION:2.0
PRODID:-//wp-events-plugin.com//7.2.3.1//EN
TZID:Europe/London
X-WR-TIMEZONE:Europe/London
BEGIN:VEVENT
UID:3411@larevistadelapalma.com
DTSTART:20241207T113000Z
DTEND:20241207T180000Z
DTSTAMP:20241129T011204Z
URL:https://www.larevistadelapalma.com/events/santa-cruz-de-la-palma-celeb
 ra-la-i-feria-enonavidena-de-vinos-de-la-palma/
SUMMARY:Santa Cruz de La Palma celebra la I Feria enonavideña de Vinos de 
 La Palma
DESCRIPTION:El 7 de diciembre\, Santa Cruz de La Palma celebrará la I FERI
 A ENONAVIDEÑA DE VINOS DE LA PALMA\, un evento organizado por el Consejo 
 Regulador de la Denominación de Origen de Vinos La Palma\, conjuntamente 
 con el Ayuntamiento capitalino. La feria se realizará en la Avenida Marí
 tima\, en el emblemático entorno de los Balcones\, y estará abierta de 1
 2:30 a 19:00 horas\, brindando una oportunidad para disfrutar de los vinos
  de la isla\, así como de gastronomía y música en un ambiente festivo j
 unto al mar.\n\nLa FERIA ENONAVIDEÑA DE VINOS DE LA PALMA\, formará part
 e de las actividades navideñas de Santa Cruz de La Palma\, y promete ser 
 un espacio de encuentro y disfrute previo al concierto de Alejandro Ferná
 ndez\, programado para esa noche en la ciudad.\n\nEn esta feria se present
 arán bodegas de diversas zonas de la isla que pertenecen a la Denominaci
 ón de Origen Protegida (DOP) Vinos La Palma\, ofreciendo una muestra repr
 esentativa de la calidad y el carácter de los vinos locales. Además\, lo
 s visitantes podrán disfrutar de una selección de platos y productos tí
 picos y ambientación navideña\, haciendo de este evento una experiencia 
 completa para los amantes del vino\, la música y la cultura de La Palma.\
 n\nLa feria reunirá a siete bodegas de distintos pueblos de la isla\, qu
 e presentarán una selección de sus vinos más emblemáticos: Tamanca (
 El Paso)\; Viña Etna (Breña Baja)\; Teneguía y Llanos Negros (Fue
 ncaliente)\; Vitega y Piedra Jurada (Garafía)\; Viñarda (Puntagorda)
  y Tendal (Tijarafe)\n\nAdemás\, los alumnos del CIFP Virgen de Las Ni
 eves aportarán creatividad con la elaboración de cócteles a base de v
 ino de La Palma\, un valor añadido que combina tradición e innovación.\
 n\nSeis establecimientos de restauración entre los que están: Panadería
  Zulay\, Repostería Marroquí Sami Ziko\, Mil Dulce Pastel\, Mojos Sicil
 ia\, elaboraciones de alumnos del CIFP Virgen de Las Nieves...
ATTACH;FMTTYPE=image/jpeg:https://www.larevistadelapalma.com/wp-content/up
 loads/2024/11/feria-vinos-de-la-palma.jpg
CATEGORIES:Gastro,Otras propuestas
LOCATION:Municipio de Santa Cruz de La Palma\, Santa Cruz de La Palma \, Sa
 nta Cruz de La Palma \, 38700\, España
GEO:28.688757;-17.765102
X-APPLE-STRUCTURED-LOCATION;VALUE=URI;X-ADDRESS=Santa Cruz de La Palma \, S
 anta Cruz de La Palma \, 38700\, España;X-APPLE-RADIUS=100;X-TITLE=Munici
 pio de Santa Cruz de La Palma:geo:28.688757,-17.765102
END:VEVENT
END:VCALENDARBEGIN:VCALENDAR
VERSION:2.0
PRODID:-//wp-events-plugin.com//7.2.3.1//EN
TZID:Europe/London
X-WR-TIMEZONE:Europe/London
BEGIN:VEVENT
UID:3411@larevistadelapalma.com
DTSTART:20241207T113000Z
DTEND:20241207T180000Z
DTSTAMP:20241129T011204Z
URL:https://www.larevistadelapalma.com/events/santa-cruz-de-la-palma-celeb
 ra-la-i-feria-enonavidena-de-vinos-de-la-palma/
SUMMARY:Santa Cruz de La Palma celebra la I Feria enonavideña de Vinos de 
 La Palma
DESCRIPTION:El 7 de diciembre\, Santa Cruz de La Palma celebrará la I FERI
 A ENONAVIDEÑA DE VINOS DE LA PALMA\, un evento organizado por el Consejo 
 Regulador de la Denominación de Origen de Vinos La Palma\, conjuntamente 
 con el Ayuntamiento capitalino. La feria se realizará en la Avenida Marí
 tima\, en el emblemático entorno de los Balcones\, y estará abierta de 1
 2:30 a 19:00 horas\, brindando una oportunidad para disfrutar de los vinos
  de la isla\, así como de gastronomía y música en un ambiente festivo j
 unto al mar.\n\nLa FERIA ENONAVIDEÑA DE VINOS DE LA PALMA\, formará part
 e de las actividades navideñas de Santa Cruz de La Palma\, y promete ser 
 un espacio de encuentro y disfrute previo al concierto de Alejandro Ferná
 ndez\, programado para esa noche en la ciudad.\n\nEn esta feria se present
 arán bodegas de diversas zonas de la isla que pertenecen a la Denominaci
 ón de Origen Protegida (DOP) Vinos La Palma\, ofreciendo una muestra repr
 esentativa de la calidad y el carácter de los vinos locales. Además\, lo
 s visitantes podrán disfrutar de una selección de platos y productos tí
 picos y ambientación navideña\, haciendo de este evento una experiencia 
 completa para los amantes del vino\, la música y la cultura de La Palma.\
 n\nLa feria reunirá a siete bodegas de distintos pueblos de la isla\, qu
 e presentarán una selección de sus vinos más emblemáticos: Tamanca (
 El Paso)\; Viña Etna (Breña Baja)\; Teneguía y Llanos Negros (Fue
 ncaliente)\; Vitega y Piedra Jurada (Garafía)\; Viñarda (Puntagorda)
  y Tendal (Tijarafe)\n\nAdemás\, los alumnos del CIFP Virgen de Las Ni
 eves aportarán creatividad con la elaboración de cócteles a base de v
 ino de La Palma\, un valor añadido que combina tradición e innovación.\
 n\nSeis establecimientos de restauración entre los que están: Panadería
  Zulay\, Repostería Marroquí Sami Ziko\, Mil Dulce Pastel\, Mojos Sicil
 ia\, elaboraciones de alumnos del CIFP Virgen de Las Nieves...
ATTACH;FMTTYPE=image/jpeg:https://www.larevistadelapalma.com/wp-content/up
 loads/2024/11/feria-vinos-de-la-palma.jpg
CATEGORIES:Gastro,Otras propuestas
LOCATION:Municipio de Santa Cruz de La Palma\, Santa Cruz de La Palma \, Sa
 nta Cruz de La Palma \, 38700\, España
GEO:28.688757;-17.765102
X-APPLE-STRUCTURED-LOCATION;VALUE=URI;X-ADDRESS=Santa Cruz de La Palma \, S
 anta Cruz de La Palma \, 38700\, España;X-APPLE-RADIUS=100;X-TITLE=Munici
 pio de Santa Cruz de La Palma:geo:28.688757,-17.765102
END:VEVENT
END:VCALENDAR